| Back to Multiple platform build/check report for BioC 3.20: simplified long |
|
This page was generated on 2025-04-02 19:28 -0400 (Wed, 02 Apr 2025).
| Hostname | OS | Arch (*) | R version | Installed pkgs |
|---|---|---|---|---|
| nebbiolo2 | Linux (Ubuntu 24.04.1 LTS) | x86_64 | 4.4.3 (2025-02-28) -- "Trophy Case" | 4764 |
| palomino8 | Windows Server 2022 Datacenter | x64 | 4.4.3 (2025-02-28 ucrt) -- "Trophy Case" | 4495 |
| merida1 | macOS 12.7.5 Monterey | x86_64 | 4.4.3 (2025-02-28) -- "Trophy Case" | 4522 |
| kjohnson1 | macOS 13.6.6 Ventura | arm64 | 4.4.3 (2025-02-28) -- "Trophy Case" | 4449 |
| taishan | Linux (openEuler 24.03 LTS) | aarch64 | 4.4.3 (2025-02-28) -- "Trophy Case" | 4426 |
| Click on any hostname to see more info about the system (e.g. compilers) (*) as reported by 'uname -p', except on Windows and Mac OS X | ||||
| Package 856/2289 | Hostname | OS / Arch | INSTALL | BUILD | CHECK | BUILD BIN | ||||||||
| ggsc 1.4.0 (landing page) Guangchuang Yu
| nebbiolo2 | Linux (Ubuntu 24.04.1 LTS) / x86_64 | OK | OK | OK | |||||||||
| palomino8 | Windows Server 2022 Datacenter / x64 | OK | OK | OK | OK | |||||||||
| merida1 | macOS 12.7.5 Monterey / x86_64 | OK | OK | OK | OK | |||||||||
| kjohnson1 | macOS 13.6.6 Ventura / arm64 | OK | OK | OK | OK | |||||||||
| taishan | Linux (openEuler 24.03 LTS) / aarch64 | OK | OK | ERROR | ||||||||||
|
To the developers/maintainers of the ggsc package: - Allow up to 24 hours (and sometimes 48 hours) for your latest push to git@git.bioconductor.org:packages/ggsc.git to reflect on this report. See Troubleshooting Build Report for more information. - Use the following Renviron settings to reproduce errors and warnings. - If 'R CMD check' started to fail recently on the Linux builder(s) over a missing dependency, add the missing dependency to 'Suggests:' in your DESCRIPTION file. See Renviron.bioc for more information. |
| Package: ggsc |
| Version: 1.4.0 |
| Command: /home/biocbuild/bbs-3.20-bioc/R/bin/R CMD check --install=check:ggsc.install-out.txt --library=/home/biocbuild/bbs-3.20-bioc/R/site-library --timings ggsc_1.4.0.tar.gz |
| StartedAt: 2025-03-31 22:35:35 -0400 (Mon, 31 Mar 2025) |
| EndedAt: 2025-03-31 22:40:29 -0400 (Mon, 31 Mar 2025) |
| EllapsedTime: 294.4 seconds |
| RetCode: 0 |
| Status: OK |
| CheckDir: ggsc.Rcheck |
| Warnings: 0 |
##############################################################################
##############################################################################
###
### Running command:
###
### /home/biocbuild/bbs-3.20-bioc/R/bin/R CMD check --install=check:ggsc.install-out.txt --library=/home/biocbuild/bbs-3.20-bioc/R/site-library --timings ggsc_1.4.0.tar.gz
###
##############################################################################
##############################################################################
* using log directory ‘/home/biocbuild/bbs-3.20-bioc/meat/ggsc.Rcheck’
* using R version 4.4.3 (2025-02-28)
* using platform: x86_64-pc-linux-gnu
* R was compiled by
gcc (Ubuntu 13.3.0-6ubuntu2~24.04) 13.3.0
GNU Fortran (Ubuntu 13.3.0-6ubuntu2~24.04) 13.3.0
* running under: Ubuntu 24.04.2 LTS
* using session charset: UTF-8
* checking for file ‘ggsc/DESCRIPTION’ ... OK
* this is package ‘ggsc’ version ‘1.4.0’
* package encoding: UTF-8
* checking package namespace information ... OK
* checking package dependencies ... OK
* checking if this is a source package ... OK
* checking if there is a namespace ... OK
* checking for hidden files and directories ... OK
* checking for portable file names ... OK
* checking for sufficient/correct file permissions ... OK
* checking whether package ‘ggsc’ can be installed ... OK
* used C++ compiler: ‘g++ (Ubuntu 13.3.0-6ubuntu2~24.04) 13.3.0’
* checking installed package size ... OK
* checking package directory ... OK
* checking ‘build’ directory ... OK
* checking DESCRIPTION meta-information ... OK
* checking top-level files ... OK
* checking for left-over files ... OK
* checking index information ... OK
* checking package subdirectories ... OK
* checking code files for non-ASCII characters ... OK
* checking R files for syntax errors ... OK
* checking whether the package can be loaded ... OK
* checking whether the package can be loaded with stated dependencies ... OK
* checking whether the package can be unloaded cleanly ... OK
* checking whether the namespace can be loaded with stated dependencies ... OK
* checking whether the namespace can be unloaded cleanly ... OK
* checking loading without being on the library search path ... OK
* checking dependencies in R code ... OK
* checking S3 generic/method consistency ... OK
* checking replacement functions ... OK
* checking foreign function calls ... OK
* checking R code for possible problems ... OK
* checking Rd files ... OK
* checking Rd metadata ... OK
* checking Rd cross-references ... OK
* checking for missing documentation entries ... OK
* checking for code/documentation mismatches ... OK
* checking Rd \usage sections ... OK
* checking Rd contents ... OK
* checking for unstated dependencies in examples ... OK
* checking line endings in C/C++/Fortran sources/headers ... OK
* checking line endings in Makefiles ... OK
* checking compilation flags in Makevars ... OK
* checking for GNU extensions in Makefiles ... NOTE
GNU make is a SystemRequirements.
* checking for portable use of $(BLAS_LIBS) and $(LAPACK_LIBS) ... OK
* checking use of PKG_*FLAGS in Makefiles ... OK
* checking compiled code ... NOTE
Note: information on .o files is not available
* checking files in ‘vignettes’ ... OK
* checking examples ... OK
Examples with CPU (user + system) or elapsed time > 5s
user system elapsed
sc-feature-methods 22.043 0.933 17.997
sc-dim-count 5.666 0.218 5.884
sc-violin-methods 5.684 0.017 5.701
* checking for unstated dependencies in ‘tests’ ... OK
* checking tests ...
Running ‘testthat.R’
OK
* checking for unstated dependencies in vignettes ... OK
* checking package vignettes ... OK
* checking re-building of vignette outputs ... OK
* checking PDF version of manual ... OK
* DONE
Status: 2 NOTEs
See
‘/home/biocbuild/bbs-3.20-bioc/meat/ggsc.Rcheck/00check.log’
for details.
ggsc.Rcheck/00install.out
############################################################################## ############################################################################## ### ### Running command: ### ### /home/biocbuild/bbs-3.20-bioc/R/bin/R CMD INSTALL ggsc ### ############################################################################## ############################################################################## * installing to library ‘/home/biocbuild/bbs-3.20-bioc/R/site-library’ * installing *source* package ‘ggsc’ ... ** using staged installation ** libs using C++ compiler: ‘g++ (Ubuntu 13.3.0-6ubuntu2~24.04) 13.3.0’ g++ -std=gnu++17 -I"/home/biocbuild/bbs-3.20-bioc/R/include" -DNDEBUG -I'/home/biocbuild/bbs-3.20-bioc/R/site-library/Rcpp/include' -I'/home/biocbuild/bbs-3.20-bioc/R/site-library/RcppArmadillo/include' -I'/home/biocbuild/bbs-3.20-bioc/R/site-library/RcppParallel/include' -I/usr/local/include -fopenmp -DARMA_64BIT_WORD -fpic -g -O2 -Wall -c RcppExports.cpp -o RcppExports.o g++ -std=gnu++17 -I"/home/biocbuild/bbs-3.20-bioc/R/include" -DNDEBUG -I'/home/biocbuild/bbs-3.20-bioc/R/site-library/Rcpp/include' -I'/home/biocbuild/bbs-3.20-bioc/R/site-library/RcppArmadillo/include' -I'/home/biocbuild/bbs-3.20-bioc/R/site-library/RcppParallel/include' -I/usr/local/include -fopenmp -DARMA_64BIT_WORD -fpic -g -O2 -Wall -c kde.cpp -o kde.o g++ -std=gnu++17 -shared -L/home/biocbuild/bbs-3.20-bioc/R/lib -L/usr/local/lib -o ggsc.so RcppExports.o kde.o -fopenmp -llapack -L/home/biocbuild/bbs-3.20-bioc/R/lib -lRblas -lgfortran -lm -lquadmath -L/home/biocbuild/bbs-3.20-bioc/R/lib -lR installing to /home/biocbuild/bbs-3.20-bioc/R/site-library/00LOCK-ggsc/00new/ggsc/libs ** R ** byte-compile and prepare package for lazy loading ** help *** installing help indices ** building package indices ** installing vignettes ** testing if installed package can be loaded from temporary location ** checking absolute paths in shared objects and dynamic libraries ** testing if installed package can be loaded from final location ** testing if installed package keeps a record of temporary installation path * DONE (ggsc)
ggsc.Rcheck/tests/testthat.Rout
R version 4.4.3 (2025-02-28) -- "Trophy Case"
Copyright (C) 2025 The R Foundation for Statistical Computing
Platform: x86_64-pc-linux-gnu
R is free software and comes with ABSOLUTELY NO WARRANTY.
You are welcome to redistribute it under certain conditions.
Type 'license()' or 'licence()' for distribution details.
R is a collaborative project with many contributors.
Type 'contributors()' for more information and
'citation()' on how to cite R or R packages in publications.
Type 'demo()' for some demos, 'help()' for on-line help, or
'help.start()' for an HTML browser interface to help.
Type 'q()' to quit R.
> # This file is part of the standard setup for testthat.
> # It is recommended that you do not modify it.
> #
> # Where should you do additional test configuration?
> # Learn more about the roles of various files in:
> # * https://r-pkgs.org/tests.html
> # * https://testthat.r-lib.org/reference/test_package.html#special-files
>
> library(testthat)
> library(ggsc)
>
> test_check("ggsc")
[ FAIL 0 | WARN 1 | SKIP 0 | PASS 2 ]
[ FAIL 0 | WARN 1 | SKIP 0 | PASS 2 ]
>
> proc.time()
user system elapsed
11.694 0.631 12.311
ggsc.Rcheck/ggsc-Ex.timings
| name | user | system | elapsed | |
| geom_bgpoint | 0.195 | 0.032 | 0.227 | |
| geom_scattermore2 | 4.662 | 0.172 | 3.221 | |
| plot-lisa-feature | 0 | 0 | 0 | |
| sc-dim-count | 5.666 | 0.218 | 5.884 | |
| sc-dim-geom-ellipse | 4.473 | 0.084 | 4.556 | |
| sc-dim-geom-feature | 4.524 | 0.019 | 4.544 | |
| sc-dim-geom-label | 4.328 | 0.010 | 4.337 | |
| sc-dim-geom-subset | 4.247 | 0.060 | 4.307 | |
| sc-dim-methods | 4.579 | 0.105 | 4.684 | |
| sc-dim-sub | 4.278 | 0.033 | 4.311 | |
| sc-dot-methods | 0.685 | 0.008 | 0.693 | |
| sc-feature-methods | 22.043 | 0.933 | 17.997 | |
| sc-geom-point | 1.377 | 0.029 | 1.173 | |
| sc-spatial-methods | 0.001 | 0.000 | 0.001 | |
| sc-violin-methods | 5.684 | 0.017 | 5.701 | |