| Back to Multiple platform build/check report for BioC 3.20: simplified long |
|
This page was generated on 2025-04-02 19:33 -0400 (Wed, 02 Apr 2025).
| Hostname | OS | Arch (*) | R version | Installed pkgs |
|---|---|---|---|---|
| nebbiolo2 | Linux (Ubuntu 24.04.1 LTS) | x86_64 | 4.4.3 (2025-02-28) -- "Trophy Case" | 4764 |
| palomino8 | Windows Server 2022 Datacenter | x64 | 4.4.3 (2025-02-28 ucrt) -- "Trophy Case" | 4495 |
| merida1 | macOS 12.7.5 Monterey | x86_64 | 4.4.3 (2025-02-28) -- "Trophy Case" | 4522 |
| kjohnson1 | macOS 13.6.6 Ventura | arm64 | 4.4.3 (2025-02-28) -- "Trophy Case" | 4449 |
| taishan | Linux (openEuler 24.03 LTS) | aarch64 | 4.4.3 (2025-02-28) -- "Trophy Case" | 4426 |
| Click on any hostname to see more info about the system (e.g. compilers) (*) as reported by 'uname -p', except on Windows and Mac OS X | ||||
| Package 781/2289 | Hostname | OS / Arch | INSTALL | BUILD | CHECK | BUILD BIN | ||||||||
| gDRutils 1.4.10 (landing page) Arkadiusz Gladki
| nebbiolo2 | Linux (Ubuntu 24.04.1 LTS) / x86_64 | OK | OK | OK | |||||||||
| palomino8 | Windows Server 2022 Datacenter / x64 | OK | OK | OK | OK | |||||||||
| merida1 | macOS 12.7.5 Monterey / x86_64 | OK | OK | OK | OK | |||||||||
| kjohnson1 | macOS 13.6.6 Ventura / arm64 | OK | OK | OK | OK | |||||||||
| taishan | Linux (openEuler 24.03 LTS) / aarch64 | OK | OK | OK | ||||||||||
|
To the developers/maintainers of the gDRutils package: - Allow up to 24 hours (and sometimes 48 hours) for your latest push to git@git.bioconductor.org:packages/gDRutils.git to reflect on this report. See Troubleshooting Build Report for more information. - Use the following Renviron settings to reproduce errors and warnings. - If 'R CMD check' started to fail recently on the Linux builder(s) over a missing dependency, add the missing dependency to 'Suggests:' in your DESCRIPTION file. See Renviron.bioc for more information. |
| Package: gDRutils |
| Version: 1.4.10 |
| Command: /Library/Frameworks/R.framework/Resources/bin/R CMD check --install=check:gDRutils.install-out.txt --library=/Library/Frameworks/R.framework/Resources/library --no-vignettes --timings gDRutils_1.4.10.tar.gz |
| StartedAt: 2025-04-01 19:51:19 -0400 (Tue, 01 Apr 2025) |
| EndedAt: 2025-04-01 19:54:57 -0400 (Tue, 01 Apr 2025) |
| EllapsedTime: 218.7 seconds |
| RetCode: 0 |
| Status: OK |
| CheckDir: gDRutils.Rcheck |
| Warnings: 0 |
##############################################################################
##############################################################################
###
### Running command:
###
### /Library/Frameworks/R.framework/Resources/bin/R CMD check --install=check:gDRutils.install-out.txt --library=/Library/Frameworks/R.framework/Resources/library --no-vignettes --timings gDRutils_1.4.10.tar.gz
###
##############################################################################
##############################################################################
* using log directory ‘/Users/biocbuild/bbs-3.20-bioc/meat/gDRutils.Rcheck’
* using R version 4.4.3 (2025-02-28)
* using platform: aarch64-apple-darwin20
* R was compiled by
Apple clang version 14.0.0 (clang-1400.0.29.202)
GNU Fortran (GCC) 12.2.0
* running under: macOS Ventura 13.7.1
* using session charset: UTF-8
* using option ‘--no-vignettes’
* checking for file ‘gDRutils/DESCRIPTION’ ... OK
* checking extension type ... Package
* this is package ‘gDRutils’ version ‘1.4.10’
* package encoding: UTF-8
* checking package namespace information ... OK
* checking package dependencies ... OK
* checking if this is a source package ... OK
* checking if there is a namespace ... OK
* checking for hidden files and directories ... OK
* checking for portable file names ... OK
* checking for sufficient/correct file permissions ... OK
* checking whether package ‘gDRutils’ can be installed ... OK
* checking installed package size ... OK
* checking package directory ... OK
* checking ‘build’ directory ... OK
* checking DESCRIPTION meta-information ... OK
* checking top-level files ... OK
* checking for left-over files ... OK
* checking index information ... OK
* checking package subdirectories ... OK
* checking code files for non-ASCII characters ... OK
* checking R files for syntax errors ... OK
* checking whether the package can be loaded ... OK
* checking whether the package can be loaded with stated dependencies ... OK
* checking whether the package can be unloaded cleanly ... OK
* checking whether the namespace can be loaded with stated dependencies ... OK
* checking whether the namespace can be unloaded cleanly ... OK
* checking dependencies in R code ... OK
* checking S3 generic/method consistency ... OK
* checking replacement functions ... OK
* checking foreign function calls ... OK
* checking R code for possible problems ... OK
* checking Rd files ... OK
* checking Rd metadata ... OK
* checking Rd cross-references ... OK
* checking for missing documentation entries ... OK
* checking for code/documentation mismatches ... OK
* checking Rd \usage sections ... OK
* checking Rd contents ... OK
* checking for unstated dependencies in examples ... OK
* checking files in ‘vignettes’ ... OK
* checking examples ... OK
* checking for unstated dependencies in ‘tests’ ... OK
* checking tests ...
Running ‘testthat.R’
OK
* checking for unstated dependencies in vignettes ... OK
* checking package vignettes ... OK
* checking running R code from vignettes ... SKIPPED
* checking re-building of vignette outputs ... SKIPPED
* checking PDF version of manual ... OK
* DONE
Status: OK
gDRutils.Rcheck/00install.out
############################################################################## ############################################################################## ### ### Running command: ### ### /Library/Frameworks/R.framework/Resources/bin/R CMD INSTALL gDRutils ### ############################################################################## ############################################################################## * installing to library ‘/Library/Frameworks/R.framework/Versions/4.4-arm64/Resources/library’ * installing *source* package ‘gDRutils’ ... ** using staged installation ** R ** inst ** byte-compile and prepare package for lazy loading ** help *** installing help indices ** building package indices ** installing vignettes ** testing if installed package can be loaded from temporary location ** testing if installed package can be loaded from final location ** testing if installed package keeps a record of temporary installation path * DONE (gDRutils)
gDRutils.Rcheck/tests/testthat.Rout
R version 4.4.3 (2025-02-28) -- "Trophy Case"
Copyright (C) 2025 The R Foundation for Statistical Computing
Platform: aarch64-apple-darwin20
R is free software and comes with ABSOLUTELY NO WARRANTY.
You are welcome to redistribute it under certain conditions.
Type 'license()' or 'licence()' for distribution details.
R is a collaborative project with many contributors.
Type 'contributors()' for more information and
'citation()' on how to cite R or R packages in publications.
Type 'demo()' for some demos, 'help()' for on-line help, or
'help.start()' for an HTML browser interface to help.
Type 'q()' to quit R.
> library("gDRutils")
> library("testthat")
>
> test_check("gDRutils")
[ FAIL 0 | WARN 0 | SKIP 0 | PASS 727 ]
>
> proc.time()
user system elapsed
55.834 2.335 53.016
gDRutils.Rcheck/gDRutils-Ex.timings
| name | user | system | elapsed | |
| MAEpply | 0.700 | 0.052 | 0.759 | |
| SE_metadata | 0.050 | 0.004 | 0.054 | |
| addClass | 0.002 | 0.000 | 0.003 | |
| aggregate_assay | 1.291 | 0.041 | 1.232 | |
| apply_bumpy_function | 1.509 | 0.062 | 1.487 | |
| assert_choices | 0.001 | 0.000 | 0.001 | |
| average_biological_replicates_dt | 0.056 | 0.001 | 0.058 | |
| calc_sd | 0.001 | 0.000 | 0.001 | |
| capVals | 0.274 | 0.015 | 0.293 | |
| cap_assay_infinities | 0.377 | 0.027 | 0.251 | |
| cap_xc50 | 0.001 | 0.000 | 0.000 | |
| convert_colData_to_json | 0.092 | 0.006 | 0.050 | |
| convert_combo_data_to_dt | 0.588 | 0.044 | 0.360 | |
| convert_combo_field_to_assay | 0.004 | 0.001 | 0.002 | |
| convert_mae_assay_to_dt | 0.120 | 0.012 | 0.069 | |
| convert_mae_to_json | 0.038 | 0.005 | 0.021 | |
| convert_metadata_to_json | 0.019 | 0.002 | 0.011 | |
| convert_rowData_to_json | 0.005 | 0.001 | 0.003 | |
| convert_se_assay_to_custom_dt | 1.242 | 0.057 | 1.202 | |
| convert_se_assay_to_dt | 0.113 | 0.011 | 0.063 | |
| convert_se_to_json | 0.026 | 0.002 | 0.014 | |
| define_matrix_grid_positions | 0.111 | 0.009 | 0.062 | |
| demote_fields | 0.681 | 0.045 | 0.435 | |
| df_to_bm_assay | 0.257 | 0.017 | 0.169 | |
| dot-set_invalid_fit_params | 0.000 | 0.001 | 0.001 | |
| extend_normalization_type_name | 0 | 0 | 0 | |
| fit_curves | 0.154 | 0.021 | 0.175 | |
| flatten | 0.008 | 0.001 | 0.008 | |
| gen_synthetic_data | 0.005 | 0.001 | 0.006 | |
| geometric_mean | 0.000 | 0.000 | 0.001 | |
| get_MAE_identifiers | 0.011 | 0.002 | 0.013 | |
| get_additional_variables | 0.009 | 0.001 | 0.010 | |
| get_assay_dt_duplicated_rows | 0.093 | 0.003 | 0.096 | |
| get_assay_names | 0 | 0 | 0 | |
| get_assay_req_uniq_cols | 0.075 | 0.001 | 0.076 | |
| get_combo_assay_names | 0.001 | 0.001 | 0.000 | |
| get_combo_base_assay_names | 0.001 | 0.000 | 0.001 | |
| get_combo_excess_field_names | 0.002 | 0.000 | 0.001 | |
| get_combo_score_assay_names | 0.001 | 0.000 | 0.001 | |
| get_combo_score_field_names | 0.000 | 0.001 | 0.001 | |
| get_default_identifiers | 0.000 | 0.001 | 0.001 | |
| get_duplicated_rows | 0.002 | 0.000 | 0.003 | |
| get_env_assay_names | 0 | 0 | 0 | |
| get_env_var | 0.001 | 0.000 | 0.000 | |
| get_expect_one_identifiers | 0.000 | 0.001 | 0.000 | |
| get_experiment_groups | 0.001 | 0.000 | 0.000 | |
| get_identifiers_dt | 0.008 | 0.003 | 0.011 | |
| get_idfs_synonyms | 0.000 | 0.000 | 0.001 | |
| get_isobologram_columns | 0.036 | 0.002 | 0.039 | |
| get_non_empty_assays | 0.066 | 0.003 | 0.052 | |
| get_required_identifiers | 0 | 0 | 0 | |
| get_settings_from_json | 0.003 | 0.000 | 0.002 | |
| get_supported_experiments | 0.000 | 0.000 | 0.001 | |
| get_synthetic_data | 0.018 | 0.001 | 0.018 | |
| get_testdata | 0.116 | 0.025 | 0.129 | |
| get_testdata_codilution | 0.091 | 0.010 | 0.088 | |
| get_testdata_combo | 0.290 | 0.035 | 0.266 | |
| has_assay_dt_duplicated_rows | 0.127 | 0.009 | 0.076 | |
| has_dt_duplicated_rows | 0.002 | 0.001 | 0.000 | |
| has_single_codrug_data | 0.135 | 0.009 | 0.078 | |
| has_valid_codrug_data | 0.076 | 0.001 | 0.077 | |
| headers | 0.012 | 0.008 | 0.019 | |
| identifiers | 0.001 | 0.000 | 0.001 | |
| identify_unique_se_metadata_fields | 0.011 | 0.001 | 0.012 | |
| is_any_exp_empty | 0.067 | 0.003 | 0.051 | |
| is_combo_data | 0.370 | 0.030 | 0.248 | |
| is_exp_empty | 0.062 | 0.003 | 0.047 | |
| is_mae_empty | 0.093 | 0.007 | 0.050 | |
| logisticFit | 0.046 | 0.003 | 0.026 | |
| loop | 0 | 0 | 0 | |
| mcolData | 0.033 | 0.003 | 0.019 | |
| merge_SE | 2.471 | 0.126 | 1.635 | |
| merge_assay | 0.480 | 0.050 | 0.415 | |
| merge_metadata | 0.013 | 0.002 | 0.015 | |
| modifyData | 0.112 | 0.003 | 0.119 | |
| mrowData | 0.018 | 0.002 | 0.021 | |
| predict_conc_from_efficacy | 0 | 0 | 0 | |
| predict_efficacy_from_conc | 0.001 | 0.000 | 0.000 | |
| prettify_flat_metrics | 0.026 | 0.001 | 0.030 | |
| promote_fields | 0.335 | 0.021 | 0.214 | |
| refine_coldata | 0.028 | 0.005 | 0.018 | |
| refine_rowdata | 0.083 | 0.006 | 0.066 | |
| remove_codrug_data | 0.033 | 0.002 | 0.035 | |
| remove_drug_batch | 0.003 | 0.000 | 0.003 | |
| rename_DFrame | 0.016 | 0.002 | 0.019 | |
| rename_bumpy | 0.036 | 0.002 | 0.038 | |
| round_concentration | 0.000 | 0.000 | 0.001 | |
| set_constant_fit_params | 0.001 | 0.000 | 0.001 | |
| set_unique_cl_names | 0.068 | 0.001 | 0.073 | |
| set_unique_cl_names_dt | 0.022 | 0.000 | 0.023 | |
| set_unique_drug_names | 0.096 | 0.003 | 0.099 | |
| set_unique_drug_names_dt | 0.036 | 0.002 | 0.037 | |
| set_unique_identifiers | 0.315 | 0.005 | 0.324 | |
| set_unique_names_dt | 0.019 | 0.001 | 0.019 | |
| shorten_normalization_type_name | 0.000 | 0.001 | 0.000 | |
| split_SE_components | 0.064 | 0.003 | 0.069 | |
| standardize_mae | 0.114 | 0.002 | 0.116 | |
| standardize_se | 0.038 | 0.002 | 0.042 | |
| throw_msg_if_duplicates | 0.071 | 0.001 | 0.073 | |
| update_env_idfs_from_mae | 0.001 | 0.001 | 0.001 | |
| update_idfs_synonyms | 0 | 0 | 0 | |
| validate_MAE | 0.077 | 0.001 | 0.079 | |
| validate_SE | 0.031 | 0.002 | 0.034 | |
| validate_identifiers | 0.008 | 0.001 | 0.010 | |
| validate_json | 0.000 | 0.000 | 0.001 | |
| validate_mae_with_schema | 0.434 | 0.043 | 0.929 | |
| validate_se_assay_name | 0.010 | 0.001 | 0.012 | |