Back to Multiple platform build/check report for BioC 3.20:   simplified   long
ABCDEF[G]HIJKLMNOPQRSTUVWXYZ

This page was generated on 2025-02-06 12:06 -0500 (Thu, 06 Feb 2025).

HostnameOSArch (*)R versionInstalled pkgs
nebbiolo2Linux (Ubuntu 24.04.1 LTS)x86_644.4.2 (2024-10-31) -- "Pile of Leaves" 4753
palomino8Windows Server 2022 Datacenterx644.4.2 (2024-10-31 ucrt) -- "Pile of Leaves" 4501
merida1macOS 12.7.5 Montereyx86_644.4.2 (2024-10-31) -- "Pile of Leaves" 4524
kjohnson1macOS 13.6.6 Venturaarm644.4.2 (2024-10-31) -- "Pile of Leaves" 4476
taishanLinux (openEuler 24.03 LTS)aarch644.4.2 (2024-10-31) -- "Pile of Leaves" 4407
Click on any hostname to see more info about the system (e.g. compilers)      (*) as reported by 'uname -p', except on Windows and Mac OS X

Package 779/2289HostnameOS / ArchINSTALLBUILDCHECKBUILD BIN
gDRimport 1.4.0  (landing page)
Arkadiusz Gladki
Snapshot Date: 2025-02-03 13:00 -0500 (Mon, 03 Feb 2025)
git_url: https://git.bioconductor.org/packages/gDRimport
git_branch: RELEASE_3_20
git_last_commit: 42daf09
git_last_commit_date: 2024-10-29 11:21:31 -0500 (Tue, 29 Oct 2024)
nebbiolo2Linux (Ubuntu 24.04.1 LTS) / x86_64  OK    OK    OK  UNNEEDED, same version is already published
palomino8Windows Server 2022 Datacenter / x64  OK    OK    OK    OK  UNNEEDED, same version is already published
merida1macOS 12.7.5 Monterey / x86_64  OK    OK    OK    OK  UNNEEDED, same version is already published
kjohnson1macOS 13.6.6 Ventura / arm64  OK    OK    OK    OK  UNNEEDED, same version is already published
taishanLinux (openEuler 24.03 LTS) / aarch64  OK    OK    OK  


CHECK results for gDRimport on palomino8

To the developers/maintainers of the gDRimport package:
- Allow up to 24 hours (and sometimes 48 hours) for your latest push to git@git.bioconductor.org:packages/gDRimport.git to reflect on this report. See Troubleshooting Build Report for more information.
- Use the following Renviron settings to reproduce errors and warnings.
- If 'R CMD check' started to fail recently on the Linux builder(s) over a missing dependency, add the missing dependency to 'Suggests:' in your DESCRIPTION file. See Renviron.bioc for more information.

raw results


Summary

Package: gDRimport
Version: 1.4.0
Command: F:\biocbuild\bbs-3.20-bioc\R\bin\R.exe CMD check --no-multiarch --install=check:gDRimport.install-out.txt --library=F:\biocbuild\bbs-3.20-bioc\R\library --no-vignettes --timings gDRimport_1.4.0.tar.gz
StartedAt: 2025-02-04 02:01:42 -0500 (Tue, 04 Feb 2025)
EndedAt: 2025-02-04 02:05:25 -0500 (Tue, 04 Feb 2025)
EllapsedTime: 222.4 seconds
RetCode: 0
Status:   OK  
CheckDir: gDRimport.Rcheck
Warnings: 0

Command output

##############################################################################
##############################################################################
###
### Running command:
###
###   F:\biocbuild\bbs-3.20-bioc\R\bin\R.exe CMD check --no-multiarch --install=check:gDRimport.install-out.txt --library=F:\biocbuild\bbs-3.20-bioc\R\library --no-vignettes --timings gDRimport_1.4.0.tar.gz
###
##############################################################################
##############################################################################


* using log directory 'F:/biocbuild/bbs-3.20-bioc/meat/gDRimport.Rcheck'
* using R version 4.4.2 (2024-10-31 ucrt)
* using platform: x86_64-w64-mingw32
* R was compiled by
    gcc.exe (GCC) 13.3.0
    GNU Fortran (GCC) 13.3.0
* running under: Windows Server 2022 x64 (build 20348)
* using session charset: UTF-8
* using option '--no-vignettes'
* checking for file 'gDRimport/DESCRIPTION' ... OK
* checking extension type ... Package
* this is package 'gDRimport' version '1.4.0'
* package encoding: UTF-8
* checking package namespace information ... OK
* checking package dependencies ... OK
* checking if this is a source package ... OK
* checking if there is a namespace ... OK
* checking for hidden files and directories ... OK
* checking for portable file names ... OK
* checking whether package 'gDRimport' can be installed ... OK
* checking installed package size ... OK
* checking package directory ... OK
* checking 'build' directory ... OK
* checking DESCRIPTION meta-information ... OK
* checking top-level files ... OK
* checking for left-over files ... OK
* checking index information ... OK
* checking package subdirectories ... OK
* checking code files for non-ASCII characters ... OK
* checking R files for syntax errors ... OK
* checking whether the package can be loaded ... OK
* checking whether the package can be loaded with stated dependencies ... OK
* checking whether the package can be unloaded cleanly ... OK
* checking whether the namespace can be loaded with stated dependencies ... OK
* checking whether the namespace can be unloaded cleanly ... OK
* checking dependencies in R code ... OK
* checking S3 generic/method consistency ... OK
* checking replacement functions ... OK
* checking foreign function calls ... OK
* checking R code for possible problems ... OK
* checking Rd files ... OK
* checking Rd metadata ... OK
* checking Rd cross-references ... OK
* checking for missing documentation entries ... OK
* checking for code/documentation mismatches ... OK
* checking Rd \usage sections ... OK
* checking Rd contents ... OK
* checking for unstated dependencies in examples ... OK
* checking files in 'vignettes' ... OK
* checking examples ... OK
Examples with CPU (user + system) or elapsed time > 5s
                    user system elapsed
convert_MAE_to_PSet 8.84   0.34    9.21
import_D300         3.20   0.73    5.43
* checking for unstated dependencies in 'tests' ... OK
* checking tests ...
  Running 'testthat.R'
 OK
* checking for unstated dependencies in vignettes ... OK
* checking package vignettes ... OK
* checking running R code from vignettes ... SKIPPED
* checking re-building of vignette outputs ... SKIPPED
* checking PDF version of manual ... OK
* DONE

Status: OK


Installation output

gDRimport.Rcheck/00install.out

##############################################################################
##############################################################################
###
### Running command:
###
###   F:\biocbuild\bbs-3.20-bioc\R\bin\R.exe CMD INSTALL gDRimport
###
##############################################################################
##############################################################################


* installing to library 'F:/biocbuild/bbs-3.20-bioc/R/library'
* installing *source* package 'gDRimport' ...
** using staged installation
** R
** inst
** byte-compile and prepare package for lazy loading
** help
*** installing help indices
** building package indices
** installing vignettes
** testing if installed package can be loaded from temporary location
** testing if installed package can be loaded from final location
** testing if installed package keeps a record of temporary installation path
* DONE (gDRimport)

Tests output

gDRimport.Rcheck/tests/testthat.Rout


R version 4.4.2 (2024-10-31 ucrt) -- "Pile of Leaves"
Copyright (C) 2024 The R Foundation for Statistical Computing
Platform: x86_64-w64-mingw32/x64

R is free software and comes with ABSOLUTELY NO WARRANTY.
You are welcome to redistribute it under certain conditions.
Type 'license()' or 'licence()' for distribution details.

R is a collaborative project with many contributors.
Type 'contributors()' for more information and
'citation()' on how to cite R or R packages in publications.

Type 'demo()' for some demos, 'help()' for on-line help, or
'help.start()' for an HTML browser interface to help.
Type 'q()' to quit R.

> library(testthat)
> library(gDRimport)
> 
> test_check("gDRimport")
2025-02-04 02:04:46 Building assay index...
2025-02-04 02:04:46 Joining rowData to assayIndex...
2025-02-04 02:04:47 Joining colData to assayIndex...
2025-02-04 02:04:47 Joining assays to assayIndex...
2025-02-04 02:04:49 Setting assayIndex key...
2025-02-04 02:04:50 Building LongTable...
2025-02-04 02:04:51 Building assay index...
2025-02-04 02:04:51 Joining rowData to assayIndex...
2025-02-04 02:04:52 Joining colData to assayIndex...
2025-02-04 02:04:52 Joining assays to assayIndex...
2025-02-04 02:04:54 Setting assayIndex key...
2025-02-04 02:04:55 Building LongTable...
INFO [2025-02-04 02:04:55] Manifest loaded successfully
INFO [2025-02-04 02:04:55] Manifest loaded successfully
INFO [2025-02-04 02:04:56] Reading file F:/biocbuild/bbs-3.20-bioc/R/library/gDRimport/extdata/data1/RawData_day0.xlsx, sheet Readout_0077vs0068_day7
INFO [2025-02-04 02:04:56] Plate 201904190a read; 384 wells
INFO [2025-02-04 02:04:56] Plate 201904190b read; 384 wells
INFO [2025-02-04 02:04:56] Plate 201904190c read; 384 wells
INFO [2025-02-04 02:04:56] Plate 201904190d read; 384 wells
INFO [2025-02-04 02:04:56] Plate 201904190e read; 384 wells
INFO [2025-02-04 02:04:56] Plate 201904190f read; 384 wells
INFO [2025-02-04 02:04:56] File done
INFO [2025-02-04 02:04:56] Reading file F:/biocbuild/bbs-3.20-bioc/R/library/gDRimport/extdata/data1/RawData_day7.xlsx, sheet Readout_0077vs0068_day7
INFO [2025-02-04 02:04:57] Plate 201904197a read; 384 wells
INFO [2025-02-04 02:04:57] Plate 201904197b read; 384 wells
INFO [2025-02-04 02:04:57] Plate 201904197c read; 384 wells
INFO [2025-02-04 02:04:57] Plate 201904197d read; 384 wells
INFO [2025-02-04 02:04:57] Plate 201904197e read; 384 wells
INFO [2025-02-04 02:04:57] Plate 201904197f read; 384 wells
INFO [2025-02-04 02:04:57] File done
INFO [2025-02-04 02:04:57] Reading file F:/biocbuild/bbs-3.20-bioc/R/library/gDRimport/extdata/data1/RawData_day0.xlsx, sheet Readout_0077vs0068_day7
INFO [2025-02-04 02:04:57] Plate 201904190a read; 384 wells
INFO [2025-02-04 02:04:57] Plate 201904190b read; 384 wells
INFO [2025-02-04 02:04:57] Plate 201904190c read; 384 wells
INFO [2025-02-04 02:04:57] Plate 201904190d read; 384 wells
INFO [2025-02-04 02:04:57] Plate 201904190e read; 384 wells
INFO [2025-02-04 02:04:57] Plate 201904190f read; 384 wells
INFO [2025-02-04 02:04:57] File done
INFO [2025-02-04 02:04:57] Reading file F:/biocbuild/bbs-3.20-bioc/R/library/gDRimport/extdata/data1/RawData_day7.xlsx, sheet Readout_0077vs0068_day7
INFO [2025-02-04 02:04:58] Plate 201904197a read; 384 wells
INFO [2025-02-04 02:04:58] Plate 201904197b read; 384 wells
INFO [2025-02-04 02:04:58] Plate 201904197c read; 384 wells
INFO [2025-02-04 02:04:58] Plate 201904197d read; 384 wells
INFO [2025-02-04 02:04:58] Plate 201904197e read; 384 wells
INFO [2025-02-04 02:04:58] Plate 201904197f read; 384 wells
INFO [2025-02-04 02:04:58] File done
INFO [2025-02-04 02:04:58] Reading file F:/biocbuild/bbs-3.20-bioc/R/library/gDRimport/extdata/data1/RawData_day0.xlsx, sheet Readout_0077vs0068_day7
INFO [2025-02-04 02:04:58] Plate 201904190a read; 384 wells
INFO [2025-02-04 02:04:58] Plate 201904190b read; 384 wells
INFO [2025-02-04 02:04:58] Plate 201904190c read; 384 wells
INFO [2025-02-04 02:04:58] Plate 201904190d read; 384 wells
INFO [2025-02-04 02:04:58] Plate 201904190e read; 384 wells
INFO [2025-02-04 02:04:58] Plate 201904190f read; 384 wells
INFO [2025-02-04 02:04:58] File done
INFO [2025-02-04 02:04:58] Reading file F:/biocbuild/bbs-3.20-bioc/R/library/gDRimport/extdata/data2/RawData_Tecan_96_well_plates.xlsx, sheet H2122-2
INFO [2025-02-04 02:04:58] Reading file F:/biocbuild/bbs-3.20-bioc/R/library/gDRimport/extdata/data2/RawData_Tecan_96_well_plates.xlsx, sheet H358-2
INFO [2025-02-04 02:04:59] Reading file F:/biocbuild/bbs-3.20-bioc/R/library/gDRimport/extdata/data2/RawData_Tecan_96_well_plates.xlsx, sheet H358-1
INFO [2025-02-04 02:04:59] Reading file F:/biocbuild/bbs-3.20-bioc/R/library/gDRimport/extdata/data2/RawData_Tecan_96_well_plates.xlsx, sheet H2122-1
INFO [2025-02-04 02:04:59] Reading Template_7daytreated.xlsx with load_templates_xlsx
INFO [2025-02-04 02:04:59] Loading Template_7daytreated.xlsx
INFO [2025-02-04 02:04:59] Loading Template_Untreated.xlsx
INFO [2025-02-04 02:05:00] Templates loaded successfully!
INFO [2025-02-04 02:05:00] Reading Template_7daytreated.xlsx with load_templates_xlsx
INFO [2025-02-04 02:05:00] Loading Template_7daytreated.xlsx
INFO [2025-02-04 02:05:00] Loading Template_Untreated.xlsx
INFO [2025-02-04 02:05:00] Templates loaded successfully!
INFO [2025-02-04 02:05:00] Reading D300_trt_Tecan_96_well_plates.xlsx with load_templates_xlsx
INFO [2025-02-04 02:05:00] Loading D300_trt_Tecan_96_well_plates.xlsx
INFO [2025-02-04 02:05:00] Templates loaded successfully!
INFO [2025-02-04 02:05:00] Reading Template_7daytreated.xlsx with load_templates_xlsx
INFO [2025-02-04 02:05:00] Loading Template_7daytreated.xlsx
INFO [2025-02-04 02:05:00] Templates loaded successfully!
INFO [2025-02-04 02:05:00] Manifest loaded successfully
INFO [2025-02-04 02:05:00] Reading Template_7daytreated.xlsx with load_templates_xlsx
INFO [2025-02-04 02:05:00] Loading Template_7daytreated.xlsx
INFO [2025-02-04 02:05:01] Loading Template_Untreated.xlsx
INFO [2025-02-04 02:05:01] Templates loaded successfully!
INFO [2025-02-04 02:05:01] Reading file F:/biocbuild/bbs-3.20-bioc/R/library/gDRimport/extdata/data1/RawData_day0.xlsx, sheet Readout_0077vs0068_day7
INFO [2025-02-04 02:05:01] Plate 201904190a read; 384 wells
INFO [2025-02-04 02:05:01] Plate 201904190b read; 384 wells
INFO [2025-02-04 02:05:01] Plate 201904190c read; 384 wells
INFO [2025-02-04 02:05:01] Plate 201904190d read; 384 wells
INFO [2025-02-04 02:05:01] Plate 201904190e read; 384 wells
INFO [2025-02-04 02:05:01] Plate 201904190f read; 384 wells
INFO [2025-02-04 02:05:01] File done
INFO [2025-02-04 02:05:01] Reading file F:/biocbuild/bbs-3.20-bioc/R/library/gDRimport/extdata/data1/RawData_day7.xlsx, sheet Readout_0077vs0068_day7
INFO [2025-02-04 02:05:02] Plate 201904197a read; 384 wells
INFO [2025-02-04 02:05:02] Plate 201904197b read; 384 wells
INFO [2025-02-04 02:05:02] Plate 201904197c read; 384 wells
INFO [2025-02-04 02:05:02] Plate 201904197d read; 384 wells
INFO [2025-02-04 02:05:02] Plate 201904197e read; 384 wells
INFO [2025-02-04 02:05:02] Plate 201904197f read; 384 wells
INFO [2025-02-04 02:05:02] File done
INFO [2025-02-04 02:05:02] Manifest loaded successfully
INFO [2025-02-04 02:05:02] Reading D300_trt_Tecan_96_well_plates.xlsx with load_templates_xlsx
INFO [2025-02-04 02:05:02] Loading D300_trt_Tecan_96_well_plates.xlsx
INFO [2025-02-04 02:05:02] Templates loaded successfully!
INFO [2025-02-04 02:05:02] Reading file F:/biocbuild/bbs-3.20-bioc/R/library/gDRimport/extdata/data2/RawData_Tecan_96_well_plates.xlsx, sheet H2122-2
INFO [2025-02-04 02:05:02] Reading file F:/biocbuild/bbs-3.20-bioc/R/library/gDRimport/extdata/data2/RawData_Tecan_96_well_plates.xlsx, sheet H358-2
INFO [2025-02-04 02:05:03] Reading file F:/biocbuild/bbs-3.20-bioc/R/library/gDRimport/extdata/data2/RawData_Tecan_96_well_plates.xlsx, sheet H358-1
INFO [2025-02-04 02:05:03] Reading file F:/biocbuild/bbs-3.20-bioc/R/library/gDRimport/extdata/data2/RawData_Tecan_96_well_plates.xlsx, sheet H2122-1
INFO [2025-02-04 02:05:03] Manifest loaded successfully
INFO [2025-02-04 02:05:03] Reading Project40.treated.template.xlsx with load_templates_xlsx
INFO [2025-02-04 02:05:03] Loading Project40.treated.template.xlsx
INFO [2025-02-04 02:05:03] Loading Project40.untreated.template.xlsx
INFO [2025-02-04 02:05:03] Templates loaded successfully!
INFO [2025-02-04 02:05:03] Reading file F:/biocbuild/bbs-3.20-bioc/R/library/gDRimport/extdata/data4/H0109269D00.csv, sheet 0
INFO [2025-02-04 02:05:03] Plate H0109269D00 read; 384 wells
INFO [2025-02-04 02:05:03] File done
INFO [2025-02-04 02:05:03] Reading file F:/biocbuild/bbs-3.20-bioc/R/library/gDRimport/extdata/data4/H0109269D01.csv, sheet 0
INFO [2025-02-04 02:05:03] Plate H0109269D01 read; 384 wells
INFO [2025-02-04 02:05:03] File done
INFO [2025-02-04 02:05:03] Reading file F:/biocbuild/bbs-3.20-bioc/R/library/gDRimport/extdata/data4/H0309269D00.csv, sheet 0
INFO [2025-02-04 02:05:03] Plate H0309269D00 read; 384 wells
INFO [2025-02-04 02:05:03] File done
INFO [2025-02-04 02:05:03] Reading file F:/biocbuild/bbs-3.20-bioc/R/library/gDRimport/extdata/data4/H0309269D01.csv, sheet 0
INFO [2025-02-04 02:05:03] Plate H0309269D01 read; 384 wells
INFO [2025-02-04 02:05:03] File done
INFO [2025-02-04 02:05:03] Reading file F:/biocbuild/bbs-3.20-bioc/R/library/gDRimport/extdata/data4/H0409269D00.csv, sheet 0
INFO [2025-02-04 02:05:03] Plate H0409269D00 read; 384 wells
INFO [2025-02-04 02:05:03] File done
INFO [2025-02-04 02:05:04] Reading file F:/biocbuild/bbs-3.20-bioc/R/library/gDRimport/extdata/data4/H0409269D01.csv, sheet 0
INFO [2025-02-04 02:05:04] Plate H0409269D01 read; 384 wells
INFO [2025-02-04 02:05:04] File done
INFO [2025-02-04 02:05:04] Reading file F:/biocbuild/bbs-3.20-bioc/R/library/gDRimport/extdata/data4/H0509269D00.csv, sheet 0
INFO [2025-02-04 02:05:04] Plate H0509269D00 read; 384 wells
INFO [2025-02-04 02:05:04] File done
INFO [2025-02-04 02:05:04] Reading file F:/biocbuild/bbs-3.20-bioc/R/library/gDRimport/extdata/data4/H0509269D01.csv, sheet 0
INFO [2025-02-04 02:05:04] Plate H0509269D01 read; 384 wells
INFO [2025-02-04 02:05:04] File done
INFO [2025-02-04 02:05:04] Reading file F:/biocbuild/bbs-3.20-bioc/R/library/gDRimport/extdata/data4/H0609269D00.csv, sheet 0
INFO [2025-02-04 02:05:04] Plate H0609269D00 read; 384 wells
INFO [2025-02-04 02:05:04] File done
INFO [2025-02-04 02:05:04] Reading file F:/biocbuild/bbs-3.20-bioc/R/library/gDRimport/extdata/data4/H0609269D01.csv, sheet 0
INFO [2025-02-04 02:05:04] Plate H0609269D01 read; 384 wells
INFO [2025-02-04 02:05:04] File done
INFO [2025-02-04 02:05:04] Reading file F:/biocbuild/bbs-3.20-bioc/R/library/gDRimport/extdata/data4/H0709269D00.csv, sheet 0
INFO [2025-02-04 02:05:04] Plate H0709269D00 read; 384 wells
INFO [2025-02-04 02:05:04] File done
INFO [2025-02-04 02:05:04] Reading file F:/biocbuild/bbs-3.20-bioc/R/library/gDRimport/extdata/data4/H0709269D01.csv, sheet 0
INFO [2025-02-04 02:05:04] Plate H0709269D01 read; 384 wells
INFO [2025-02-04 02:05:04] File done
INFO [2025-02-04 02:05:04] Reading file F:/biocbuild/bbs-3.20-bioc/R/library/gDRimport/extdata/data4/H0809269D00.csv, sheet 0
INFO [2025-02-04 02:05:04] Plate H0809269D00 read; 384 wells
INFO [2025-02-04 02:05:04] File done
INFO [2025-02-04 02:05:04] Reading file F:/biocbuild/bbs-3.20-bioc/R/library/gDRimport/extdata/data4/H0809269D01.csv, sheet 0
INFO [2025-02-04 02:05:04] Plate H0809269D01 read; 384 wells
INFO [2025-02-04 02:05:04] File done
INFO [2025-02-04 02:05:04] Reading file F:/biocbuild/bbs-3.20-bioc/R/library/gDRimport/extdata/data4/H0909269D00.csv, sheet 0
INFO [2025-02-04 02:05:04] Plate H0909269D00 read; 384 wells
INFO [2025-02-04 02:05:04] File done
INFO [2025-02-04 02:05:04] Reading file F:/biocbuild/bbs-3.20-bioc/R/library/gDRimport/extdata/data4/H0909269D01.csv, sheet 0
INFO [2025-02-04 02:05:04] Plate H0909269D01 read; 384 wells
INFO [2025-02-04 02:05:04] File done
INFO [2025-02-04 02:05:04] Reading file F:/biocbuild/bbs-3.20-bioc/R/library/gDRimport/extdata/data4/H1109269D00.csv, sheet 0
INFO [2025-02-04 02:05:04] Plate H1109269D00 read; 384 wells
INFO [2025-02-04 02:05:04] File done
INFO [2025-02-04 02:05:04] Reading file F:/biocbuild/bbs-3.20-bioc/R/library/gDRimport/extdata/data4/H1109269D01.csv, sheet 0
INFO [2025-02-04 02:05:04] Plate H1109269D01 read; 384 wells
INFO [2025-02-04 02:05:04] File done
INFO [2025-02-04 02:05:04] Reading file F:/biocbuild/bbs-3.20-bioc/R/library/gDRimport/extdata/data4/H1209269D00.csv, sheet 0
INFO [2025-02-04 02:05:04] Plate H1209269D00 read; 384 wells
INFO [2025-02-04 02:05:04] File done
INFO [2025-02-04 02:05:04] Reading file F:/biocbuild/bbs-3.20-bioc/R/library/gDRimport/extdata/data4/H1209269D01.csv, sheet 0
INFO [2025-02-04 02:05:04] Plate H1209269D01 read; 384 wells
INFO [2025-02-04 02:05:04] File done
INFO [2025-02-04 02:05:04] Reading file F:/biocbuild/bbs-3.20-bioc/R/library/gDRimport/extdata/data4/H1409269D00.csv, sheet 0
INFO [2025-02-04 02:05:04] Plate H1409269D00 read; 384 wells
INFO [2025-02-04 02:05:04] File done
INFO [2025-02-04 02:05:04] Reading file F:/biocbuild/bbs-3.20-bioc/R/library/gDRimport/extdata/data4/H1409269D01.csv, sheet 0
INFO [2025-02-04 02:05:04] Plate H1409269D01 read; 384 wells
INFO [2025-02-04 02:05:04] File done
INFO [2025-02-04 02:05:04] Reading file F:/biocbuild/bbs-3.20-bioc/R/library/gDRimport/extdata/data4/K0209269D00.csv, sheet 0
INFO [2025-02-04 02:05:04] Plate K0209269D00 read; 384 wells
INFO [2025-02-04 02:05:04] File done
INFO [2025-02-04 02:05:04] Reading file F:/biocbuild/bbs-3.20-bioc/R/library/gDRimport/extdata/data4/K0209269D01.csv, sheet 0
INFO [2025-02-04 02:05:04] Plate K0209269D01 read; 384 wells
INFO [2025-02-04 02:05:04] File done
INFO [2025-02-04 02:05:04] Reading file F:/biocbuild/bbs-3.20-bioc/R/library/gDRimport/extdata/data4/K0809269D00.csv, sheet 0
INFO [2025-02-04 02:05:04] Plate K0809269D00 read; 384 wells
INFO [2025-02-04 02:05:04] File done
INFO [2025-02-04 02:05:04] Reading file F:/biocbuild/bbs-3.20-bioc/R/library/gDRimport/extdata/data4/K0809269D01.csv, sheet 0
INFO [2025-02-04 02:05:04] Plate K0809269D01 read; 384 wells
INFO [2025-02-04 02:05:04] File done
INFO [2025-02-04 02:05:04] Reading file F:/biocbuild/bbs-3.20-bioc/R/library/gDRimport/extdata/data4/K1009269D00.csv, sheet 0
INFO [2025-02-04 02:05:04] Plate K1009269D00 read; 384 wells
INFO [2025-02-04 02:05:04] File done
INFO [2025-02-04 02:05:04] Reading file F:/biocbuild/bbs-3.20-bioc/R/library/gDRimport/extdata/data4/K1009269D01.csv, sheet 0
INFO [2025-02-04 02:05:04] Plate K1009269D01 read; 384 wells
INFO [2025-02-04 02:05:04] File done
INFO [2025-02-04 02:05:04] Manifest loaded successfully
INFO [2025-02-04 02:05:04] Reading Template_7daytreated.xlsx with load_templates_xlsx
INFO [2025-02-04 02:05:04] Loading Template_7daytreated.xlsx
INFO [2025-02-04 02:05:05] Loading Template_Untreated.xlsx
INFO [2025-02-04 02:05:05] Templates loaded successfully!
INFO [2025-02-04 02:05:05] Manifest loaded successfully
INFO [2025-02-04 02:05:05] Reading Template_7daytreated.xlsx with load_templates_xlsx
INFO [2025-02-04 02:05:05] Loading Template_7daytreated.xlsx
INFO [2025-02-04 02:05:05] Loading Template_Untreated.xlsx
INFO [2025-02-04 02:05:05] Templates loaded successfully!
INFO [2025-02-04 02:05:05] Manifest loaded successfully
INFO [2025-02-04 02:05:05] Reading Template_trt.tsv with load_templates_tsv
INFO [2025-02-04 02:05:05] Loading Template_trt.tsv
INFO [2025-02-04 02:05:05] Loading Template_untrt.tsv
INFO [2025-02-04 02:05:05] Templates loaded successfully!
INFO [2025-02-04 02:05:05] Reading file F:/biocbuild/bbs-3.20-bioc/R/library/gDRimport/extdata/data5/RawData.tsv
WARN [2025-02-04 02:05:07] Metadata field names for  cannot contain spaces --> corrected to: Gnumber
WARN [2025-02-04 02:05:07] Header Gnumber in  corrected to Gnumber
[ FAIL 0 | WARN 1 | SKIP 0 | PASS 141 ]

[ FAIL 0 | WARN 1 | SKIP 0 | PASS 141 ]
> 
> 
> proc.time()
   user  system elapsed 
  52.84    4.96   60.36 

Example timings

gDRimport.Rcheck/gDRimport-Ex.timings

nameusersystemelapsed
check_metadata_names0.060.030.10
convert_LEVEL5_prism_to_gDR_input0.020.000.01
convert_LEVEL6_prism_to_gDR_input0.020.000.01
convert_MAE_to_PSet8.840.349.21
convert_pset_to_df0.160.030.20
detect_file_format0.310.070.69
getPSet0.140.000.14
get_exception_data000
get_test_D300_data000
get_test_EnVision_data0.020.000.01
get_test_Tecan_data000
get_test_data000
get_test_tsv_data000
import_D3003.200.735.43
is_readable_v000
load_data1.840.121.97
load_manifest0.050.000.04
load_results1.290.061.36
load_templates0.280.050.33
manifest_path-method000
parse_D300_xml1.240.061.30
read_excel_to_dt0.050.000.08
result_path-method000
setEnvForPSet000
standardize_record_values000
template_path-method000