| Back to Multiple platform build/check report for BioC 3.20: simplified long |
|
This page was generated on 2025-04-02 19:35 -0400 (Wed, 02 Apr 2025).
| Hostname | OS | Arch (*) | R version | Installed pkgs |
|---|---|---|---|---|
| nebbiolo2 | Linux (Ubuntu 24.04.1 LTS) | x86_64 | 4.4.3 (2025-02-28) -- "Trophy Case" | 4764 |
| palomino8 | Windows Server 2022 Datacenter | x64 | 4.4.3 (2025-02-28 ucrt) -- "Trophy Case" | 4495 |
| merida1 | macOS 12.7.5 Monterey | x86_64 | 4.4.3 (2025-02-28) -- "Trophy Case" | 4522 |
| kjohnson1 | macOS 13.6.6 Ventura | arm64 | 4.4.3 (2025-02-28) -- "Trophy Case" | 4449 |
| taishan | Linux (openEuler 24.03 LTS) | aarch64 | 4.4.3 (2025-02-28) -- "Trophy Case" | 4426 |
| Click on any hostname to see more info about the system (e.g. compilers) (*) as reported by 'uname -p', except on Windows and Mac OS X | ||||
| Package 749/2289 | Hostname | OS / Arch | INSTALL | BUILD | CHECK | BUILD BIN | ||||||||
| flowWorkspace 4.18.1 (landing page) Greg Finak
| nebbiolo2 | Linux (Ubuntu 24.04.1 LTS) / x86_64 | OK | OK | WARNINGS | |||||||||
| palomino8 | Windows Server 2022 Datacenter / x64 | OK | OK | WARNINGS | OK | |||||||||
| merida1 | macOS 12.7.5 Monterey / x86_64 | OK | OK | WARNINGS | OK | |||||||||
| kjohnson1 | macOS 13.6.6 Ventura / arm64 | OK | OK | WARNINGS | OK | |||||||||
| taishan | Linux (openEuler 24.03 LTS) / aarch64 | OK | OK | WARNINGS | ||||||||||
|
To the developers/maintainers of the flowWorkspace package: - Allow up to 24 hours (and sometimes 48 hours) for your latest push to git@git.bioconductor.org:packages/flowWorkspace.git to reflect on this report. See Troubleshooting Build Report for more information. - Use the following Renviron settings to reproduce errors and warnings. - If 'R CMD check' started to fail recently on the Linux builder(s) over a missing dependency, add the missing dependency to 'Suggests:' in your DESCRIPTION file. See Renviron.bioc for more information. - See Martin Grigorov's blog post for how to debug Linux ARM64 related issues on a x86_64 host. |
| Package: flowWorkspace |
| Version: 4.18.1 |
| Command: /home/biocbuild/R/R/bin/R CMD INSTALL flowWorkspace |
| StartedAt: 2025-03-31 20:23:38 -0000 (Mon, 31 Mar 2025) |
| EndedAt: 2025-03-31 20:26:55 -0000 (Mon, 31 Mar 2025) |
| EllapsedTime: 197.5 seconds |
| RetCode: 0 |
| Status: OK |
##############################################################################
##############################################################################
###
### Running command:
###
### /home/biocbuild/R/R/bin/R CMD INSTALL flowWorkspace
###
##############################################################################
##############################################################################
* installing to library ‘/home/biocbuild/R/R-4.4.3/site-library’
* installing *source* package ‘flowWorkspace’ ...
** using staged installation
** libs
using C++ compiler: ‘aarch64-unknown-linux-gnu-g++ (GCC) 14.2.0’
using C++17
/opt/ohpc/pub/compiler/gcc/14.2.0/bin/aarch64-unknown-linux-gnu-g++ -std=gnu++17 -I"/home/biocbuild/R/R-4.4.3/include" -DNDEBUG -DROUT -I../inst/include -DBOOST_NO_AUTO_PTR -Wno-pedantic -w -Wfatal-errors -I'/home/biocbuild/R/R-4.4.3/site-library/cpp11/include' -I'/home/biocbuild/R/R-4.4.3/site-library/BH/include' -I'/home/biocbuild/R/R-4.4.3/site-library/RProtoBufLib/include' -I'/home/biocbuild/R/R-4.4.3/site-library/cytolib/include' -I'/home/biocbuild/R/R-4.4.3/site-library/Rhdf5lib/include' -I/usr/local/include -fPIC -g -O2 -Wall -c R_API.cpp -o R_API.o
In file included from /home/biocbuild/R/R-4.4.3/site-library/cytolib/include/cytolib/GatingHierarchy.hpp:21,
from /home/biocbuild/R/R-4.4.3/site-library/cytolib/include/cytolib/GatingSet.hpp:14,
from R_API.cpp:9:
/home/biocbuild/R/R-4.4.3/site-library/cytolib/include/cytolib/CytoFrameView.hpp: In member function ‘std::pair<double, double> cytolib::CytoFrameView::get_range(const std::string&, cytolib::ColType, cytolib::RangeType) const’:
/home/biocbuild/R/R-4.4.3/site-library/cytolib/include/cytolib/CytoFrameView.hpp:260:9: note: parameter passing for argument of type ‘std::pair<double, double>’ when C++17 is enabled changed to match C++14 in GCC 10.1
260 | {
| ^
/opt/ohpc/pub/compiler/gcc/14.2.0/bin/aarch64-unknown-linux-gnu-g++ -std=gnu++17 -I"/home/biocbuild/R/R-4.4.3/include" -DNDEBUG -DROUT -I../inst/include -DBOOST_NO_AUTO_PTR -Wno-pedantic -w -Wfatal-errors -I'/home/biocbuild/R/R-4.4.3/site-library/cpp11/include' -I'/home/biocbuild/R/R-4.4.3/site-library/BH/include' -I'/home/biocbuild/R/R-4.4.3/site-library/RProtoBufLib/include' -I'/home/biocbuild/R/R-4.4.3/site-library/cytolib/include' -I'/home/biocbuild/R/R-4.4.3/site-library/Rhdf5lib/include' -I/usr/local/include -fPIC -g -O2 -Wall -c R_GatingHierarchy.cpp -o R_GatingHierarchy.o
In file included from /home/biocbuild/R/R-4.4.3/site-library/cytolib/include/cytolib/GatingHierarchy.hpp:21,
from /home/biocbuild/R/R-4.4.3/site-library/cytolib/include/cytolib/GatingSet.hpp:14,
from R_GatingHierarchy.cpp:18:
/home/biocbuild/R/R-4.4.3/site-library/cytolib/include/cytolib/CytoFrameView.hpp: In member function ‘std::pair<double, double> cytolib::CytoFrameView::get_range(const std::string&, cytolib::ColType, cytolib::RangeType) const’:
/home/biocbuild/R/R-4.4.3/site-library/cytolib/include/cytolib/CytoFrameView.hpp:260:9: note: parameter passing for argument of type ‘std::pair<double, double>’ when C++17 is enabled changed to match C++14 in GCC 10.1
260 | {
| ^
In file included from /opt/ohpc/pub/compiler/gcc/14.2.0/include/c++/14.2.0/bits/stl_algobase.h:64,
from /opt/ohpc/pub/compiler/gcc/14.2.0/include/c++/14.2.0/bits/specfun.h:43,
from /opt/ohpc/pub/compiler/gcc/14.2.0/include/c++/14.2.0/cmath:3898,
from /home/biocbuild/R/R-4.4.3/site-library/cpp11/include/cpp11/as.hpp:3,
from /home/biocbuild/R/R-4.4.3/site-library/cpp11/include/cpp11.hpp:5,
from R_GatingHierarchy.cpp:16:
/opt/ohpc/pub/compiler/gcc/14.2.0/include/c++/14.2.0/bits/stl_pair.h: In instantiation of ‘constexpr std::pair<typename std::__strip_reference_wrapper<typename std::decay<_Tp>::type>::__type, typename std::__strip_reference_wrapper<typename std::decay<_Tp2>::type>::__type> std::make_pair(_T1&&, _T2&&) [with _T1 = float; _T2 = float; typename __strip_reference_wrapper<typename decay<_Tp>::type>::__type = float; typename decay<_Tp>::type = float; typename __strip_reference_wrapper<typename decay<_Tp2>::type>::__type = float; typename decay<_Tp2>::type = float]’:
R_GatingHierarchy.cpp:824:22: required from here
824 | std::make_pair(static_cast<float>(ranges_input.at(i)),
| ~~~~~~~~~~~~~~^~~~~~~~~~~~~~~~~~~~~~~~~~~~~~~~~~~~~~~~
825 | static_cast<float>(ranges_input.at(i + 1))));
| ~~~~~~~~~~~~~~~~~~~~~~~~~~~~~~~~~~~~~~~~~~~
/opt/ohpc/pub/compiler/gcc/14.2.0/include/c++/14.2.0/bits/stl_pair.h:1132:5: note: parameter passing for argument of type ‘std::pair<float, float>’ when C++17 is enabled changed to match C++14 in GCC 10.1
1132 | make_pair(_T1&& __x, _T2&& __y)
| ^~~~~~~~~
In file included from /home/biocbuild/R/R-4.4.3/site-library/cytolib/include/cytolib/CytoFrameView.hpp:13:
/home/biocbuild/R/R-4.4.3/site-library/cytolib/include/cytolib/H5CytoFrame.hpp: In member function ‘virtual void cytolib::H5CytoFrame::set_range(const std::string&, cytolib::ColType, std::pair<double, double>, bool)’:
/home/biocbuild/R/R-4.4.3/site-library/cytolib/include/cytolib/H5CytoFrame.hpp:204:14: note: parameter passing for argument of type ‘std::pair<double, double>’ when C++17 is enabled changed to match C++14 in GCC 10.1
204 | void set_range(const string & colname, ColType ctype, pair<EVENT_DATA_TYPE, EVENT_DATA_TYPE> new_range, bool is_update_keywords = true){
| ^~~~~~~~~
R_GatingHierarchy.cpp: In function ‘cytolib::gatePtr newGate(cpp11::list)’:
R_GatingHierarchy.cpp:824:29: note: parameter passing for argument of type ‘std::pair<float, float>’ when C++17 is enabled changed to match C++14 in GCC 10.1
824 | std::make_pair(static_cast<float>(ranges_input.at(i)),
| ~~~~~~~~~~~~~~^~~~~~~~~~~~~~~~~~~~~~~~~~~~~~~~~~~~~~~~
825 | static_cast<float>(ranges_input.at(i + 1))));
| ~~~~~~~~~~~~~~~~~~~~~~~~~~~~~~~~~~~~~~~~~~~
/opt/ohpc/pub/compiler/gcc/14.2.0/bin/aarch64-unknown-linux-gnu-g++ -std=gnu++17 -I"/home/biocbuild/R/R-4.4.3/include" -DNDEBUG -DROUT -I../inst/include -DBOOST_NO_AUTO_PTR -Wno-pedantic -w -Wfatal-errors -I'/home/biocbuild/R/R-4.4.3/site-library/cpp11/include' -I'/home/biocbuild/R/R-4.4.3/site-library/BH/include' -I'/home/biocbuild/R/R-4.4.3/site-library/RProtoBufLib/include' -I'/home/biocbuild/R/R-4.4.3/site-library/cytolib/include' -I'/home/biocbuild/R/R-4.4.3/site-library/Rhdf5lib/include' -I/usr/local/include -fPIC -g -O2 -Wall -c R_GatingSet.cpp -o R_GatingSet.o
In file included from flowWorkspace_types.h:7,
from R_GatingSet.cpp:10:
/home/biocbuild/R/R-4.4.3/site-library/cytolib/include/cytolib/CytoFrameView.hpp: In member function ‘std::pair<double, double> cytolib::CytoFrameView::get_range(const std::string&, cytolib::ColType, cytolib::RangeType) const’:
/home/biocbuild/R/R-4.4.3/site-library/cytolib/include/cytolib/CytoFrameView.hpp:260:9: note: parameter passing for argument of type ‘std::pair<double, double>’ when C++17 is enabled changed to match C++14 in GCC 10.1
260 | {
| ^
/opt/ohpc/pub/compiler/gcc/14.2.0/bin/aarch64-unknown-linux-gnu-g++ -std=gnu++17 -I"/home/biocbuild/R/R-4.4.3/include" -DNDEBUG -DROUT -I../inst/include -DBOOST_NO_AUTO_PTR -Wno-pedantic -w -Wfatal-errors -I'/home/biocbuild/R/R-4.4.3/site-library/cpp11/include' -I'/home/biocbuild/R/R-4.4.3/site-library/BH/include' -I'/home/biocbuild/R/R-4.4.3/site-library/RProtoBufLib/include' -I'/home/biocbuild/R/R-4.4.3/site-library/cytolib/include' -I'/home/biocbuild/R/R-4.4.3/site-library/Rhdf5lib/include' -I/usr/local/include -fPIC -g -O2 -Wall -c cpp11.cpp -o cpp11.o
In file included from flowWorkspace_types.h:7,
from cpp11.cpp:4:
/home/biocbuild/R/R-4.4.3/site-library/cytolib/include/cytolib/CytoFrameView.hpp: In member function ‘std::pair<double, double> cytolib::CytoFrameView::get_range(const std::string&, cytolib::ColType, cytolib::RangeType) const’:
/home/biocbuild/R/R-4.4.3/site-library/cytolib/include/cytolib/CytoFrameView.hpp:260:9: note: parameter passing for argument of type ‘std::pair<double, double>’ when C++17 is enabled changed to match C++14 in GCC 10.1
260 | {
| ^
/opt/ohpc/pub/compiler/gcc/14.2.0/bin/aarch64-unknown-linux-gnu-g++ -std=gnu++17 -I"/home/biocbuild/R/R-4.4.3/include" -DNDEBUG -DROUT -I../inst/include -DBOOST_NO_AUTO_PTR -Wno-pedantic -w -Wfatal-errors -I'/home/biocbuild/R/R-4.4.3/site-library/cpp11/include' -I'/home/biocbuild/R/R-4.4.3/site-library/BH/include' -I'/home/biocbuild/R/R-4.4.3/site-library/RProtoBufLib/include' -I'/home/biocbuild/R/R-4.4.3/site-library/cytolib/include' -I'/home/biocbuild/R/R-4.4.3/site-library/Rhdf5lib/include' -I/usr/local/include -fPIC -g -O2 -Wall -c cytoframeAPI.cpp -o cytoframeAPI.o
In file included from cytoframeAPI.cpp:5:
/home/biocbuild/R/R-4.4.3/site-library/cytolib/include/cytolib/CytoFrameView.hpp: In member function ‘std::pair<double, double> cytolib::CytoFrameView::get_range(const std::string&, cytolib::ColType, cytolib::RangeType) const’:
/home/biocbuild/R/R-4.4.3/site-library/cytolib/include/cytolib/CytoFrameView.hpp:260:9: note: parameter passing for argument of type ‘std::pair<double, double>’ when C++17 is enabled changed to match C++14 in GCC 10.1
260 | {
| ^
/opt/ohpc/pub/compiler/gcc/14.2.0/bin/aarch64-unknown-linux-gnu-g++ -std=gnu++17 -I"/home/biocbuild/R/R-4.4.3/include" -DNDEBUG -DROUT -I../inst/include -DBOOST_NO_AUTO_PTR -Wno-pedantic -w -Wfatal-errors -I'/home/biocbuild/R/R-4.4.3/site-library/cpp11/include' -I'/home/biocbuild/R/R-4.4.3/site-library/BH/include' -I'/home/biocbuild/R/R-4.4.3/site-library/RProtoBufLib/include' -I'/home/biocbuild/R/R-4.4.3/site-library/cytolib/include' -I'/home/biocbuild/R/R-4.4.3/site-library/Rhdf5lib/include' -I/usr/local/include -fPIC -g -O2 -Wall -c cytosetAPI.cpp -o cytosetAPI.o
In file included from /home/biocbuild/R/R-4.4.3/site-library/cytolib/include/cytolib/GatingHierarchy.hpp:21,
from /home/biocbuild/R/R-4.4.3/site-library/cytolib/include/cytolib/GatingSet.hpp:14,
from ../inst/include/flowWorkspace/pairVectorCpp11Convert.h:12,
from cytosetAPI.cpp:2:
/home/biocbuild/R/R-4.4.3/site-library/cytolib/include/cytolib/CytoFrameView.hpp: In member function ‘std::pair<double, double> cytolib::CytoFrameView::get_range(const std::string&, cytolib::ColType, cytolib::RangeType) const’:
/home/biocbuild/R/R-4.4.3/site-library/cytolib/include/cytolib/CytoFrameView.hpp:260:9: note: parameter passing for argument of type ‘std::pair<double, double>’ when C++17 is enabled changed to match C++14 in GCC 10.1
260 | {
| ^
/opt/ohpc/pub/compiler/gcc/14.2.0/bin/aarch64-unknown-linux-gnu-g++ -std=gnu++17 -I"/home/biocbuild/R/R-4.4.3/include" -DNDEBUG -DROUT -I../inst/include -DBOOST_NO_AUTO_PTR -Wno-pedantic -w -Wfatal-errors -I'/home/biocbuild/R/R-4.4.3/site-library/cpp11/include' -I'/home/biocbuild/R/R-4.4.3/site-library/BH/include' -I'/home/biocbuild/R/R-4.4.3/site-library/RProtoBufLib/include' -I'/home/biocbuild/R/R-4.4.3/site-library/cytolib/include' -I'/home/biocbuild/R/R-4.4.3/site-library/Rhdf5lib/include' -I/usr/local/include -fPIC -g -O2 -Wall -c getDescendants.cpp -o getDescendants.o
In file included from /home/biocbuild/R/R-4.4.3/site-library/cytolib/include/cytolib/GatingHierarchy.hpp:21,
from /home/biocbuild/R/R-4.4.3/site-library/cytolib/include/cytolib/GatingSet.hpp:14,
from getDescendants.cpp:1:
/home/biocbuild/R/R-4.4.3/site-library/cytolib/include/cytolib/CytoFrameView.hpp: In member function ‘std::pair<double, double> cytolib::CytoFrameView::get_range(const std::string&, cytolib::ColType, cytolib::RangeType) const’:
/home/biocbuild/R/R-4.4.3/site-library/cytolib/include/cytolib/CytoFrameView.hpp:260:9: note: parameter passing for argument of type ‘std::pair<double, double>’ when C++17 is enabled changed to match C++14 in GCC 10.1
260 | {
| ^
/opt/ohpc/pub/compiler/gcc/14.2.0/bin/aarch64-unknown-linux-gnu-g++ -std=gnu++17 -I"/home/biocbuild/R/R-4.4.3/include" -DNDEBUG -DROUT -I../inst/include -DBOOST_NO_AUTO_PTR -Wno-pedantic -w -Wfatal-errors -I'/home/biocbuild/R/R-4.4.3/site-library/cpp11/include' -I'/home/biocbuild/R/R-4.4.3/site-library/BH/include' -I'/home/biocbuild/R/R-4.4.3/site-library/RProtoBufLib/include' -I'/home/biocbuild/R/R-4.4.3/site-library/cytolib/include' -I'/home/biocbuild/R/R-4.4.3/site-library/Rhdf5lib/include' -I/usr/local/include -fPIC -g -O2 -Wall -c getPopStats.cpp -o getPopStats.o
In file included from /home/biocbuild/R/R-4.4.3/site-library/cytolib/include/cytolib/GatingHierarchy.hpp:21,
from /home/biocbuild/R/R-4.4.3/site-library/cytolib/include/cytolib/GatingSet.hpp:14,
from getPopStats.cpp:1:
/home/biocbuild/R/R-4.4.3/site-library/cytolib/include/cytolib/CytoFrameView.hpp: In member function ‘std::pair<double, double> cytolib::CytoFrameView::get_range(const std::string&, cytolib::ColType, cytolib::RangeType) const’:
/home/biocbuild/R/R-4.4.3/site-library/cytolib/include/cytolib/CytoFrameView.hpp:260:9: note: parameter passing for argument of type ‘std::pair<double, double>’ when C++17 is enabled changed to match C++14 in GCC 10.1
260 | {
| ^
/opt/ohpc/pub/compiler/gcc/14.2.0/bin/aarch64-unknown-linux-gnu-g++ -std=gnu++17 -I"/home/biocbuild/R/R-4.4.3/include" -DNDEBUG -DROUT -I../inst/include -DBOOST_NO_AUTO_PTR -Wno-pedantic -w -Wfatal-errors -I'/home/biocbuild/R/R-4.4.3/site-library/cpp11/include' -I'/home/biocbuild/R/R-4.4.3/site-library/BH/include' -I'/home/biocbuild/R/R-4.4.3/site-library/RProtoBufLib/include' -I'/home/biocbuild/R/R-4.4.3/site-library/cytolib/include' -I'/home/biocbuild/R/R-4.4.3/site-library/Rhdf5lib/include' -I/usr/local/include -fPIC -g -O2 -Wall -c getSingleCellExpression.cpp -o getSingleCellExpression.o
In file included from /home/biocbuild/R/R-4.4.3/site-library/cytolib/include/cytolib/GatingHierarchy.hpp:21,
from /home/biocbuild/R/R-4.4.3/site-library/cytolib/include/cytolib/GatingSet.hpp:14,
from getSingleCellExpression.cpp:1:
/home/biocbuild/R/R-4.4.3/site-library/cytolib/include/cytolib/CytoFrameView.hpp: In member function ‘std::pair<double, double> cytolib::CytoFrameView::get_range(const std::string&, cytolib::ColType, cytolib::RangeType) const’:
/home/biocbuild/R/R-4.4.3/site-library/cytolib/include/cytolib/CytoFrameView.hpp:260:9: note: parameter passing for argument of type ‘std::pair<double, double>’ when C++17 is enabled changed to match C++14 in GCC 10.1
260 | {
| ^
/opt/ohpc/pub/compiler/gcc/14.2.0/bin/aarch64-unknown-linux-gnu-g++ -std=gnu++17 -I"/home/biocbuild/R/R-4.4.3/include" -DNDEBUG -DROUT -I../inst/include -DBOOST_NO_AUTO_PTR -Wno-pedantic -w -Wfatal-errors -I'/home/biocbuild/R/R-4.4.3/site-library/cpp11/include' -I'/home/biocbuild/R/R-4.4.3/site-library/BH/include' -I'/home/biocbuild/R/R-4.4.3/site-library/RProtoBufLib/include' -I'/home/biocbuild/R/R-4.4.3/site-library/cytolib/include' -I'/home/biocbuild/R/R-4.4.3/site-library/Rhdf5lib/include' -I/usr/local/include -fPIC -g -O2 -Wall -c h5_error_r_handler.cpp -o h5_error_r_handler.o
In file included from /home/biocbuild/R/R-4.4.3/site-library/cytolib/include/cytolib/GatingHierarchy.hpp:21,
from /home/biocbuild/R/R-4.4.3/site-library/cytolib/include/cytolib/GatingSet.hpp:14,
from ../inst/include/flowWorkspace/pairVectorCpp11Convert.h:12,
from h5_error_r_handler.cpp:8:
/home/biocbuild/R/R-4.4.3/site-library/cytolib/include/cytolib/CytoFrameView.hpp: In member function ‘std::pair<double, double> cytolib::CytoFrameView::get_range(const std::string&, cytolib::ColType, cytolib::RangeType) const’:
/home/biocbuild/R/R-4.4.3/site-library/cytolib/include/cytolib/CytoFrameView.hpp:260:9: note: parameter passing for argument of type ‘std::pair<double, double>’ when C++17 is enabled changed to match C++14 in GCC 10.1
260 | {
| ^
/opt/ohpc/pub/compiler/gcc/14.2.0/bin/aarch64-unknown-linux-gnu-g++ -std=gnu++17 -I"/home/biocbuild/R/R-4.4.3/include" -DNDEBUG -DROUT -I../inst/include -DBOOST_NO_AUTO_PTR -Wno-pedantic -w -Wfatal-errors -I'/home/biocbuild/R/R-4.4.3/site-library/cpp11/include' -I'/home/biocbuild/R/R-4.4.3/site-library/BH/include' -I'/home/biocbuild/R/R-4.4.3/site-library/RProtoBufLib/include' -I'/home/biocbuild/R/R-4.4.3/site-library/cytolib/include' -I'/home/biocbuild/R/R-4.4.3/site-library/Rhdf5lib/include' -I/usr/local/include -fPIC -g -O2 -Wall -c setCounts.cpp -o setCounts.o
In file included from /home/biocbuild/R/R-4.4.3/site-library/cytolib/include/cytolib/GatingHierarchy.hpp:21,
from /home/biocbuild/R/R-4.4.3/site-library/cytolib/include/cytolib/GatingSet.hpp:14,
from setCounts.cpp:1:
/home/biocbuild/R/R-4.4.3/site-library/cytolib/include/cytolib/CytoFrameView.hpp: In member function ‘std::pair<double, double> cytolib::CytoFrameView::get_range(const std::string&, cytolib::ColType, cytolib::RangeType) const’:
/home/biocbuild/R/R-4.4.3/site-library/cytolib/include/cytolib/CytoFrameView.hpp:260:9: note: parameter passing for argument of type ‘std::pair<double, double>’ when C++17 is enabled changed to match C++14 in GCC 10.1
260 | {
| ^
/opt/ohpc/pub/compiler/gcc/14.2.0/bin/aarch64-unknown-linux-gnu-g++ -std=gnu++17 -shared -L/home/biocbuild/R/R-4.4.3/lib -L/usr/local/lib -o flowWorkspace.so R_API.o R_GatingHierarchy.o R_GatingSet.o cpp11.o cytoframeAPI.o cytosetAPI.o getDescendants.o getPopStats.o getSingleCellExpression.o h5_error_r_handler.o setCounts.o /home/biocbuild/R/R-4.4.3/site-library/cytolib/lib/libcytolib.a /home/biocbuild/R/R-4.4.3/site-library/Rhdf5lib/lib/libhdf5_cpp.a /home/biocbuild/R/R-4.4.3/site-library/Rhdf5lib/lib/libhdf5.a -L/home/biocbuild/R/R-4.4.3/site-library/Rhdf5lib/lib -lcrypto -lcurl -lsz -laec -lz -ldl -lm -lopenblas -L/home/biocbuild/R/R-4.4.3/lib -lR
installing to /home/biocbuild/R/R-4.4.3/site-library/00LOCK-flowWorkspace/00new/flowWorkspace/libs
** R
** inst
** byte-compile and prepare package for lazy loading
** help
*** installing help indices
** building package indices
** installing vignettes
** testing if installed package can be loaded from temporary location
** checking absolute paths in shared objects and dynamic libraries
** testing if installed package can be loaded from final location
** testing if installed package keeps a record of temporary installation path
* DONE (flowWorkspace)