Back to Multiple platform build/check report for BioC 3.20:   simplified   long
ABCD[E]FGHIJKLMNOPQRSTUVWXYZ

This page was generated on 2025-01-30 12:11 -0500 (Thu, 30 Jan 2025).

HostnameOSArch (*)R versionInstalled pkgs
nebbiolo2Linux (Ubuntu 24.04.1 LTS)x86_644.4.2 (2024-10-31) -- "Pile of Leaves" 4746
palomino8Windows Server 2022 Datacenterx644.4.2 (2024-10-31 ucrt) -- "Pile of Leaves" 4494
merida1macOS 12.7.5 Montereyx86_644.4.2 (2024-10-31) -- "Pile of Leaves" 4517
kjohnson1macOS 13.6.6 Venturaarm644.4.2 (2024-10-31) -- "Pile of Leaves" 4469
taishanLinux (openEuler 24.03 LTS)aarch644.4.2 (2024-10-31) -- "Pile of Leaves" 4400
Click on any hostname to see more info about the system (e.g. compilers)      (*) as reported by 'uname -p', except on Windows and Mac OS X

Package 690/2289HostnameOS / ArchINSTALLBUILDCHECKBUILD BIN
extraChIPs 1.10.0  (landing page)
Stevie Pederson
Snapshot Date: 2025-01-27 13:00 -0500 (Mon, 27 Jan 2025)
git_url: https://git.bioconductor.org/packages/extraChIPs
git_branch: RELEASE_3_20
git_last_commit: 606c1fb
git_last_commit_date: 2024-10-29 11:11:00 -0500 (Tue, 29 Oct 2024)
nebbiolo2Linux (Ubuntu 24.04.1 LTS) / x86_64  OK    OK    OK  UNNEEDED, same version is already published
palomino8Windows Server 2022 Datacenter / x64  OK    OK    OK    OK  UNNEEDED, same version is already published
merida1macOS 12.7.5 Monterey / x86_64  OK    OK    OK    OK  UNNEEDED, same version is already published
kjohnson1macOS 13.6.6 Ventura / arm64  OK    OK    OK    OK  UNNEEDED, same version is already published
taishanLinux (openEuler 24.03 LTS) / aarch64  OK    OK    OK  


CHECK results for extraChIPs on taishan

To the developers/maintainers of the extraChIPs package:
- Allow up to 24 hours (and sometimes 48 hours) for your latest push to git@git.bioconductor.org:packages/extraChIPs.git to reflect on this report. See Troubleshooting Build Report for more information.
- Use the following Renviron settings to reproduce errors and warnings.
- If 'R CMD check' started to fail recently on the Linux builder(s) over a missing dependency, add the missing dependency to 'Suggests:' in your DESCRIPTION file. See Renviron.bioc for more information.
- See Martin Grigorov's blog post for how to debug Linux ARM64 related issues on a x86_64 host.

raw results


Summary

Package: extraChIPs
Version: 1.10.0
Command: /home/biocbuild/R/R/bin/R CMD check --install=check:extraChIPs.install-out.txt --library=/home/biocbuild/R/R/site-library --no-vignettes --timings extraChIPs_1.10.0.tar.gz
StartedAt: 2025-01-28 07:05:39 -0000 (Tue, 28 Jan 2025)
EndedAt: 2025-01-28 07:15:45 -0000 (Tue, 28 Jan 2025)
EllapsedTime: 605.8 seconds
RetCode: 0
Status:   OK  
CheckDir: extraChIPs.Rcheck
Warnings: 0

Command output

##############################################################################
##############################################################################
###
### Running command:
###
###   /home/biocbuild/R/R/bin/R CMD check --install=check:extraChIPs.install-out.txt --library=/home/biocbuild/R/R/site-library --no-vignettes --timings extraChIPs_1.10.0.tar.gz
###
##############################################################################
##############################################################################


* using log directory ‘/home/biocbuild/bbs-3.20-bioc/meat/extraChIPs.Rcheck’
* using R version 4.4.2 (2024-10-31)
* using platform: aarch64-unknown-linux-gnu
* R was compiled by
    aarch64-unknown-linux-gnu-gcc (GCC) 14.2.0
    GNU Fortran (GCC) 12.3.1 (openEuler 12.3.1-36.oe2403)
* running under: openEuler 24.03 (LTS)
* using session charset: UTF-8
* using option ‘--no-vignettes’
* checking for file ‘extraChIPs/DESCRIPTION’ ... OK
* this is package ‘extraChIPs’ version ‘1.10.0’
* package encoding: UTF-8
* checking package namespace information ... OK
* checking package dependencies ... NOTE
Depends: includes the non-default packages:
  'BiocParallel', 'GenomicRanges', 'ggplot2', 'ggside',
  'SummarizedExperiment', 'tibble'
Adding so many packages to the search path is excessive and importing
selectively is preferable.
* checking if this is a source package ... OK
* checking if there is a namespace ... OK
* checking for hidden files and directories ... NOTE
Found the following hidden files and directories:
  .BBSoptions
These were most likely included in error. See section ‘Package
structure’ in the ‘Writing R Extensions’ manual.
* checking for portable file names ... OK
* checking for sufficient/correct file permissions ... OK
* checking whether package ‘extraChIPs’ can be installed ... OK
* used C compiler: ‘aarch64-unknown-linux-gnu-gcc (GCC) 14.2.0’
* checking installed package size ... OK
* checking package directory ... OK
* checking ‘build’ directory ... OK
* checking DESCRIPTION meta-information ... OK
* checking top-level files ... OK
* checking for left-over files ... OK
* checking index information ... OK
* checking package subdirectories ... OK
* checking code files for non-ASCII characters ... OK
* checking R files for syntax errors ... OK
* checking whether the package can be loaded ... OK
* checking whether the package can be loaded with stated dependencies ... OK
* checking whether the package can be unloaded cleanly ... OK
* checking whether the namespace can be loaded with stated dependencies ... OK
* checking whether the namespace can be unloaded cleanly ... OK
* checking loading without being on the library search path ... OK
* checking dependencies in R code ... OK
* checking S3 generic/method consistency ... OK
* checking replacement functions ... OK
* checking foreign function calls ... OK
* checking R code for possible problems ... OK
* checking Rd files ... OK
* checking Rd metadata ... OK
* checking Rd cross-references ... OK
* checking for missing documentation entries ... OK
* checking for code/documentation mismatches ... OK
* checking Rd \usage sections ... OK
* checking Rd contents ... OK
* checking for unstated dependencies in examples ... OK
* checking contents of ‘data’ directory ... OK
* checking data for non-ASCII characters ... OK
* checking data for ASCII and uncompressed saves ... OK
* checking line endings in C/C++/Fortran sources/headers ... OK
* checking compiled code ... NOTE
Note: information on .o files is not available
* checking files in ‘vignettes’ ... OK
* checking examples ... OK
Examples with CPU (user + system) or elapsed time > 5s
               user system elapsed
defineRegions 5.354  0.016   5.388
* checking for unstated dependencies in ‘tests’ ... OK
* checking tests ...
  Running ‘testthat.R’
 OK
* checking for unstated dependencies in vignettes ... OK
* checking package vignettes ... OK
* checking running R code from vignettes ... SKIPPED
* checking re-building of vignette outputs ... SKIPPED
* checking PDF version of manual ... OK
* DONE

Status: 3 NOTEs
See
  ‘/home/biocbuild/bbs-3.20-bioc/meat/extraChIPs.Rcheck/00check.log’
for details.


Installation output

extraChIPs.Rcheck/00install.out

##############################################################################
##############################################################################
###
### Running command:
###
###   /home/biocbuild/R/R/bin/R CMD INSTALL extraChIPs
###
##############################################################################
##############################################################################


* installing to library ‘/home/biocbuild/R/R-4.4.2/site-library’
* installing *source* package ‘extraChIPs’ ...
** using staged installation
** libs
using C compiler: ‘aarch64-unknown-linux-gnu-gcc (GCC) 14.2.0’
/opt/ohpc/pub/compiler/gcc/14.2.0/bin/aarch64-unknown-linux-gnu-gcc -I"/home/biocbuild/R/R/include" -DNDEBUG   -I/usr/local/include    -fPIC  -g -O2  -Wall -Werror=format-security -c FMStable.c -o FMStable.o
/opt/ohpc/pub/compiler/gcc/14.2.0/bin/aarch64-unknown-linux-gnu-gcc -I"/home/biocbuild/R/R/include" -DNDEBUG   -I/usr/local/include    -fPIC  -g -O2  -Wall -Werror=format-security -c init.c -o init.o
/opt/ohpc/pub/compiler/gcc/14.2.0/bin/aarch64-unknown-linux-gnu-gcc -shared -L/home/biocbuild/R/R/lib -L/usr/local/lib -o extraChIPs.so FMStable.o init.o -L/home/biocbuild/R/R/lib -lR
installing to /home/biocbuild/R/R-4.4.2/site-library/00LOCK-extraChIPs/00new/extraChIPs/libs
** R
** data
** inst
** byte-compile and prepare package for lazy loading
** help
*** installing help indices
*** copying figures
** building package indices
** installing vignettes
** testing if installed package can be loaded from temporary location
** checking absolute paths in shared objects and dynamic libraries
** testing if installed package can be loaded from final location
** testing if installed package keeps a record of temporary installation path
* DONE (extraChIPs)

Tests output

extraChIPs.Rcheck/tests/testthat.Rout


R version 4.4.2 (2024-10-31) -- "Pile of Leaves"
Copyright (C) 2024 The R Foundation for Statistical Computing
Platform: aarch64-unknown-linux-gnu

R is free software and comes with ABSOLUTELY NO WARRANTY.
You are welcome to redistribute it under certain conditions.
Type 'license()' or 'licence()' for distribution details.

R is a collaborative project with many contributors.
Type 'contributors()' for more information and
'citation()' on how to cite R or R packages in publications.

Type 'demo()' for some demos, 'help()' for on-line help, or
'help.start()' for an HTML browser interface to help.
Type 'q()' to quit R.

> library(testthat)
> library(extraChIPs)
Loading required package: BiocParallel
Loading required package: GenomicRanges
Loading required package: stats4
Loading required package: BiocGenerics

Attaching package: 'BiocGenerics'

The following objects are masked from 'package:stats':

    IQR, mad, sd, var, xtabs

The following objects are masked from 'package:base':

    Filter, Find, Map, Position, Reduce, anyDuplicated, aperm, append,
    as.data.frame, basename, cbind, colnames, dirname, do.call,
    duplicated, eval, evalq, get, grep, grepl, intersect, is.unsorted,
    lapply, mapply, match, mget, order, paste, pmax, pmax.int, pmin,
    pmin.int, rank, rbind, rownames, sapply, saveRDS, setdiff, table,
    tapply, union, unique, unsplit, which.max, which.min

Loading required package: S4Vectors

Attaching package: 'S4Vectors'

The following object is masked from 'package:utils':

    findMatches

The following objects are masked from 'package:base':

    I, expand.grid, unname

Loading required package: IRanges
Loading required package: GenomeInfoDb
Loading required package: ggplot2
Loading required package: ggside
Loading required package: SummarizedExperiment
Loading required package: MatrixGenerics
Loading required package: matrixStats

Attaching package: 'MatrixGenerics'

The following objects are masked from 'package:matrixStats':

    colAlls, colAnyNAs, colAnys, colAvgsPerRowSet, colCollapse,
    colCounts, colCummaxs, colCummins, colCumprods, colCumsums,
    colDiffs, colIQRDiffs, colIQRs, colLogSumExps, colMadDiffs,
    colMads, colMaxs, colMeans2, colMedians, colMins, colOrderStats,
    colProds, colQuantiles, colRanges, colRanks, colSdDiffs, colSds,
    colSums2, colTabulates, colVarDiffs, colVars, colWeightedMads,
    colWeightedMeans, colWeightedMedians, colWeightedSds,
    colWeightedVars, rowAlls, rowAnyNAs, rowAnys, rowAvgsPerColSet,
    rowCollapse, rowCounts, rowCummaxs, rowCummins, rowCumprods,
    rowCumsums, rowDiffs, rowIQRDiffs, rowIQRs, rowLogSumExps,
    rowMadDiffs, rowMads, rowMaxs, rowMeans2, rowMedians, rowMins,
    rowOrderStats, rowProds, rowQuantiles, rowRanges, rowRanks,
    rowSdDiffs, rowSds, rowSums2, rowTabulates, rowVarDiffs, rowVars,
    rowWeightedMads, rowWeightedMeans, rowWeightedMedians,
    rowWeightedSds, rowWeightedVars

Loading required package: Biobase
Welcome to Bioconductor

    Vignettes contain introductory material; view with
    'browseVignettes()'. To cite Bioconductor, see
    'citation("Biobase")', and for packages 'citation("pkgname")'.


Attaching package: 'Biobase'

The following object is masked from 'package:MatrixGenerics':

    rowMedians

The following objects are masked from 'package:matrixStats':

    anyMissing, rowMedians

Loading required package: tibble
> 
> test_check("extraChIPs")
Loading required package: Biostrings
Loading required package: XVector

Attaching package: 'Biostrings'

The following object is masked from 'package:base':

    strsplit

Getting coverage across all 1 peaks...done (0.65s)
Finding centres by chromosome...done (0.40s)
Getting coverage across all 1 peaks...done (0.56s)
Finding centres by chromosome...done (0.39s)
Getting coverage across all 1 peaks...done (0.53s)
Finding centres by chromosome...done (0.39s)
Getting coverage across all 1 peaks...done (0.34s)
Finding centres by chromosome...done (0.38s)
Creating DESeqDataSet...
converting counts to integer mode
Calculating none normalisation factors...
Estimating dispersions using fitType = local...
gene-wise dispersion estimates
mean-dispersion relationship
final dispersion estimates
using 'apeglm' for LFC shrinkage. If used in published research, please cite:
    Zhu, A., Ibrahim, J.G., Love, M.I. (2018) Heavy-tailed prior distributions for
    sequence count data: removing the noise and preserving large differences.
    Bioinformatics. https://doi.org/10.1093/bioinformatics/bty895
Creating DGE list...
Calculating experiment-wide normalisation factors...
Estimating dispersions...
Running glmQLFit...
Creating DGE list...
Calculating experiment-wide normalisation factors...
Estimating dispersions...
Running glmQLFit...
[ FAIL 0 | WARN 0 | SKIP 0 | PASS 591 ]
> 
> proc.time()
   user  system elapsed 
112.883   6.610 118.679 

Example timings

extraChIPs.Rcheck/extraChIPs-Ex.timings

nameusersystemelapsed
addDiffStatus-methods0.3070.0400.348
as_tibble1.6150.0401.659
bestOverlap-methods1.3080.1121.424
centrePeaks-methods0.7000.0150.724
chopMC0.2430.0000.244
colToRanges-methods0.3340.0040.339
collapseGenes0.0040.0000.003
cytobands0.0130.0000.014
defineRegions5.3540.0165.388
defineSeqinfo0.0160.0000.016
distinctMC0.5090.0080.518
dualFilter000
ex_datasets0.0170.0030.021
fitAssayDiff-methods0.2890.0080.299
fixed_width_datasets0.0620.0000.063
getProfileData-methods2.1980.0762.295
grlToSE-methods0.6630.0040.669
importPeaks0.1900.0000.192
makeConsensus1.3140.0041.323
mapByFeature0.9140.0000.916
mapGrlCols2.1840.0322.223
mergeByCol-methods0.4210.0000.423
mergeByHMP-methods0.6450.0000.647
mergeBySig-methods0.6450.0040.651
partitionRanges-methods1.5700.0201.596
plotAssayDensities-methods1.2670.0281.300
plotAssayHeatmap-methods0.4880.0040.495
plotAssayPCA-methods1.1170.0081.129
plotAssayRle-methods1.0880.0321.123
plotGrlCol2.0940.0202.120
plotHFGC000
plotOverlaps-methods4.1430.0114.174
plotPairwise4.4720.0244.512
plotPie-methods1.9550.0041.965
plotProfileHeatmap-methods000
plotSplitDonut-methods1.7500.0161.771
propOverlap-methods0.3830.0000.384
reduceMC0.3580.0000.359
setoptsMC-methods1.3370.0041.345
stitchRanges0.3920.0030.396
voomWeightsFromCPM0.2890.0080.301