| Back to Multiple platform build/check report for BioC 3.20: simplified long |
|
This page was generated on 2024-11-20 12:06 -0500 (Wed, 20 Nov 2024).
| Hostname | OS | Arch (*) | R version | Installed pkgs |
|---|---|---|---|---|
| teran2 | Linux (Ubuntu 24.04.1 LTS) | x86_64 | 4.4.2 (2024-10-31) -- "Pile of Leaves" | 4481 |
| nebbiolo2 | Linux (Ubuntu 24.04.1 LTS) | x86_64 | 4.4.2 (2024-10-31) -- "Pile of Leaves" | 4479 |
| palomino8 | Windows Server 2022 Datacenter | x64 | 4.4.2 (2024-10-31 ucrt) -- "Pile of Leaves" | 4359 |
| lconway | macOS 12.7.1 Monterey | x86_64 | 4.4.1 (2024-06-14) -- "Race for Your Life" | 4539 |
| kunpeng2 | Linux (openEuler 22.03 LTS-SP1) | aarch64 | 4.4.1 (2024-06-14) -- "Race for Your Life" | 4493 |
| Click on any hostname to see more info about the system (e.g. compilers) (*) as reported by 'uname -p', except on Windows and Mac OS X | ||||
| Package 651/2289 | Hostname | OS / Arch | INSTALL | BUILD | CHECK | BUILD BIN | ||||||||
| ensembldb 2.30.0 (landing page) Johannes Rainer
| teran2 | Linux (Ubuntu 24.04.1 LTS) / x86_64 | OK | OK | OK | |||||||||
| nebbiolo2 | Linux (Ubuntu 24.04.1 LTS) / x86_64 | OK | OK | OK | ||||||||||
| palomino8 | Windows Server 2022 Datacenter / x64 | OK | OK | OK | OK | |||||||||
| lconway | macOS 12.7.1 Monterey / x86_64 | OK | OK | OK | OK | |||||||||
| kunpeng2 | Linux (openEuler 22.03 LTS-SP1) / aarch64 | OK | OK | OK | ||||||||||
|
To the developers/maintainers of the ensembldb package: - Allow up to 24 hours (and sometimes 48 hours) for your latest push to git@git.bioconductor.org:packages/ensembldb.git to reflect on this report. See Troubleshooting Build Report for more information. - Use the following Renviron settings to reproduce errors and warnings. - If 'R CMD check' started to fail recently on the Linux builder(s) over a missing dependency, add the missing dependency to 'Suggests:' in your DESCRIPTION file. See Renviron.bioc for more information. |
| Package: ensembldb |
| Version: 2.30.0 |
| Command: /Library/Frameworks/R.framework/Resources/bin/R CMD check --install=check:ensembldb.install-out.txt --library=/Library/Frameworks/R.framework/Resources/library --no-vignettes --timings ensembldb_2.30.0.tar.gz |
| StartedAt: 2024-11-19 21:48:03 -0500 (Tue, 19 Nov 2024) |
| EndedAt: 2024-11-19 22:07:36 -0500 (Tue, 19 Nov 2024) |
| EllapsedTime: 1172.6 seconds |
| RetCode: 0 |
| Status: OK |
| CheckDir: ensembldb.Rcheck |
| Warnings: 0 |
##############################################################################
##############################################################################
###
### Running command:
###
### /Library/Frameworks/R.framework/Resources/bin/R CMD check --install=check:ensembldb.install-out.txt --library=/Library/Frameworks/R.framework/Resources/library --no-vignettes --timings ensembldb_2.30.0.tar.gz
###
##############################################################################
##############################################################################
* using log directory ‘/Users/biocbuild/bbs-3.20-bioc/meat/ensembldb.Rcheck’
* using R version 4.4.1 (2024-06-14)
* using platform: x86_64-apple-darwin20
* R was compiled by
Apple clang version 14.0.0 (clang-1400.0.29.202)
GNU Fortran (GCC) 12.2.0
* running under: macOS Monterey 12.7.6
* using session charset: UTF-8
* using option ‘--no-vignettes’
* checking for file ‘ensembldb/DESCRIPTION’ ... OK
* checking extension type ... Package
* this is package ‘ensembldb’ version ‘2.30.0’
* checking package namespace information ... OK
* checking package dependencies ...Warning: unable to access index for repository https://CRAN.R-project.org/src/contrib:
cannot open URL 'https://CRAN.R-project.org/src/contrib/PACKAGES'
OK
* checking if this is a source package ... OK
* checking if there is a namespace ... OK
* checking for hidden files and directories ... OK
* checking for portable file names ... OK
* checking for sufficient/correct file permissions ... OK
* checking whether package ‘ensembldb’ can be installed ... OK
* checking installed package size ... OK
* checking package directory ... OK
* checking ‘build’ directory ... OK
* checking DESCRIPTION meta-information ... OK
* checking top-level files ... OK
* checking for left-over files ... OK
* checking index information ... OK
* checking package subdirectories ... OK
* checking code files for non-ASCII characters ... OK
* checking R files for syntax errors ... OK
* checking whether the package can be loaded ... OK
* checking whether the package can be loaded with stated dependencies ... OK
* checking whether the package can be unloaded cleanly ... OK
* checking whether the namespace can be loaded with stated dependencies ... OK
* checking whether the namespace can be unloaded cleanly ... OK
* checking whether startup messages can be suppressed ... OK
* checking dependencies in R code ... OK
* checking S3 generic/method consistency ... OK
* checking replacement functions ... OK
* checking foreign function calls ... OK
* checking R code for possible problems ... OK
* checking Rd files ... OK
* checking Rd metadata ... OK
* checking Rd cross-references ... OK
* checking for missing documentation entries ... OK
* checking for code/documentation mismatches ... OK
* checking Rd \usage sections ... OK
* checking Rd contents ... OK
* checking for unstated dependencies in examples ... OK
* checking files in ‘vignettes’ ... OK
* checking examples ... OK
Examples with CPU (user + system) or elapsed time > 5s
user system elapsed
transcriptToGenome 25.317 8.345 205.681
cdsToTranscript 20.088 8.762 30.784
genomeToTranscript 16.338 9.291 72.831
transcriptToCds 14.570 6.039 20.753
Filter-classes 2.696 2.419 7.465
transcriptToProtein 3.281 1.619 6.544
* checking for unstated dependencies in ‘tests’ ... OK
* checking tests ...
Running ‘testthat.R’
OK
* checking for unstated dependencies in vignettes ... OK
* checking package vignettes ... OK
* checking running R code from vignettes ... SKIPPED
* checking re-building of vignette outputs ... SKIPPED
* checking PDF version of manual ... OK
* DONE
Status: OK
ensembldb.Rcheck/00install.out
############################################################################## ############################################################################## ### ### Running command: ### ### /Library/Frameworks/R.framework/Resources/bin/R CMD INSTALL ensembldb ### ############################################################################## ############################################################################## * installing to library ‘/Library/Frameworks/R.framework/Versions/4.4-x86_64/Resources/library’ * installing *source* package ‘ensembldb’ ... ** using staged installation ** R ** inst ** byte-compile and prepare package for lazy loading Creating a generic function from function ‘.cds_for_id2’ in package ‘ensembldb’ ** help *** installing help indices ** building package indices ** installing vignettes ** testing if installed package can be loaded from temporary location ** testing if installed package can be loaded from final location ** testing if installed package keeps a record of temporary installation path * DONE (ensembldb)
ensembldb.Rcheck/tests/testthat.Rout
R version 4.4.1 (2024-06-14) -- "Race for Your Life"
Copyright (C) 2024 The R Foundation for Statistical Computing
Platform: x86_64-apple-darwin20
R is free software and comes with ABSOLUTELY NO WARRANTY.
You are welcome to redistribute it under certain conditions.
Type 'license()' or 'licence()' for distribution details.
R is a collaborative project with many contributors.
Type 'contributors()' for more information and
'citation()' on how to cite R or R packages in publications.
Type 'demo()' for some demos, 'help()' for on-line help, or
'help.start()' for an HTML browser interface to help.
Type 'q()' to quit R.
> library(testthat)
> library(ensembldb)
Loading required package: BiocGenerics
Attaching package: 'BiocGenerics'
The following objects are masked from 'package:stats':
IQR, mad, sd, var, xtabs
The following objects are masked from 'package:base':
Filter, Find, Map, Position, Reduce, anyDuplicated, aperm, append,
as.data.frame, basename, cbind, colnames, dirname, do.call,
duplicated, eval, evalq, get, grep, grepl, intersect, is.unsorted,
lapply, mapply, match, mget, order, paste, pmax, pmax.int, pmin,
pmin.int, rank, rbind, rownames, sapply, saveRDS, setdiff, table,
tapply, union, unique, unsplit, which.max, which.min
Loading required package: GenomicRanges
Loading required package: stats4
Loading required package: S4Vectors
Attaching package: 'S4Vectors'
The following object is masked from 'package:utils':
findMatches
The following objects are masked from 'package:base':
I, expand.grid, unname
Loading required package: IRanges
Loading required package: GenomeInfoDb
Loading required package: GenomicFeatures
Loading required package: AnnotationDbi
Loading required package: Biobase
Welcome to Bioconductor
Vignettes contain introductory material; view with
'browseVignettes()'. To cite Bioconductor, see
'citation("Biobase")', and for packages 'citation("pkgname")'.
Loading required package: AnnotationFilter
Attaching package: 'AnnotationFilter'
The following object is masked from 'package:testthat':
not
Attaching package: 'ensembldb'
The following object is masked from 'package:stats':
filter
> library(EnsDb.Hsapiens.v86)
> edb <- EnsDb.Hsapiens.v86
>
> test_check("ensembldb")
Creating package in /tmp/RtmpD6tknh/EnsDb.Hsapiens.v75
Comparing chromosome data:
Sequence names: (180) common, (0) only in x, (0) only in y.
Sequence lengths: (180) identical, (0) different.
Done. Result: OK
Comparing gene data:
gene IDs: (4045) common, (0) only in x, (0) only in y.
Sequence names: (4045) identical, (0) different.
Gene start coordinates: (4045) identical, (0) different.
Gene end coordinates: (4045) identical, (0) different.
Gene strand: (4045) identical, (0) different.
Gene names: (132) identical, (3913) different.
Entrezgene IDs: (4045) identical, (0) different.
Gene biotypes: (4045) identical, (0) different.
Done. Result: WARN
Comparing transcript data:
transcript IDs: (4045) common, (0) only in x, (0) only in y.
Transcript start coordinates: (4045) identical, (0) different.
Transcript end coordinates: (4045) identical, (0) different.
Transcript biotypes: (4045) identical, (0) different.
Common transcripts with defined CDS: (3996) common, (0) only in x, (0) only in y.
CDS start coordinates: (3996) identical, (0) different.
CDS end coordinates: (3996) identical, (0) different.
Associated gene IDs: (4045) identical, (0) different.
Done. Result: OK
Comparing exon data:
exon IDs: (4045) common, (0) only in x, (0) only in y.
Exon start coordinates: (4045) identical, (0) different.
Exon end coordinates: (4045) identical, (0) different.
Exon index in transcript models: (4045) identical, (0) different.
Done. Result: OK
Comparing metadata:
Ensembl versions match.
Genome builds match.
All differences: <name>: <value x> != <value y>
- Creation time : Tue Nov 19 22:02:34 2024 != Tue Nov 19 22:02:28 2024
- source_file : Devosia_geojensis.ASM96941v1.32.gtf.gz != Devosia_geojensis.ASM96941v1.32.gff3.gz
Done. Result: NOTE
Comparing chromosome data:
Sequence names: (180) common, (0) only in x, (0) only in y.
Sequence lengths: (180) identical, (0) different.
Done. Result: OK
Comparing gene data:
gene IDs: (4045) common, (0) only in x, (0) only in y.
Sequence names: (4045) identical, (0) different.
Gene start coordinates: (4045) identical, (0) different.
Gene end coordinates: (4045) identical, (0) different.
Gene strand: (4045) identical, (0) different.
Gene names: (132) identical, (3913) different.
Entrezgene IDs: (4045) identical, (0) different.
Gene biotypes: (4045) identical, (0) different.
Done. Result: WARN
Comparing transcript data:
transcript IDs: (4045) common, (0) only in x, (0) only in y.
Transcript start coordinates: (4045) identical, (0) different.
Transcript end coordinates: (4045) identical, (0) different.
Transcript biotypes: (4045) identical, (0) different.
Common transcripts with defined CDS: (3996) common, (0) only in x, (0) only in y.
CDS start coordinates: (3996) identical, (0) different.
CDS end coordinates: (3996) identical, (0) different.
Associated gene IDs: (4045) identical, (0) different.
Done. Result: OK
Comparing exon data:
exon IDs: (4045) common, (0) only in x, (0) only in y.
Exon start coordinates: (4045) identical, (0) different.
Exon end coordinates: (4045) identical, (0) different.
Exon index in transcript models: (4045) identical, (0) different.
Done. Result: OK
Comparing protein data:
protein IDs: (103725) common, (0) only in x, (0) only in y.
Transcript IDs: (103725) identical, (0) different.
Protein sequence: (103725) identical, (0) different.
Done. Result: OK
[ FAIL 0 | WARN 75 | SKIP 3 | PASS 1632 ]
══ Skipped tests (3) ═══════════════════════════════════════════════════════════
• empty test (3): 'test_Methods.R:129:1', 'test_Methods.R:273:1',
'test_seqLevelStyle.R:40:1'
[ FAIL 0 | WARN 75 | SKIP 3 | PASS 1632 ]
Warning message:
call dbDisconnect() when finished working with a connection
>
> proc.time()
user system elapsed
261.853 60.551 362.036
ensembldb.Rcheck/ensembldb-Ex.timings
| name | user | system | elapsed | |
| EnsDb-AnnotationDbi | 2.161 | 0.658 | 3.305 | |
| EnsDb-class | 0.728 | 0.109 | 0.867 | |
| EnsDb-exonsBy | 2.069 | 0.694 | 3.629 | |
| EnsDb-lengths | 0.860 | 0.112 | 0.988 | |
| EnsDb-seqlevels | 0.048 | 0.016 | 0.065 | |
| EnsDb-sequences | 0.016 | 0.001 | 0.017 | |
| EnsDb-utils | 0.228 | 0.005 | 0.234 | |
| EnsDb | 1.021 | 0.098 | 1.138 | |
| Filter-classes | 2.696 | 2.419 | 7.465 | |
| ProteinFunctionality | 0.063 | 0.017 | 0.081 | |
| cdsToTranscript | 20.088 | 8.762 | 30.784 | |
| convertFilter | 0.024 | 0.001 | 0.025 | |
| genomeToProtein | 3.427 | 0.286 | 3.741 | |
| genomeToTranscript | 16.338 | 9.291 | 72.831 | |
| global-filters | 0.124 | 0.256 | 1.845 | |
| hasProteinData-EnsDb-method | 0.015 | 0.002 | 0.017 | |
| listEnsDbs | 0.000 | 0.001 | 0.000 | |
| makeEnsemblDbPackage | 0.646 | 0.348 | 1.028 | |
| proteinToGenome | 3.753 | 0.637 | 4.446 | |
| proteinToTranscript | 2.137 | 0.426 | 2.603 | |
| transcriptToCds | 14.570 | 6.039 | 20.753 | |
| transcriptToGenome | 25.317 | 8.345 | 205.681 | |
| transcriptToProtein | 3.281 | 1.619 | 6.544 | |
| useMySQL-EnsDb-method | 0.015 | 0.002 | 0.020 | |