| Back to Multiple platform build/check report for BioC 3.20: simplified long |
|
This page was generated on 2025-04-02 19:32 -0400 (Wed, 02 Apr 2025).
| Hostname | OS | Arch (*) | R version | Installed pkgs |
|---|---|---|---|---|
| nebbiolo2 | Linux (Ubuntu 24.04.1 LTS) | x86_64 | 4.4.3 (2025-02-28) -- "Trophy Case" | 4764 |
| palomino8 | Windows Server 2022 Datacenter | x64 | 4.4.3 (2025-02-28 ucrt) -- "Trophy Case" | 4495 |
| merida1 | macOS 12.7.5 Monterey | x86_64 | 4.4.3 (2025-02-28) -- "Trophy Case" | 4522 |
| kjohnson1 | macOS 13.6.6 Ventura | arm64 | 4.4.3 (2025-02-28) -- "Trophy Case" | 4449 |
| taishan | Linux (openEuler 24.03 LTS) | aarch64 | 4.4.3 (2025-02-28) -- "Trophy Case" | 4426 |
| Click on any hostname to see more info about the system (e.g. compilers) (*) as reported by 'uname -p', except on Windows and Mac OS X | ||||
| Package 650/2289 | Hostname | OS / Arch | INSTALL | BUILD | CHECK | BUILD BIN | ||||||||
| enrichViewNet 1.4.0 (landing page) Astrid Deschênes
| nebbiolo2 | Linux (Ubuntu 24.04.1 LTS) / x86_64 | OK | OK | OK | |||||||||
| palomino8 | Windows Server 2022 Datacenter / x64 | OK | OK | OK | OK | |||||||||
| merida1 | macOS 12.7.5 Monterey / x86_64 | OK | OK | OK | OK | |||||||||
| kjohnson1 | macOS 13.6.6 Ventura / arm64 | OK | OK | OK | OK | |||||||||
| taishan | Linux (openEuler 24.03 LTS) / aarch64 | OK | OK | OK | ||||||||||
|
To the developers/maintainers of the enrichViewNet package: - Allow up to 24 hours (and sometimes 48 hours) for your latest push to git@git.bioconductor.org:packages/enrichViewNet.git to reflect on this report. See Troubleshooting Build Report for more information. - Use the following Renviron settings to reproduce errors and warnings. - If 'R CMD check' started to fail recently on the Linux builder(s) over a missing dependency, add the missing dependency to 'Suggests:' in your DESCRIPTION file. See Renviron.bioc for more information. |
| Package: enrichViewNet |
| Version: 1.4.0 |
| Command: /Library/Frameworks/R.framework/Resources/bin/R CMD check --install=check:enrichViewNet.install-out.txt --library=/Library/Frameworks/R.framework/Resources/library --no-vignettes --timings enrichViewNet_1.4.0.tar.gz |
| StartedAt: 2025-04-01 02:36:11 -0400 (Tue, 01 Apr 2025) |
| EndedAt: 2025-04-01 02:42:48 -0400 (Tue, 01 Apr 2025) |
| EllapsedTime: 397.0 seconds |
| RetCode: 0 |
| Status: OK |
| CheckDir: enrichViewNet.Rcheck |
| Warnings: 0 |
##############################################################################
##############################################################################
###
### Running command:
###
### /Library/Frameworks/R.framework/Resources/bin/R CMD check --install=check:enrichViewNet.install-out.txt --library=/Library/Frameworks/R.framework/Resources/library --no-vignettes --timings enrichViewNet_1.4.0.tar.gz
###
##############################################################################
##############################################################################
* using log directory ‘/Users/biocbuild/bbs-3.20-bioc/meat/enrichViewNet.Rcheck’
* using R version 4.4.3 (2025-02-28)
* using platform: x86_64-apple-darwin20
* R was compiled by
Apple clang version 14.0.0 (clang-1400.0.29.202)
GNU Fortran (GCC) 12.2.0
* running under: macOS Monterey 12.7.6
* using session charset: UTF-8
* using option ‘--no-vignettes’
* checking for file ‘enrichViewNet/DESCRIPTION’ ... OK
* checking extension type ... Package
* this is package ‘enrichViewNet’ version ‘1.4.0’
* package encoding: UTF-8
* checking package namespace information ... OK
* checking package dependencies ... OK
* checking if this is a source package ... OK
* checking if there is a namespace ... OK
* checking for hidden files and directories ... OK
* checking for portable file names ... OK
* checking for sufficient/correct file permissions ... OK
* checking whether package ‘enrichViewNet’ can be installed ... OK
* checking installed package size ... OK
* checking package directory ... OK
* checking ‘build’ directory ... OK
* checking DESCRIPTION meta-information ... OK
* checking top-level files ... OK
* checking for left-over files ... OK
* checking index information ... OK
* checking package subdirectories ... OK
* checking code files for non-ASCII characters ... OK
* checking R files for syntax errors ... OK
* checking whether the package can be loaded ... OK
* checking whether the package can be loaded with stated dependencies ... OK
* checking whether the package can be unloaded cleanly ... OK
* checking whether the namespace can be loaded with stated dependencies ... OK
* checking whether the namespace can be unloaded cleanly ... OK
* checking dependencies in R code ... OK
* checking S3 generic/method consistency ... OK
* checking replacement functions ... OK
* checking foreign function calls ... OK
* checking R code for possible problems ... OK
* checking Rd files ... OK
* checking Rd metadata ... OK
* checking Rd cross-references ... OK
* checking for missing documentation entries ... OK
* checking for code/documentation mismatches ... OK
* checking Rd \usage sections ... OK
* checking Rd contents ... OK
* checking for unstated dependencies in examples ... OK
* checking contents of ‘data’ directory ... OK
* checking data for non-ASCII characters ... OK
* checking data for ASCII and uncompressed saves ... OK
* checking files in ‘vignettes’ ... OK
* checking examples ... OK
* checking for unstated dependencies in ‘tests’ ... OK
* checking tests ...
Running ‘testthat.R’
OK
* checking for unstated dependencies in vignettes ... OK
* checking package vignettes ... OK
* checking running R code from vignettes ... SKIPPED
* checking re-building of vignette outputs ... SKIPPED
* checking PDF version of manual ... OK
* DONE
Status: OK
enrichViewNet.Rcheck/00install.out
############################################################################## ############################################################################## ### ### Running command: ### ### /Library/Frameworks/R.framework/Resources/bin/R CMD INSTALL enrichViewNet ### ############################################################################## ############################################################################## * installing to library ‘/Library/Frameworks/R.framework/Versions/4.4-x86_64/Resources/library’ * installing *source* package ‘enrichViewNet’ ... ** using staged installation ** R ** data ** byte-compile and prepare package for lazy loading ** help *** installing help indices ** building package indices ** installing vignettes ** testing if installed package can be loaded from temporary location ** testing if installed package can be loaded from final location ** testing if installed package keeps a record of temporary installation path * DONE (enrichViewNet)
enrichViewNet.Rcheck/tests/testthat.Rout
R version 4.4.3 (2025-02-28) -- "Trophy Case"
Copyright (C) 2025 The R Foundation for Statistical Computing
Platform: x86_64-apple-darwin20
R is free software and comes with ABSOLUTELY NO WARRANTY.
You are welcome to redistribute it under certain conditions.
Type 'license()' or 'licence()' for distribution details.
R is a collaborative project with many contributors.
Type 'contributors()' for more information and
'citation()' on how to cite R or R packages in publications.
Type 'demo()' for some demos, 'help()' for on-line help, or
'help.start()' for an HTML browser interface to help.
Type 'q()' to quit R.
> library(testthat)
> library(enrichViewNet)
>
> ## Run all unit tests
> test_check("enrichViewNet")
[ FAIL 0 | WARN 0 | SKIP 0 | PASS 103 ]
>
> proc.time()
user system elapsed
19.676 1.276 24.171
enrichViewNet.Rcheck/enrichViewNet-Ex.timings
| name | user | system | elapsed | |
| createBasicEmap | 2.298 | 0.125 | 2.781 | |
| createCXJSONForCytoscape | 0.241 | 0.012 | 0.290 | |
| createEnrichMap | 1.181 | 0.021 | 1.264 | |
| createEnrichMapMultiBasic | 1.571 | 0.045 | 1.687 | |
| createEnrichMapMultiComplex | 2.991 | 0.038 | 3.225 | |
| createMetaDataSectionCXJSON | 0.002 | 0.000 | 0.003 | |
| createMultiEmap | 1.937 | 0.166 | 2.200 | |
| createNetwork | 0.110 | 0.019 | 0.142 | |
| createNetworkForCytoscape | 0.070 | 0.008 | 0.080 | |
| demoGOST | 0.068 | 0.013 | 0.831 | |
| extractInformationWhenIntersection | 0.067 | 0.008 | 0.074 | |
| extractInformationWhenNoIntersection | 0.284 | 0.031 | 1.577 | |
| extractNodesAndEdgesInformation | 0.070 | 0.008 | 0.080 | |
| filterResults | 0.004 | 0.007 | 0.011 | |
| formatInformationForCXJSON | 0.081 | 0.009 | 0.093 | |
| isCytoscapeRunning | 0.006 | 0.002 | 0.008 | |
| manageNameDuplicationInEmap | 0.009 | 0.002 | 0.011 | |
| manageQueryDuplicationInEmap | 0.001 | 0.001 | 0.002 | |
| parentalNapaVsDMSODEG | 0.397 | 0.030 | 3.089 | |
| parentalNapaVsDMSOEnrichment | 0.940 | 0.012 | 1.003 | |
| removeRootTerm | 0.010 | 0.007 | 0.017 | |
| rosaNapaVsDMSODEG | 0.239 | 0.012 | 3.459 | |
| rosaNapaVsDMSOEnrichment | 0.826 | 0.011 | 0.864 | |
| validateCreateEnrichMapArguments | 0.003 | 0.006 | 0.011 | |
| validateCreateEnrichMapMultiArguments | 0.015 | 0.011 | 0.027 | |
| validateCreateEnrichMapMultiComplexArg | 0.017 | 0.011 | 0.028 | |
| validateCreateEnrichMapSubSectionArguments | 0.001 | 0.001 | 0.001 | |
| validateCreateNetworkArguments | 0.003 | 0.005 | 0.009 | |