| Back to Multiple platform build/check report for BioC 3.20: simplified long |
|
This page was generated on 2024-11-20 12:07 -0500 (Wed, 20 Nov 2024).
| Hostname | OS | Arch (*) | R version | Installed pkgs |
|---|---|---|---|---|
| teran2 | Linux (Ubuntu 24.04.1 LTS) | x86_64 | 4.4.2 (2024-10-31) -- "Pile of Leaves" | 4481 |
| nebbiolo2 | Linux (Ubuntu 24.04.1 LTS) | x86_64 | 4.4.2 (2024-10-31) -- "Pile of Leaves" | 4479 |
| palomino8 | Windows Server 2022 Datacenter | x64 | 4.4.2 (2024-10-31 ucrt) -- "Pile of Leaves" | 4359 |
| lconway | macOS 12.7.1 Monterey | x86_64 | 4.4.1 (2024-06-14) -- "Race for Your Life" | 4539 |
| kunpeng2 | Linux (openEuler 22.03 LTS-SP1) | aarch64 | 4.4.1 (2024-06-14) -- "Race for Your Life" | 4493 |
| Click on any hostname to see more info about the system (e.g. compilers) (*) as reported by 'uname -p', except on Windows and Mac OS X | ||||
| Package 650/2289 | Hostname | OS / Arch | INSTALL | BUILD | CHECK | BUILD BIN | ||||||||
| enrichViewNet 1.4.0 (landing page) Astrid Deschênes
| teran2 | Linux (Ubuntu 24.04.1 LTS) / x86_64 | OK | OK | OK | |||||||||
| nebbiolo2 | Linux (Ubuntu 24.04.1 LTS) / x86_64 | OK | OK | OK | ||||||||||
| palomino8 | Windows Server 2022 Datacenter / x64 | OK | OK | OK | OK | |||||||||
| lconway | macOS 12.7.1 Monterey / x86_64 | OK | OK | OK | OK | |||||||||
| kunpeng2 | Linux (openEuler 22.03 LTS-SP1) / aarch64 | OK | OK | OK | ||||||||||
|
To the developers/maintainers of the enrichViewNet package: - Allow up to 24 hours (and sometimes 48 hours) for your latest push to git@git.bioconductor.org:packages/enrichViewNet.git to reflect on this report. See Troubleshooting Build Report for more information. - Use the following Renviron settings to reproduce errors and warnings. - If 'R CMD check' started to fail recently on the Linux builder(s) over a missing dependency, add the missing dependency to 'Suggests:' in your DESCRIPTION file. See Renviron.bioc for more information. - See Martin Grigorov's blog post for how to debug Linux ARM64 related issues on a x86_64 host. |
| Package: enrichViewNet |
| Version: 1.4.0 |
| Command: /home/biocbuild/R/R/bin/R CMD check --install=check:enrichViewNet.install-out.txt --library=/home/biocbuild/R/R/site-library --no-vignettes --timings enrichViewNet_1.4.0.tar.gz |
| StartedAt: 2024-11-20 07:33:50 -0000 (Wed, 20 Nov 2024) |
| EndedAt: 2024-11-20 07:37:59 -0000 (Wed, 20 Nov 2024) |
| EllapsedTime: 249.4 seconds |
| RetCode: 0 |
| Status: OK |
| CheckDir: enrichViewNet.Rcheck |
| Warnings: 0 |
##############################################################################
##############################################################################
###
### Running command:
###
### /home/biocbuild/R/R/bin/R CMD check --install=check:enrichViewNet.install-out.txt --library=/home/biocbuild/R/R/site-library --no-vignettes --timings enrichViewNet_1.4.0.tar.gz
###
##############################################################################
##############################################################################
* using log directory ‘/home/biocbuild/bbs-3.20-bioc/meat/enrichViewNet.Rcheck’
* using R version 4.4.1 (2024-06-14)
* using platform: aarch64-unknown-linux-gnu
* R was compiled by
gcc (GCC) 12.2.1 20220819 (openEuler 12.2.1-14)
GNU Fortran (GCC) 10.3.1
* running under: openEuler 22.03 (LTS-SP1)
* using session charset: UTF-8
* using option ‘--no-vignettes’
* checking for file ‘enrichViewNet/DESCRIPTION’ ... OK
* checking extension type ... Package
* this is package ‘enrichViewNet’ version ‘1.4.0’
* package encoding: UTF-8
* checking package namespace information ... OK
* checking package dependencies ... OK
* checking if this is a source package ... OK
* checking if there is a namespace ... OK
* checking for hidden files and directories ... OK
* checking for portable file names ... OK
* checking for sufficient/correct file permissions ... OK
* checking whether package ‘enrichViewNet’ can be installed ... OK
* checking installed package size ... OK
* checking package directory ... OK
* checking ‘build’ directory ... OK
* checking DESCRIPTION meta-information ... OK
* checking top-level files ... OK
* checking for left-over files ... OK
* checking index information ... OK
* checking package subdirectories ... OK
* checking code files for non-ASCII characters ... OK
* checking R files for syntax errors ... OK
* checking whether the package can be loaded ... OK
* checking whether the package can be loaded with stated dependencies ... OK
* checking whether the package can be unloaded cleanly ... OK
* checking whether the namespace can be loaded with stated dependencies ... OK
* checking whether the namespace can be unloaded cleanly ... OK
* checking loading without being on the library search path ... OK
* checking dependencies in R code ... OK
* checking S3 generic/method consistency ... OK
* checking replacement functions ... OK
* checking foreign function calls ... OK
* checking R code for possible problems ... OK
* checking Rd files ... OK
* checking Rd metadata ... OK
* checking Rd cross-references ... OK
* checking for missing documentation entries ... OK
* checking for code/documentation mismatches ... OK
* checking Rd \usage sections ... OK
* checking Rd contents ... OK
* checking for unstated dependencies in examples ... OK
* checking contents of ‘data’ directory ... OK
* checking data for non-ASCII characters ... OK
* checking data for ASCII and uncompressed saves ... OK
* checking files in ‘vignettes’ ... OK
* checking examples ... OK
* checking for unstated dependencies in ‘tests’ ... OK
* checking tests ...
Running ‘testthat.R’
OK
* checking for unstated dependencies in vignettes ... OK
* checking package vignettes ... OK
* checking running R code from vignettes ... SKIPPED
* checking re-building of vignette outputs ... SKIPPED
* checking PDF version of manual ... OK
* DONE
Status: OK
enrichViewNet.Rcheck/00install.out
############################################################################## ############################################################################## ### ### Running command: ### ### /home/biocbuild/R/R/bin/R CMD INSTALL enrichViewNet ### ############################################################################## ############################################################################## * installing to library ‘/home/biocbuild/R/R-4.4.1/site-library’ * installing *source* package ‘enrichViewNet’ ... ** using staged installation ** R ** data ** byte-compile and prepare package for lazy loading ** help *** installing help indices ** building package indices ** installing vignettes ** testing if installed package can be loaded from temporary location ** testing if installed package can be loaded from final location ** testing if installed package keeps a record of temporary installation path * DONE (enrichViewNet)
enrichViewNet.Rcheck/tests/testthat.Rout
R version 4.4.1 (2024-06-14) -- "Race for Your Life"
Copyright (C) 2024 The R Foundation for Statistical Computing
Platform: aarch64-unknown-linux-gnu
R is free software and comes with ABSOLUTELY NO WARRANTY.
You are welcome to redistribute it under certain conditions.
Type 'license()' or 'licence()' for distribution details.
R is a collaborative project with many contributors.
Type 'contributors()' for more information and
'citation()' on how to cite R or R packages in publications.
Type 'demo()' for some demos, 'help()' for on-line help, or
'help.start()' for an HTML browser interface to help.
Type 'q()' to quit R.
> library(testthat)
> library(enrichViewNet)
>
> ## Run all unit tests
> test_check("enrichViewNet")
[ FAIL 0 | WARN 0 | SKIP 0 | PASS 103 ]
>
> proc.time()
user system elapsed
11.927 0.395 17.362
enrichViewNet.Rcheck/enrichViewNet-Ex.timings
| name | user | system | elapsed | |
| createBasicEmap | 1.424 | 0.051 | 1.479 | |
| createCXJSONForCytoscape | 0.127 | 0.004 | 0.131 | |
| createEnrichMap | 0.669 | 0.005 | 0.675 | |
| createEnrichMapMultiBasic | 0.852 | 0.004 | 0.863 | |
| createEnrichMapMultiComplex | 1.961 | 0.060 | 2.025 | |
| createMetaDataSectionCXJSON | 0.002 | 0.000 | 0.001 | |
| createMultiEmap | 1.089 | 0.019 | 1.111 | |
| createNetwork | 0.056 | 0.004 | 0.060 | |
| createNetworkForCytoscape | 0.032 | 0.004 | 0.036 | |
| demoGOST | 0.039 | 0.005 | 1.949 | |
| extractInformationWhenIntersection | 0.035 | 0.000 | 0.035 | |
| extractInformationWhenNoIntersection | 0.213 | 0.004 | 4.020 | |
| extractNodesAndEdgesInformation | 0.035 | 0.000 | 0.035 | |
| filterResults | 0.000 | 0.003 | 0.003 | |
| formatInformationForCXJSON | 0.045 | 0.000 | 0.045 | |
| isCytoscapeRunning | 0.003 | 0.000 | 0.003 | |
| manageNameDuplicationInEmap | 0.004 | 0.000 | 0.004 | |
| manageQueryDuplicationInEmap | 0 | 0 | 0 | |
| parentalNapaVsDMSODEG | 0.255 | 0.028 | 3.589 | |
| parentalNapaVsDMSOEnrichment | 0.556 | 0.023 | 0.581 | |
| removeRootTerm | 0.006 | 0.001 | 0.006 | |
| rosaNapaVsDMSODEG | 0.148 | 0.007 | 4.374 | |
| rosaNapaVsDMSOEnrichment | 0.457 | 0.015 | 0.486 | |
| validateCreateEnrichMapArguments | 0.002 | 0.000 | 0.003 | |
| validateCreateEnrichMapMultiArguments | 0.007 | 0.003 | 0.010 | |
| validateCreateEnrichMapMultiComplexArg | 0.007 | 0.004 | 0.011 | |
| validateCreateEnrichMapSubSectionArguments | 0 | 0 | 0 | |
| validateCreateNetworkArguments | 0.002 | 0.000 | 0.003 | |