| Back to Multiple platform build/check report for BioC 3.20: simplified long |
|
This page was generated on 2024-11-09 21:30 -0500 (Sat, 09 Nov 2024).
| Hostname | OS | Arch (*) | R version | Installed pkgs |
|---|---|---|---|---|
| teran2 | Linux (Ubuntu 24.04.1 LTS) | x86_64 | 4.4.1 (2024-06-14) -- "Race for Your Life" | 4505 |
| palomino8 | Windows Server 2022 Datacenter | x64 | 4.4.1 (2024-06-14 ucrt) -- "Race for Your Life" | 4506 |
| lconway | macOS 12.7.1 Monterey | x86_64 | 4.4.1 (2024-06-14) -- "Race for Your Life" | 4538 |
| kjohnson3 | macOS 13.6.5 Ventura | arm64 | 4.4.1 (2024-06-14) -- "Race for Your Life" | 4486 |
| kunpeng2 | Linux (openEuler 22.03 LTS-SP1) | aarch64 | 4.4.1 (2024-06-14) -- "Race for Your Life" | 4493 |
| Click on any hostname to see more info about the system (e.g. compilers) (*) as reported by 'uname -p', except on Windows and Mac OS X | ||||
| Package 623/2289 | Hostname | OS / Arch | INSTALL | BUILD | CHECK | BUILD BIN | ||||||||
| easyRNASeq 2.42.0 (landing page) Nicolas Delhomme
| teran2 | Linux (Ubuntu 24.04.1 LTS) / x86_64 | OK | OK | OK | |||||||||
| palomino8 | Windows Server 2022 Datacenter / x64 | OK | OK | OK | OK | |||||||||
| lconway | macOS 12.7.1 Monterey / x86_64 | OK | OK | OK | OK | |||||||||
| kjohnson3 | macOS 13.6.5 Ventura / arm64 | OK | OK | OK | OK | |||||||||
| kunpeng2 | Linux (openEuler 22.03 LTS-SP1) / aarch64 | OK | OK | OK | ||||||||||
|
To the developers/maintainers of the easyRNASeq package: - Allow up to 24 hours (and sometimes 48 hours) for your latest push to git@git.bioconductor.org:packages/easyRNASeq.git to reflect on this report. See Troubleshooting Build Report for more information. - Use the following Renviron settings to reproduce errors and warnings. - If 'R CMD check' started to fail recently on the Linux builder(s) over a missing dependency, add the missing dependency to 'Suggests:' in your DESCRIPTION file. See Renviron.bioc for more information. |
| Package: easyRNASeq |
| Version: 2.42.0 |
| Command: /Library/Frameworks/R.framework/Resources/bin/R CMD check --install=check:easyRNASeq.install-out.txt --library=/Library/Frameworks/R.framework/Resources/library --no-vignettes --timings easyRNASeq_2.42.0.tar.gz |
| StartedAt: 2024-11-09 01:26:24 -0500 (Sat, 09 Nov 2024) |
| EndedAt: 2024-11-09 01:33:53 -0500 (Sat, 09 Nov 2024) |
| EllapsedTime: 448.3 seconds |
| RetCode: 0 |
| Status: OK |
| CheckDir: easyRNASeq.Rcheck |
| Warnings: 0 |
##############################################################################
##############################################################################
###
### Running command:
###
### /Library/Frameworks/R.framework/Resources/bin/R CMD check --install=check:easyRNASeq.install-out.txt --library=/Library/Frameworks/R.framework/Resources/library --no-vignettes --timings easyRNASeq_2.42.0.tar.gz
###
##############################################################################
##############################################################################
* using log directory ‘/Users/biocbuild/bbs-3.20-bioc/meat/easyRNASeq.Rcheck’
* using R version 4.4.1 (2024-06-14)
* using platform: aarch64-apple-darwin20
* R was compiled by
Apple clang version 14.0.0 (clang-1400.0.29.202)
GNU Fortran (GCC) 12.2.0
* running under: macOS Ventura 13.6.7
* using session charset: UTF-8
* using option ‘--no-vignettes’
* checking for file ‘easyRNASeq/DESCRIPTION’ ... OK
* checking extension type ... Package
* this is package ‘easyRNASeq’ version ‘2.42.0’
* package encoding: UTF-8
* checking package namespace information ... OK
* checking package dependencies ...Warning: unable to access index for repository https://CRAN.R-project.org/src/contrib:
cannot open URL 'https://CRAN.R-project.org/src/contrib/PACKAGES'
NOTE
Files named as vignettes but with no recognized vignette engine:
‘inst/doc/01-Introduction.Rmd’
‘inst/doc/02-AnnotParam.Rmd’
‘inst/doc/03-SyntheticTranscripts.Rmd’
‘inst/doc/04-BamParam.Rmd’
‘inst/doc/05-RnaSeqParam.Rmd’
‘inst/doc/06-simpleRNASeq.Rmd’
‘inst/doc/07-cleanUp.Rmd’
‘inst/doc/08-Session-Info.Rmd’
‘inst/doc/09-Acknowledgments.Rmd’
‘inst/doc/10-Foonotes.Rmd’
‘inst/doc/11-Images.Rmd’
‘inst/doc/12-Appendix.Rmd’
(Is a VignetteBuilder field missing?)
* checking if this is a source package ... OK
* checking if there is a namespace ... OK
* checking for hidden files and directories ... OK
* checking for portable file names ... OK
* checking for sufficient/correct file permissions ... OK
* checking whether package ‘easyRNASeq’ can be installed ... OK
* checking installed package size ... OK
* checking package directory ... OK
* checking ‘build’ directory ... OK
* checking DESCRIPTION meta-information ... OK
* checking top-level files ... OK
* checking for left-over files ... OK
* checking index information ... OK
* checking package subdirectories ... OK
* checking code files for non-ASCII characters ... OK
* checking R files for syntax errors ... OK
* checking whether the package can be loaded ... OK
* checking whether the package can be loaded with stated dependencies ... OK
* checking whether the package can be unloaded cleanly ... OK
* checking whether the namespace can be loaded with stated dependencies ... OK
* checking whether the namespace can be unloaded cleanly ... OK
* checking whether startup messages can be suppressed ... OK
* checking dependencies in R code ... OK
* checking S3 generic/method consistency ... OK
* checking replacement functions ... OK
* checking foreign function calls ... OK
* checking R code for possible problems ... OK
* checking Rd files ... NOTE
checkRd: (-1) easyRNASeq-AnnotParam.Rd:40-43: Lost braces in \itemize; meant \describe ?
checkRd: (-1) easyRNASeq-AnnotParam.Rd:44-51: Lost braces in \itemize; meant \describe ?
checkRd: (-1) easyRNASeq-RnaSeqParam-class.Rd:14: Lost braces in \itemize; meant \describe ?
checkRd: (-1) easyRNASeq-RnaSeqParam-class.Rd:15: Lost braces in \itemize; meant \describe ?
checkRd: (-1) easyRNASeq-annotation-methods.Rd:25: Lost braces in \itemize; meant \describe ?
checkRd: (-1) easyRNASeq-annotation-methods.Rd:26: Lost braces in \itemize; meant \describe ?
checkRd: (-1) easyRNASeq-correction-methods.Rd:48-50: Lost braces in \itemize; meant \describe ?
checkRd: (-1) easyRNASeq-correction-methods.Rd:51-54: Lost braces in \itemize; meant \describe ?
checkRd: (-1) easyRNASeq-datasets.Rd:11-21: Lost braces in \itemize; meant \describe ?
checkRd: (-1) easyRNASeq-internal-AnnotParam-methods.Rd:25: Lost braces
25 | These are \code{\linkS4class{AnnotParam}}{AnnotParam} class internal methods:
| ^
checkRd: (-1) easyRNASeq-package.Rd:109-112: Lost braces in \itemize; meant \describe ?
checkRd: (-1) easyRNASeq-package.Rd:113-121: Lost braces in \itemize; meant \describe ?
* checking Rd metadata ... OK
* checking Rd cross-references ... OK
* checking for missing documentation entries ... OK
* checking for code/documentation mismatches ... OK
* checking Rd \usage sections ... NOTE
Documented arguments not in \usage in Rd file 'easyRNASeq-annotation-internal-methods.Rd':
‘annotation.type’ ‘fields’ ‘filename’ ‘format’ ‘gAnnot’ ‘nbCore’
Documented arguments not in \usage in Rd file 'easyRNASeq-internal-AnnotParam-methods.Rd':
‘...’
Documented arguments not in \usage in Rd file 'easyRNASeq-internal-methods.Rd':
‘arg’ ‘chr.names’ ‘fun’ ‘organism’ ‘type’ ‘value’ ‘x’ ‘...’
Documented arguments not in \usage in Rd file 'easyRNASeq-summarization-internal-methods.Rd':
‘chr.map’ ‘chr.sel’ ‘cList’ ‘count’ ‘filename’ ‘filter’ ‘format’
‘gapped’ ‘min.cov’ ‘min.length’ ‘max.gap’ ‘plot’ ‘rnaSeq’
‘summarization’ ‘silent’ ‘subType’ ‘type’ ‘validity.check’ ‘values’
‘...’
Functions with \usage entries need to have the appropriate \alias
entries, and all their arguments documented.
The \usage entries must correspond to syntactically valid R code.
See chapter ‘Writing R documentation files’ in the ‘Writing R
Extensions’ manual.
* checking Rd contents ... OK
* checking for unstated dependencies in examples ... OK
* checking contents of ‘data’ directory ... OK
* checking data for non-ASCII characters ... OK
* checking data for ASCII and uncompressed saves ... OK
* checking line endings in Makefiles ... OK
* checking for GNU extensions in Makefiles ... OK
* checking include directives in Makefiles ... OK
* checking sizes of PDF files under ‘inst/doc’ ... OK
* checking files in ‘vignettes’ ... OK
* checking examples ... OK
Examples with CPU (user + system) or elapsed time > 5s
user system elapsed
easyRNASeq-simpleRNASeq 36.083 0.477 37.702
easyRNASeq-package 22.805 0.458 24.402
easyRNASeq-synthetic-transcripts 18.369 0.169 18.859
BiocFileCache-methods 2.545 0.298 13.830
* checking for unstated dependencies in ‘tests’ ... OK
* checking tests ...
Running ‘runTests.R’
OK
* checking for unstated dependencies in vignettes ... OK
* checking package vignettes ... OK
* checking running R code from vignettes ... SKIPPED
* checking re-building of vignette outputs ... SKIPPED
* checking PDF version of manual ... OK
* DONE
Status: 3 NOTEs
See
‘/Users/biocbuild/bbs-3.20-bioc/meat/easyRNASeq.Rcheck/00check.log’
for details.
easyRNASeq.Rcheck/00install.out
############################################################################## ############################################################################## ### ### Running command: ### ### /Library/Frameworks/R.framework/Resources/bin/R CMD INSTALL easyRNASeq ### ############################################################################## ############################################################################## * installing to library ‘/Library/Frameworks/R.framework/Versions/4.4-arm64/Resources/library’ * installing *source* package ‘easyRNASeq’ ... ** using staged installation ** R ** data ** inst ** byte-compile and prepare package for lazy loading Creating a generic function for ‘basename’ from package ‘base’ in package ‘easyRNASeq’ Creating a generic function for ‘file.exists’ from package ‘base’ in package ‘easyRNASeq’ ** help *** installing help indices ** building package indices ** installing vignettes ** testing if installed package can be loaded from temporary location ** testing if installed package can be loaded from final location ** testing if installed package keeps a record of temporary installation path * DONE (easyRNASeq)
easyRNASeq.Rcheck/tests/runTests.Rout
R version 4.4.1 (2024-06-14) -- "Race for Your Life"
Copyright (C) 2024 The R Foundation for Statistical Computing
Platform: aarch64-apple-darwin20
R is free software and comes with ABSOLUTELY NO WARRANTY.
You are welcome to redistribute it under certain conditions.
Type 'license()' or 'licence()' for distribution details.
R is a collaborative project with many contributors.
Type 'contributors()' for more information and
'citation()' on how to cite R or R packages in publications.
Type 'demo()' for some demos, 'help()' for on-line help, or
'help.start()' for an HTML browser interface to help.
Type 'q()' to quit R.
> # get the example data
> library(easyRNASeq)
> tutorialData()
[1] "/Users/biocbuild/Library/Caches/easyRNASeq"
>
> # set the env.var
> #TUTORIAL.DATA <- get("TUTORIAL.DATA",envir=as.environment("package:easyRNASeq"))
>
> # run the tests
> BiocGenerics:::testPackage("easyRNASeq")
Loading required package: GenomicRanges
Loading required package: stats4
Loading required package: BiocGenerics
Attaching package: 'BiocGenerics'
The following object is masked from 'package:easyRNASeq':
basename
The following objects are masked from 'package:stats':
IQR, mad, sd, var, xtabs
The following objects are masked from 'package:base':
Filter, Find, Map, Position, Reduce, anyDuplicated, aperm, append,
as.data.frame, basename, cbind, colnames, dirname, do.call,
duplicated, eval, evalq, get, grep, grepl, intersect, is.unsorted,
lapply, mapply, match, mget, order, paste, pmax, pmax.int, pmin,
pmin.int, rank, rbind, rownames, sapply, saveRDS, setdiff, table,
tapply, union, unique, unsplit, which.max, which.min
Loading required package: S4Vectors
Attaching package: 'S4Vectors'
The following object is masked from 'package:utils':
findMatches
The following objects are masked from 'package:base':
I, expand.grid, unname
Loading required package: IRanges
Loading required package: GenomeInfoDb
No validation performed at that stage
Validated a datasource of type biomaRt
No validation performed at that stage
Validated a datasource of type rda
Read 1000 records
Validated a datasource of type gtf
Read 999 records
Validated a datasource of type gff3
RUNIT TEST PROTOCOL -- Sat Nov 9 01:33:50 2024
***********************************************
Number of test functions: 20
Number of errors: 0
Number of failures: 0
1 Test Suite :
easyRNASeq RUnit Tests - 20 test functions, 0 errors, 0 failures
Number of test functions: 20
Number of errors: 0
Number of failures: 0
Warning messages:
1: In FUN(X[[i]], ...) :
Bam file: 178b815783bc9_TTGCGA.bam is considered unstranded.
2: In FUN(X[[i]], ...) :
Bam file: 178b815783bc9_TTGCGA.bam Strandedness could not be determined using 19659 regions spanning 1381886 bp on either strand at a 90% cutoff; 73.37 percent appear to be stranded.
3: In FUN(X[[i]], ...) :
Bam file: 178b85f760f3b_ATGGCT.bam is considered unstranded.
4: In FUN(X[[i]], ...) :
Bam file: 178b85f760f3b_ATGGCT.bam Strandedness could not be determined using 18462 regions spanning 1280337 bp on either strand at a 90% cutoff; 74.26 percent appear to be stranded.
5: In FUN(X[[i]], ...) :
Bam file: 178b8633c44db_ACTAGC.bam is considered unstranded.
6: In FUN(X[[i]], ...) :
Bam file: 178b8633c44db_ACTAGC.bam Strandedness could not be determined using 14772 regions spanning 1023473 bp on either strand at a 90% cutoff; 76.6 percent appear to be stranded.
7: In FUN(X[[i]], ...) :
Bam file: 178b86ed40b9c_ACACTG.bam is considered unstranded.
8: In FUN(X[[i]], ...) :
Bam file: 178b86ed40b9c_ACACTG.bam Strandedness could not be determined using 18615 regions spanning 1300192 bp on either strand at a 90% cutoff; 73.67 percent appear to be stranded.
9: In simpleRNASeq(bamFiles = bamFiles, param = param, verbose = FALSE) :
As of version 2.15.5, easyRNASeq assumes that, if the data is strand specific, the sequencing was done using a protocol such as the Illumina TruSeq, where the reverse strand is quantified - i.e. the strandProtocol argument of the BamParam class defaults to 'reverse'.
>
> # cleanup
> # removebfc(easyRNASeq:::.get_cache(),ask=FALSE)
>
> proc.time()
user system elapsed
24.115 0.744 33.906
easyRNASeq.Rcheck/easyRNASeq-Ex.timings
| name | user | system | elapsed | |
| BiocFileCache-methods | 2.545 | 0.298 | 13.830 | |
| GenomicRanges-methods | 0.085 | 0.006 | 0.090 | |
| IRanges-methods | 0 | 0 | 0 | |
| Rsamtools-methods | 1.294 | 0.139 | 2.469 | |
| ShortRead-methods | 0 | 0 | 0 | |
| easyRNASeq-AnnotParam-accessors | 0.118 | 0.011 | 0.203 | |
| easyRNASeq-AnnotParam-class | 0.001 | 0.000 | 0.000 | |
| easyRNASeq-AnnotParam | 0.092 | 0.009 | 0.169 | |
| easyRNASeq-BamFileList | 1.559 | 0.160 | 3.030 | |
| easyRNASeq-BamParam-accessors | 0.001 | 0.000 | 0.000 | |
| easyRNASeq-BamParam-class | 0.000 | 0.000 | 0.001 | |
| easyRNASeq-BamParam | 0.001 | 0.000 | 0.000 | |
| easyRNASeq-RnaSeqParam-accessors | 0.000 | 0.000 | 0.001 | |
| easyRNASeq-RnaSeqParam-class | 0.001 | 0.000 | 0.001 | |
| easyRNASeq-RnaSeqParam | 0.000 | 0.000 | 0.001 | |
| easyRNASeq-accessors | 0.001 | 0.000 | 0.000 | |
| easyRNASeq-annotation-methods | 0 | 0 | 0 | |
| easyRNASeq-class | 0.000 | 0.000 | 0.001 | |
| easyRNASeq-correction-methods | 0 | 0 | 0 | |
| easyRNASeq-coverage-methods | 0 | 0 | 0 | |
| easyRNASeq-easyRNASeq | 0 | 0 | 0 | |
| easyRNASeq-island-methods | 0 | 0 | 0 | |
| easyRNASeq-package | 22.805 | 0.458 | 24.402 | |
| easyRNASeq-simpleRNASeq | 36.083 | 0.477 | 37.702 | |
| easyRNASeq-summarization-methods | 0.000 | 0.000 | 0.001 | |
| easyRNASeq-synthetic-transcripts | 18.369 | 0.169 | 18.859 | |
| edgeR-methods | 0 | 0 | 0 | |
| genomeIntervals-methods | 0.488 | 0.235 | 1.132 | |
| parallel-methods | 0 | 0 | 0 | |