| Back to Multiple platform build/check report for BioC 3.20: simplified long |
|
This page was generated on 2024-11-20 12:07 -0500 (Wed, 20 Nov 2024).
| Hostname | OS | Arch (*) | R version | Installed pkgs |
|---|---|---|---|---|
| teran2 | Linux (Ubuntu 24.04.1 LTS) | x86_64 | 4.4.2 (2024-10-31) -- "Pile of Leaves" | 4481 |
| nebbiolo2 | Linux (Ubuntu 24.04.1 LTS) | x86_64 | 4.4.2 (2024-10-31) -- "Pile of Leaves" | 4479 |
| palomino8 | Windows Server 2022 Datacenter | x64 | 4.4.2 (2024-10-31 ucrt) -- "Pile of Leaves" | 4359 |
| lconway | macOS 12.7.1 Monterey | x86_64 | 4.4.1 (2024-06-14) -- "Race for Your Life" | 4539 |
| kunpeng2 | Linux (openEuler 22.03 LTS-SP1) | aarch64 | 4.4.1 (2024-06-14) -- "Race for Your Life" | 4493 |
| Click on any hostname to see more info about the system (e.g. compilers) (*) as reported by 'uname -p', except on Windows and Mac OS X | ||||
| Package 583/2289 | Hostname | OS / Arch | INSTALL | BUILD | CHECK | BUILD BIN | ||||||||
| dittoSeq 1.18.0 (landing page) Daniel Bunis
| teran2 | Linux (Ubuntu 24.04.1 LTS) / x86_64 | OK | OK | OK | |||||||||
| nebbiolo2 | Linux (Ubuntu 24.04.1 LTS) / x86_64 | OK | OK | OK | ||||||||||
| palomino8 | Windows Server 2022 Datacenter / x64 | OK | OK | OK | OK | |||||||||
| lconway | macOS 12.7.1 Monterey / x86_64 | OK | OK | OK | OK | |||||||||
| kunpeng2 | Linux (openEuler 22.03 LTS-SP1) / aarch64 | OK | OK | OK | ||||||||||
|
To the developers/maintainers of the dittoSeq package: - Allow up to 24 hours (and sometimes 48 hours) for your latest push to git@git.bioconductor.org:packages/dittoSeq.git to reflect on this report. See Troubleshooting Build Report for more information. - Use the following Renviron settings to reproduce errors and warnings. - If 'R CMD check' started to fail recently on the Linux builder(s) over a missing dependency, add the missing dependency to 'Suggests:' in your DESCRIPTION file. See Renviron.bioc for more information. - See Martin Grigorov's blog post for how to debug Linux ARM64 related issues on a x86_64 host. |
| Package: dittoSeq |
| Version: 1.18.0 |
| Command: /home/biocbuild/R/R/bin/R CMD check --install=check:dittoSeq.install-out.txt --library=/home/biocbuild/R/R/site-library --no-vignettes --timings dittoSeq_1.18.0.tar.gz |
| StartedAt: 2024-11-20 07:17:40 -0000 (Wed, 20 Nov 2024) |
| EndedAt: 2024-11-20 07:27:07 -0000 (Wed, 20 Nov 2024) |
| EllapsedTime: 566.9 seconds |
| RetCode: 0 |
| Status: OK |
| CheckDir: dittoSeq.Rcheck |
| Warnings: 0 |
##############################################################################
##############################################################################
###
### Running command:
###
### /home/biocbuild/R/R/bin/R CMD check --install=check:dittoSeq.install-out.txt --library=/home/biocbuild/R/R/site-library --no-vignettes --timings dittoSeq_1.18.0.tar.gz
###
##############################################################################
##############################################################################
* using log directory ‘/home/biocbuild/bbs-3.20-bioc/meat/dittoSeq.Rcheck’
* using R version 4.4.1 (2024-06-14)
* using platform: aarch64-unknown-linux-gnu
* R was compiled by
gcc (GCC) 12.2.1 20220819 (openEuler 12.2.1-14)
GNU Fortran (GCC) 10.3.1
* running under: openEuler 22.03 (LTS-SP1)
* using session charset: UTF-8
* using option ‘--no-vignettes’
* checking for file ‘dittoSeq/DESCRIPTION’ ... OK
* checking extension type ... Package
* this is package ‘dittoSeq’ version ‘1.18.0’
* package encoding: UTF-8
* checking package namespace information ... OK
* checking package dependencies ... OK
* checking if this is a source package ... OK
* checking if there is a namespace ... OK
* checking for hidden files and directories ... OK
* checking for portable file names ... OK
* checking for sufficient/correct file permissions ... OK
* checking whether package ‘dittoSeq’ can be installed ... OK
* checking installed package size ... OK
* checking package directory ... OK
* checking ‘build’ directory ... OK
* checking DESCRIPTION meta-information ... NOTE
License stub is invalid DCF.
* checking top-level files ... OK
* checking for left-over files ... OK
* checking index information ... OK
* checking package subdirectories ... OK
* checking code files for non-ASCII characters ... OK
* checking R files for syntax errors ... OK
* checking whether the package can be loaded ... OK
* checking whether the package can be loaded with stated dependencies ... OK
* checking whether the package can be unloaded cleanly ... OK
* checking whether the namespace can be loaded with stated dependencies ... OK
* checking whether the namespace can be unloaded cleanly ... OK
* checking loading without being on the library search path ... OK
* checking dependencies in R code ... OK
* checking S3 generic/method consistency ... OK
* checking replacement functions ... OK
* checking foreign function calls ... OK
* checking R code for possible problems ... OK
* checking Rd files ... NOTE
checkRd: (-1) Darken.Rd:10: Lost braces
10 | \item{colors}{the color(s) input. Can be a list of colors, for example, /code{dittoColors()}.}
| ^
checkRd: (-1) Lighten.Rd:10: Lost braces
10 | \item{colors}{the color(s) input. Can be a list of colors, for example, /code{dittoColors()}.}
| ^
* checking Rd metadata ... OK
* checking Rd cross-references ... OK
* checking for missing documentation entries ... OK
* checking for code/documentation mismatches ... OK
* checking Rd \usage sections ... OK
* checking Rd contents ... OK
* checking for unstated dependencies in examples ... OK
* checking contents of ‘data’ directory ... OK
* checking data for non-ASCII characters ... OK
* checking LazyData ... OK
* checking data for ASCII and uncompressed saves ... OK
* checking files in ‘vignettes’ ... OK
* checking examples ... OK
Examples with CPU (user + system) or elapsed time > 5s
user system elapsed
dittoPlot 12.989 0.168 13.185
dittoHex 10.108 0.068 10.114
dittoDimPlot 8.498 0.148 8.587
multi_dittoDimPlotVaryCells 8.403 0.036 8.458
dittoFreqPlot 8.016 0.063 8.098
dittoScatterPlot 7.283 0.048 7.263
multi_dittoPlot 6.721 0.052 6.786
dittoDotPlot 6.616 0.064 6.695
* checking for unstated dependencies in ‘tests’ ... OK
* checking tests ...
Running ‘testthat.R’
OK
* checking for unstated dependencies in vignettes ... OK
* checking package vignettes ... OK
* checking running R code from vignettes ... SKIPPED
* checking re-building of vignette outputs ... SKIPPED
* checking PDF version of manual ... OK
* DONE
Status: 2 NOTEs
See
‘/home/biocbuild/bbs-3.20-bioc/meat/dittoSeq.Rcheck/00check.log’
for details.
dittoSeq.Rcheck/00install.out
############################################################################## ############################################################################## ### ### Running command: ### ### /home/biocbuild/R/R/bin/R CMD INSTALL dittoSeq ### ############################################################################## ############################################################################## * installing to library ‘/home/biocbuild/R/R-4.4.1/site-library’ * installing *source* package ‘dittoSeq’ ... ** using staged installation ** R ** data *** moving datasets to lazyload DB ** inst ** byte-compile and prepare package for lazy loading ** help *** installing help indices ** building package indices ** installing vignettes ** testing if installed package can be loaded from temporary location ** testing if installed package can be loaded from final location ** testing if installed package keeps a record of temporary installation path * DONE (dittoSeq)
dittoSeq.Rcheck/tests/testthat.Rout
R version 4.4.1 (2024-06-14) -- "Race for Your Life"
Copyright (C) 2024 The R Foundation for Statistical Computing
Platform: aarch64-unknown-linux-gnu
R is free software and comes with ABSOLUTELY NO WARRANTY.
You are welcome to redistribute it under certain conditions.
Type 'license()' or 'licence()' for distribution details.
R is a collaborative project with many contributors.
Type 'contributors()' for more information and
'citation()' on how to cite R or R packages in publications.
Type 'demo()' for some demos, 'help()' for on-line help, or
'help.start()' for an HTML browser interface to help.
Type 'q()' to quit R.
> library(testthat)
> test_check("dittoSeq")
Loading required package: dittoSeq
Loading required package: ggplot2
Loading required package: SummarizedExperiment
Loading required package: MatrixGenerics
Loading required package: matrixStats
Attaching package: 'MatrixGenerics'
The following objects are masked from 'package:matrixStats':
colAlls, colAnyNAs, colAnys, colAvgsPerRowSet, colCollapse,
colCounts, colCummaxs, colCummins, colCumprods, colCumsums,
colDiffs, colIQRDiffs, colIQRs, colLogSumExps, colMadDiffs,
colMads, colMaxs, colMeans2, colMedians, colMins, colOrderStats,
colProds, colQuantiles, colRanges, colRanks, colSdDiffs, colSds,
colSums2, colTabulates, colVarDiffs, colVars, colWeightedMads,
colWeightedMeans, colWeightedMedians, colWeightedSds,
colWeightedVars, rowAlls, rowAnyNAs, rowAnys, rowAvgsPerColSet,
rowCollapse, rowCounts, rowCummaxs, rowCummins, rowCumprods,
rowCumsums, rowDiffs, rowIQRDiffs, rowIQRs, rowLogSumExps,
rowMadDiffs, rowMads, rowMaxs, rowMeans2, rowMedians, rowMins,
rowOrderStats, rowProds, rowQuantiles, rowRanges, rowRanks,
rowSdDiffs, rowSds, rowSums2, rowTabulates, rowVarDiffs, rowVars,
rowWeightedMads, rowWeightedMeans, rowWeightedMedians,
rowWeightedSds, rowWeightedVars
Loading required package: GenomicRanges
Loading required package: stats4
Loading required package: BiocGenerics
Attaching package: 'BiocGenerics'
The following objects are masked from 'package:stats':
IQR, mad, sd, var, xtabs
The following objects are masked from 'package:base':
Filter, Find, Map, Position, Reduce, anyDuplicated, aperm, append,
as.data.frame, basename, cbind, colnames, dirname, do.call,
duplicated, eval, evalq, get, grep, grepl, intersect, is.unsorted,
lapply, mapply, match, mget, order, paste, pmax, pmax.int, pmin,
pmin.int, rank, rbind, rownames, sapply, saveRDS, setdiff, table,
tapply, union, unique, unsplit, which.max, which.min
Loading required package: S4Vectors
Attaching package: 'S4Vectors'
The following object is masked from 'package:utils':
findMatches
The following objects are masked from 'package:base':
I, expand.grid, unname
Loading required package: IRanges
Loading required package: GenomeInfoDb
Loading required package: Biobase
Welcome to Bioconductor
Vignettes contain introductory material; view with
'browseVignettes()'. To cite Bioconductor, see
'citation("Biobase")', and for packages 'citation("pkgname")'.
Attaching package: 'Biobase'
The following object is masked from 'package:MatrixGenerics':
rowMedians
The following objects are masked from 'package:matrixStats':
anyMissing, rowMedians
[ FAIL 0 | WARN 82 | SKIP 0 | PASS 846 ]
[ FAIL 0 | WARN 82 | SKIP 0 | PASS 846 ]
>
> proc.time()
user system elapsed
218.015 2.087 220.588
dittoSeq.Rcheck/dittoSeq-Ex.timings
| name | user | system | elapsed | |
| Darken | 0.006 | 0.003 | 0.010 | |
| Lighten | 0.003 | 0.000 | 0.003 | |
| Simulate | 2.108 | 0.084 | 2.197 | |
| addDimReduction | 1.012 | 0.012 | 0.933 | |
| addPrcomp | 1.035 | 0.008 | 0.952 | |
| demux.SNP.summary | 1.506 | 0.012 | 1.521 | |
| demux.calls.summary | 2.170 | 0.024 | 2.199 | |
| dittoBarPlot | 3.062 | 0.092 | 3.161 | |
| dittoColors | 0.021 | 0.000 | 0.021 | |
| dittoDimPlot | 8.498 | 0.148 | 8.587 | |
| dittoDotPlot | 6.616 | 0.064 | 6.695 | |
| dittoFreqPlot | 8.016 | 0.063 | 8.098 | |
| dittoHeatmap | 3.858 | 0.068 | 3.937 | |
| dittoHex | 10.108 | 0.068 | 10.114 | |
| dittoPlot | 12.989 | 0.168 | 13.185 | |
| dittoPlotVarsAcrossGroups | 3.636 | 0.032 | 3.673 | |
| dittoScatterPlot | 7.283 | 0.048 | 7.263 | |
| gene | 4.515 | 0.059 | 4.587 | |
| getGenes | 0.794 | 0.016 | 0.813 | |
| getMetas | 0.709 | 0.000 | 0.711 | |
| getReductions | 0.999 | 0.004 | 0.913 | |
| importDemux | 1.915 | 0.000 | 1.919 | |
| importDittoBulk | 0.722 | 0.004 | 0.728 | |
| isBulk | 0.710 | 0.004 | 0.716 | |
| isGene | 0.990 | 0.012 | 1.004 | |
| isMeta | 0.635 | 0.004 | 0.640 | |
| meta | 0.728 | 0.000 | 0.730 | |
| metaLevels | 0.667 | 0.004 | 0.673 | |
| multi_dittoDimPlot | 3.534 | 0.004 | 3.545 | |
| multi_dittoDimPlotVaryCells | 8.403 | 0.036 | 8.458 | |
| multi_dittoPlot | 6.721 | 0.052 | 6.786 | |
| setBulk | 1.000 | 0.008 | 1.010 | |