| Back to Multiple platform build/check report for BioC 3.20: simplified long |
|
This page was generated on 2025-04-02 19:28 -0400 (Wed, 02 Apr 2025).
| Hostname | OS | Arch (*) | R version | Installed pkgs |
|---|---|---|---|---|
| nebbiolo2 | Linux (Ubuntu 24.04.1 LTS) | x86_64 | 4.4.3 (2025-02-28) -- "Trophy Case" | 4764 |
| palomino8 | Windows Server 2022 Datacenter | x64 | 4.4.3 (2025-02-28 ucrt) -- "Trophy Case" | 4495 |
| merida1 | macOS 12.7.5 Monterey | x86_64 | 4.4.3 (2025-02-28) -- "Trophy Case" | 4522 |
| kjohnson1 | macOS 13.6.6 Ventura | arm64 | 4.4.3 (2025-02-28) -- "Trophy Case" | 4449 |
| taishan | Linux (openEuler 24.03 LTS) | aarch64 | 4.4.3 (2025-02-28) -- "Trophy Case" | 4426 |
| Click on any hostname to see more info about the system (e.g. compilers) (*) as reported by 'uname -p', except on Windows and Mac OS X | ||||
| Package 550/2289 | Hostname | OS / Arch | INSTALL | BUILD | CHECK | BUILD BIN | ||||||||
| derfinder 1.40.0 (landing page) Leonardo Collado-Torres
| nebbiolo2 | Linux (Ubuntu 24.04.1 LTS) / x86_64 | OK | OK | OK | |||||||||
| palomino8 | Windows Server 2022 Datacenter / x64 | OK | OK | OK | OK | |||||||||
| merida1 | macOS 12.7.5 Monterey / x86_64 | OK | OK | OK | OK | |||||||||
| kjohnson1 | macOS 13.6.6 Ventura / arm64 | OK | OK | OK | OK | |||||||||
| taishan | Linux (openEuler 24.03 LTS) / aarch64 | OK | OK | OK | ||||||||||
|
To the developers/maintainers of the derfinder package: - Allow up to 24 hours (and sometimes 48 hours) for your latest push to git@git.bioconductor.org:packages/derfinder.git to reflect on this report. See Troubleshooting Build Report for more information. - Use the following Renviron settings to reproduce errors and warnings. - If 'R CMD check' started to fail recently on the Linux builder(s) over a missing dependency, add the missing dependency to 'Suggests:' in your DESCRIPTION file. See Renviron.bioc for more information. |
| Package: derfinder |
| Version: 1.40.0 |
| Command: /home/biocbuild/bbs-3.20-bioc/R/bin/R CMD check --install=check:derfinder.install-out.txt --library=/home/biocbuild/bbs-3.20-bioc/R/site-library --timings derfinder_1.40.0.tar.gz |
| StartedAt: 2025-03-31 21:33:04 -0400 (Mon, 31 Mar 2025) |
| EndedAt: 2025-03-31 21:44:02 -0400 (Mon, 31 Mar 2025) |
| EllapsedTime: 658.6 seconds |
| RetCode: 0 |
| Status: OK |
| CheckDir: derfinder.Rcheck |
| Warnings: 0 |
##############################################################################
##############################################################################
###
### Running command:
###
### /home/biocbuild/bbs-3.20-bioc/R/bin/R CMD check --install=check:derfinder.install-out.txt --library=/home/biocbuild/bbs-3.20-bioc/R/site-library --timings derfinder_1.40.0.tar.gz
###
##############################################################################
##############################################################################
* using log directory ‘/home/biocbuild/bbs-3.20-bioc/meat/derfinder.Rcheck’
* using R version 4.4.3 (2025-02-28)
* using platform: x86_64-pc-linux-gnu
* R was compiled by
gcc (Ubuntu 13.3.0-6ubuntu2~24.04) 13.3.0
GNU Fortran (Ubuntu 13.3.0-6ubuntu2~24.04) 13.3.0
* running under: Ubuntu 24.04.2 LTS
* using session charset: UTF-8
* checking for file ‘derfinder/DESCRIPTION’ ... OK
* checking extension type ... Package
* this is package ‘derfinder’ version ‘1.40.0’
* package encoding: UTF-8
* checking package namespace information ... OK
* checking package dependencies ... OK
* checking if this is a source package ... OK
* checking if there is a namespace ... OK
* checking for hidden files and directories ... OK
* checking for portable file names ... OK
* checking for sufficient/correct file permissions ... OK
* checking whether package ‘derfinder’ can be installed ... OK
* checking installed package size ... OK
* checking package directory ... OK
* checking ‘build’ directory ... OK
* checking DESCRIPTION meta-information ... OK
* checking top-level files ... OK
* checking for left-over files ... OK
* checking index information ... OK
* checking package subdirectories ... OK
* checking code files for non-ASCII characters ... OK
* checking R files for syntax errors ... OK
* checking whether the package can be loaded ... OK
* checking whether the package can be loaded with stated dependencies ... OK
* checking whether the package can be unloaded cleanly ... OK
* checking whether the namespace can be loaded with stated dependencies ... OK
* checking whether the namespace can be unloaded cleanly ... OK
* checking loading without being on the library search path ... OK
* checking dependencies in R code ... NOTE
Unexported objects imported by ':::' calls:
‘GenomeInfoDb:::.guessSpeciesStyle’
‘GenomeInfoDb:::.supportedSeqnameMappings’
See the note in ?`:::` about the use of this operator.
There are ::: calls to the package's namespace in its code. A package
almost never needs to use ::: for its own objects:
‘.smootherFstats’
* checking S3 generic/method consistency ... OK
* checking replacement functions ... OK
* checking foreign function calls ... OK
* checking R code for possible problems ... OK
* checking Rd files ... NOTE
checkRd: (-1) createBwSample.Rd:59: Lost braces
59 | link{coerceGR}
| ^
checkRd: (-1) derfinder-deprecated.Rd:30-31: Lost braces in \itemize; meant \describe ?
checkRd: (-1) sampleDepth.Rd:41-47: Lost braces
41 | equal to quantiles of interest. The resulting values are transformed {log2(x
| ^
* checking Rd metadata ... OK
* checking Rd cross-references ... OK
* checking for missing documentation entries ... OK
* checking for code/documentation mismatches ... OK
* checking Rd \usage sections ... OK
* checking Rd contents ... OK
* checking for unstated dependencies in examples ... OK
* checking contents of ‘data’ directory ... OK
* checking data for non-ASCII characters ... OK
* checking LazyData ... OK
* checking data for ASCII and uncompressed saves ... OK
* checking files in ‘vignettes’ ... OK
* checking examples ... OK
Examples with CPU (user + system) or elapsed time > 5s
user system elapsed
railMatrix 7.745 0.614 8.380
coverageToExon 4.533 0.473 5.006
* checking for unstated dependencies in ‘tests’ ... OK
* checking tests ...
Running ‘test-all.R’
OK
* checking for unstated dependencies in vignettes ... OK
* checking package vignettes ... OK
* checking re-building of vignette outputs ... OK
* checking PDF version of manual ... OK
* DONE
Status: 2 NOTEs
See
‘/home/biocbuild/bbs-3.20-bioc/meat/derfinder.Rcheck/00check.log’
for details.
derfinder.Rcheck/00install.out
############################################################################## ############################################################################## ### ### Running command: ### ### /home/biocbuild/bbs-3.20-bioc/R/bin/R CMD INSTALL derfinder ### ############################################################################## ############################################################################## * installing to library ‘/home/biocbuild/bbs-3.20-bioc/R/site-library’ * installing *source* package ‘derfinder’ ... ** using staged installation ** R ** data *** moving datasets to lazyload DB ** inst ** byte-compile and prepare package for lazy loading ** help *** installing help indices ** building package indices ** installing vignettes ** testing if installed package can be loaded from temporary location ** testing if installed package can be loaded from final location ** testing if installed package keeps a record of temporary installation path * DONE (derfinder)
derfinder.Rcheck/tests/test-all.Rout
R version 4.4.3 (2025-02-28) -- "Trophy Case"
Copyright (C) 2025 The R Foundation for Statistical Computing
Platform: x86_64-pc-linux-gnu
R is free software and comes with ABSOLUTELY NO WARRANTY.
You are welcome to redistribute it under certain conditions.
Type 'license()' or 'licence()' for distribution details.
R is a collaborative project with many contributors.
Type 'contributors()' for more information and
'citation()' on how to cite R or R packages in publications.
Type 'demo()' for some demos, 'help()' for on-line help, or
'help.start()' for an HTML browser interface to help.
Type 'q()' to quit R.
> ## Disable the tests if the system variable 'R_DISABLE_TESTS' is set to TRUE
>
> flag <- as.logical(Sys.getenv("R_DISABLE_TESTS"))
> if (is.na(flag) | flag == FALSE) {
+ library("testthat")
+ test_check("derfinder")
+ }
Loading required package: derfinder
class: SerialParam
bpisup: FALSE; bpnworkers: 1; bptasks: 0; bpjobname: BPJOB
bplog: FALSE; bpthreshold: INFO; bpstopOnError: TRUE
bpRNGseed: ; bptimeout: NA; bpprogressbar: FALSE
bpexportglobals: FALSE; bpexportvariables: FALSE; bpforceGC: FALSE
bpfallback: FALSE
bplogdir: NA
bpresultdir: NA
Error in x$.self$finalize() : attempt to apply non-function
class: SerialParam
bpisup: FALSE; bpnworkers: 1; bptasks: 0; bpjobname: BPJOB
bplog: FALSE; bpthreshold: INFO; bpstopOnError: TRUE
bpRNGseed: ; bptimeout: NA; bpprogressbar: FALSE
bpexportglobals: FALSE; bpexportvariables: FALSE; bpforceGC: FALSE
bpfallback: FALSE
bplogdir: NA
bpresultdir: NA
class: SerialParam
bpisup: FALSE; bpnworkers: 1; bptasks: 0; bpjobname: BPJOB
bplog: FALSE; bpthreshold: INFO; bpstopOnError: TRUE
bpRNGseed: ; bptimeout: NA; bpprogressbar: FALSE
bpexportglobals: FALSE; bpexportvariables: FALSE; bpforceGC: FALSE
bpfallback: FALSE
bplogdir: NA
bpresultdir: NA
class: SerialParam
bpisup: FALSE; bpnworkers: 1; bptasks: 0; bpjobname: BPJOB
bplog: FALSE; bpthreshold: INFO; bpstopOnError: TRUE
bpRNGseed: ; bptimeout: NA; bpprogressbar: FALSE
bpexportglobals: FALSE; bpexportvariables: FALSE; bpforceGC: FALSE
bpfallback: FALSE
bplogdir: NA
bpresultdir: NA
class: SerialParam
bpisup: FALSE; bpnworkers: 1; bptasks: 0; bpjobname: BPJOB
bplog: FALSE; bpthreshold: INFO; bpstopOnError: TRUE
bpRNGseed: ; bptimeout: NA; bpprogressbar: FALSE
bpexportglobals: FALSE; bpexportvariables: FALSE; bpforceGC: FALSE
bpfallback: FALSE
bplogdir: NA
bpresultdir: NA
class: SerialParam
bpisup: FALSE; bpnworkers: 1; bptasks: 0; bpjobname: BPJOB
bplog: FALSE; bpthreshold: INFO; bpstopOnError: TRUE
bpRNGseed: ; bptimeout: NA; bpprogressbar: FALSE
bpexportglobals: FALSE; bpexportvariables: FALSE; bpforceGC: FALSE
bpfallback: FALSE
bplogdir: NA
bpresultdir: NA
class: SerialParam
bpisup: FALSE; bpnworkers: 1; bptasks: 0; bpjobname: BPJOB
bplog: FALSE; bpthreshold: INFO; bpstopOnError: TRUE
bpRNGseed: ; bptimeout: NA; bpprogressbar: FALSE
bpexportglobals: FALSE; bpexportvariables: FALSE; bpforceGC: FALSE
bpfallback: FALSE
bplogdir: NA
bpresultdir: NA
class: SerialParam
bpisup: FALSE; bpnworkers: 1; bptasks: 0; bpjobname: BPJOB
bplog: FALSE; bpthreshold: INFO; bpstopOnError: TRUE
bpRNGseed: ; bptimeout: NA; bpprogressbar: FALSE
bpexportglobals: FALSE; bpexportvariables: FALSE; bpforceGC: FALSE
bpfallback: FALSE
bplogdir: NA
bpresultdir: NA
[ FAIL 0 | WARN 3 | SKIP 0 | PASS 137 ]
[ FAIL 0 | WARN 3 | SKIP 0 | PASS 137 ]
Warning message:
call dbDisconnect() when finished working with a connection
>
> proc.time()
user system elapsed
169.418 7.143 176.709
derfinder.Rcheck/derfinder-Ex.timings
| name | user | system | elapsed | |
| analyzeChr | 1.028 | 0.106 | 1.133 | |
| annotateRegions | 0.317 | 0.026 | 0.344 | |
| calculatePvalues | 0.837 | 0.001 | 0.838 | |
| calculateStats | 0.435 | 0.034 | 0.470 | |
| coerceGR | 0.082 | 0.011 | 0.094 | |
| collapseFullCoverage | 0.004 | 0.000 | 0.005 | |
| coverageToExon | 4.533 | 0.473 | 5.006 | |
| createBw | 0.160 | 0.001 | 0.161 | |
| createBwSample | 0.062 | 0.014 | 0.076 | |
| define_cluster | 0.006 | 0.000 | 0.006 | |
| derfinder-deprecated | 0.002 | 0.000 | 0.002 | |
| extendedMapSeqlevels | 0.061 | 0.013 | 0.074 | |
| filterData | 0.123 | 0.007 | 0.130 | |
| findRegions | 0.482 | 0.014 | 0.497 | |
| fullCoverage | 0.240 | 0.007 | 0.249 | |
| getRegionCoverage | 0.354 | 0.014 | 0.788 | |
| getTotalMapped | 0.009 | 0.000 | 0.009 | |
| loadCoverage | 0.159 | 0.020 | 0.179 | |
| makeGenomicState | 3.505 | 0.044 | 3.551 | |
| makeModels | 0.014 | 0.000 | 0.013 | |
| mergeResults | 0.327 | 0.005 | 0.333 | |
| preprocessCoverage | 0.329 | 0.008 | 0.336 | |
| railMatrix | 7.745 | 0.614 | 8.380 | |
| rawFiles | 0.002 | 0.001 | 0.002 | |
| regionMatrix | 0.902 | 0.058 | 0.960 | |
| sampleDepth | 0.012 | 0.000 | 0.012 | |