| Back to Multiple platform build/check report for BioC 3.20: simplified long |
|
This page was generated on 2025-04-02 19:28 -0400 (Wed, 02 Apr 2025).
| Hostname | OS | Arch (*) | R version | Installed pkgs |
|---|---|---|---|---|
| nebbiolo2 | Linux (Ubuntu 24.04.1 LTS) | x86_64 | 4.4.3 (2025-02-28) -- "Trophy Case" | 4764 |
| palomino8 | Windows Server 2022 Datacenter | x64 | 4.4.3 (2025-02-28 ucrt) -- "Trophy Case" | 4495 |
| merida1 | macOS 12.7.5 Monterey | x86_64 | 4.4.3 (2025-02-28) -- "Trophy Case" | 4522 |
| kjohnson1 | macOS 13.6.6 Ventura | arm64 | 4.4.3 (2025-02-28) -- "Trophy Case" | 4449 |
| taishan | Linux (openEuler 24.03 LTS) | aarch64 | 4.4.3 (2025-02-28) -- "Trophy Case" | 4426 |
| Click on any hostname to see more info about the system (e.g. compilers) (*) as reported by 'uname -p', except on Windows and Mac OS X | ||||
| Package 505/2289 | Hostname | OS / Arch | INSTALL | BUILD | CHECK | BUILD BIN | ||||||||
| dar 1.2.0 (landing page) Francesc Catala-Moll
| nebbiolo2 | Linux (Ubuntu 24.04.1 LTS) / x86_64 | OK | OK | OK | |||||||||
| palomino8 | Windows Server 2022 Datacenter / x64 | OK | OK | OK | OK | |||||||||
| merida1 | macOS 12.7.5 Monterey / x86_64 | OK | OK | OK | OK | |||||||||
| kjohnson1 | macOS 13.6.6 Ventura / arm64 | OK | OK | OK | OK | |||||||||
| taishan | Linux (openEuler 24.03 LTS) / aarch64 | OK | OK | OK | ||||||||||
|
To the developers/maintainers of the dar package: - Allow up to 24 hours (and sometimes 48 hours) for your latest push to git@git.bioconductor.org:packages/dar.git to reflect on this report. See Troubleshooting Build Report for more information. - Use the following Renviron settings to reproduce errors and warnings. - If 'R CMD check' started to fail recently on the Linux builder(s) over a missing dependency, add the missing dependency to 'Suggests:' in your DESCRIPTION file. See Renviron.bioc for more information. |
| Package: dar |
| Version: 1.2.0 |
| Command: /home/biocbuild/bbs-3.20-bioc/R/bin/R CMD check --install=check:dar.install-out.txt --library=/home/biocbuild/bbs-3.20-bioc/R/site-library --timings dar_1.2.0.tar.gz |
| StartedAt: 2025-03-31 21:21:04 -0400 (Mon, 31 Mar 2025) |
| EndedAt: 2025-03-31 21:33:17 -0400 (Mon, 31 Mar 2025) |
| EllapsedTime: 732.8 seconds |
| RetCode: 0 |
| Status: OK |
| CheckDir: dar.Rcheck |
| Warnings: 0 |
##############################################################################
##############################################################################
###
### Running command:
###
### /home/biocbuild/bbs-3.20-bioc/R/bin/R CMD check --install=check:dar.install-out.txt --library=/home/biocbuild/bbs-3.20-bioc/R/site-library --timings dar_1.2.0.tar.gz
###
##############################################################################
##############################################################################
* using log directory ‘/home/biocbuild/bbs-3.20-bioc/meat/dar.Rcheck’
* using R version 4.4.3 (2025-02-28)
* using platform: x86_64-pc-linux-gnu
* R was compiled by
gcc (Ubuntu 13.3.0-6ubuntu2~24.04) 13.3.0
GNU Fortran (Ubuntu 13.3.0-6ubuntu2~24.04) 13.3.0
* running under: Ubuntu 24.04.2 LTS
* using session charset: UTF-8
* checking for file ‘dar/DESCRIPTION’ ... OK
* this is package ‘dar’ version ‘1.2.0’
* package encoding: UTF-8
* checking package namespace information ... OK
* checking package dependencies ... OK
* checking if this is a source package ... OK
* checking if there is a namespace ... OK
* checking for hidden files and directories ... OK
* checking for portable file names ... OK
* checking for sufficient/correct file permissions ... OK
* checking whether package ‘dar’ can be installed ... OK
* checking installed package size ... OK
* checking package directory ... OK
* checking ‘build’ directory ... OK
* checking DESCRIPTION meta-information ... OK
* checking top-level files ... OK
* checking for left-over files ... OK
* checking index information ... OK
* checking package subdirectories ... OK
* checking code files for non-ASCII characters ... OK
* checking R files for syntax errors ... OK
* checking whether the package can be loaded ... OK
* checking whether the package can be loaded with stated dependencies ... OK
* checking whether the package can be unloaded cleanly ... OK
* checking whether the namespace can be loaded with stated dependencies ... OK
* checking whether the namespace can be unloaded cleanly ... OK
* checking loading without being on the library search path ... OK
* checking dependencies in R code ... OK
* checking S3 generic/method consistency ... OK
* checking replacement functions ... OK
* checking foreign function calls ... OK
* checking R code for possible problems ... OK
* checking Rd files ... OK
* checking Rd metadata ... OK
* checking Rd cross-references ... OK
* checking for missing documentation entries ... OK
* checking for code/documentation mismatches ... OK
* checking Rd \usage sections ... OK
* checking Rd contents ... OK
* checking for unstated dependencies in examples ... OK
* checking contents of ‘data’ directory ... OK
* checking data for non-ASCII characters ... OK
* checking data for ASCII and uncompressed saves ... OK
* checking R/sysdata.rda ... OK
* checking files in ‘vignettes’ ... OK
* checking examples ... OK
Examples with CPU (user + system) or elapsed time > 5s
user system elapsed
step_aldex 14.512 0.936 15.449
step_ancom 11.680 0.613 12.296
step_deseq 5.821 0.080 5.901
step_metagenomeseq 3.297 0.064 8.810
prep 2.756 0.146 32.438
import_steps 1.983 0.131 32.372
export_steps 1.611 0.142 11.844
recipe 0.977 0.065 15.424
* checking for unstated dependencies in ‘tests’ ... OK
* checking tests ...
Running ‘testthat.R’
OK
* checking for unstated dependencies in vignettes ... OK
* checking package vignettes ... OK
* checking re-building of vignette outputs ... OK
* checking PDF version of manual ... OK
* DONE
Status: OK
dar.Rcheck/00install.out
############################################################################## ############################################################################## ### ### Running command: ### ### /home/biocbuild/bbs-3.20-bioc/R/bin/R CMD INSTALL dar ### ############################################################################## ############################################################################## * installing to library ‘/home/biocbuild/bbs-3.20-bioc/R/site-library’ * installing *source* package ‘dar’ ... ** using staged installation ** R ** data ** inst ** byte-compile and prepare package for lazy loading ** help *** installing help indices *** copying figures ** building package indices ** installing vignettes ** testing if installed package can be loaded from temporary location ** testing if installed package can be loaded from final location ** testing if installed package keeps a record of temporary installation path * DONE (dar)
dar.Rcheck/tests/testthat.Rout
R version 4.4.3 (2025-02-28) -- "Trophy Case"
Copyright (C) 2025 The R Foundation for Statistical Computing
Platform: x86_64-pc-linux-gnu
R is free software and comes with ABSOLUTELY NO WARRANTY.
You are welcome to redistribute it under certain conditions.
Type 'license()' or 'licence()' for distribution details.
R is a collaborative project with many contributors.
Type 'contributors()' for more information and
'citation()' on how to cite R or R packages in publications.
Type 'demo()' for some demos, 'help()' for on-line help, or
'help.start()' for an HTML browser interface to help.
Type 'q()' to quit R.
> library(testthat)
> library(dar)
>
> test_check("dar")
Starting 2 test processes
[ FAIL 0 | WARN 0 | SKIP 10 | PASS 82 ]
══ Skipped tests (10) ══════════════════════════════════════════════════════════
• On CRAN (10): 'test-roxytest-tests-bake.R:18:3',
'test-roxytest-tests-ancom.R:14:3', 'test-roxytest-tests-lefse.R:15:3',
'test-roxytest-tests-maaslin2.R:16:3', 'test-roxytest-tests-misc.R:73:3',
'test-roxytest-tests-misc.R:101:3', 'test-roxytest-tests-misc.R:108:3',
'test-roxytest-tests-pkg_check.R:6:3',
'test-roxytest-tests-read_data.R:24:3',
'test-roxytest-tests-steps_and_checks.R:7:3'
[ FAIL 0 | WARN 0 | SKIP 10 | PASS 82 ]
>
> proc.time()
user system elapsed
210.656 10.268 293.481
dar.Rcheck/dar-Ex.timings
| name | user | system | elapsed | |
| abundance_plt | 2.592 | 0.198 | 2.790 | |
| add_tax | 0.147 | 0.002 | 0.149 | |
| add_var | 0.139 | 0.002 | 0.142 | |
| bake | 0.441 | 0.004 | 0.445 | |
| contains_rarefaction | 0.244 | 0.014 | 0.259 | |
| cool | 0.287 | 0.000 | 0.287 | |
| corr_heatmap | 3.323 | 0.048 | 3.375 | |
| exclusion_plt | 0.835 | 0.017 | 0.853 | |
| export_steps | 1.611 | 0.142 | 11.844 | |
| find_intersections | 0.189 | 0.013 | 0.202 | |
| get_comparisons | 0.023 | 0.003 | 0.026 | |
| get_phy | 0.021 | 0.000 | 0.021 | |
| get_tax | 0.025 | 0.000 | 0.025 | |
| get_var | 0.022 | 0.003 | 0.025 | |
| import_steps | 1.983 | 0.131 | 32.372 | |
| intersection_df | 0.168 | 0.022 | 0.192 | |
| intersection_plt | 1.409 | 0.038 | 1.447 | |
| mutual_plt | 1.751 | 0.070 | 1.821 | |
| otu_table | 0.363 | 0.003 | 0.366 | |
| overlap_df | 0.255 | 0.001 | 0.255 | |
| phy_qc | 1.043 | 0.022 | 1.064 | |
| prep | 2.756 | 0.146 | 32.438 | |
| rand_id | 0 | 0 | 0 | |
| read_data | 1.242 | 0.584 | 1.838 | |
| recipe | 0.977 | 0.065 | 15.424 | |
| required_deps | 0.051 | 0.002 | 0.053 | |
| sample_data | 0.029 | 0.003 | 0.032 | |
| step_aldex | 14.512 | 0.936 | 15.449 | |
| step_ancom | 11.680 | 0.613 | 12.296 | |
| step_corncob | 2.078 | 0.113 | 2.199 | |
| step_deseq | 5.821 | 0.080 | 5.901 | |
| step_filter_by_abundance | 0.037 | 0.000 | 0.037 | |
| step_filter_by_prevalence | 0.037 | 0.000 | 0.037 | |
| step_filter_by_rarity | 0.036 | 0.002 | 0.038 | |
| step_filter_by_variance | 0.036 | 0.001 | 0.037 | |
| step_filter_taxa | 0.037 | 0.002 | 0.039 | |
| step_lefse | 0.063 | 0.001 | 0.064 | |
| step_maaslin | 4.158 | 0.200 | 4.359 | |
| step_metagenomeseq | 3.297 | 0.064 | 8.810 | |
| step_rarefaction | 0.049 | 0.000 | 0.049 | |
| step_subset_taxa | 0.039 | 0.001 | 0.039 | |
| step_wilcox | 1.618 | 0.047 | 1.665 | |
| steps_ids | 0.014 | 0.003 | 0.016 | |
| tax_table | 0.047 | 0.002 | 0.048 | |
| tidyeval | 0.015 | 0.001 | 0.016 | |
| to_tibble | 0.430 | 0.015 | 0.445 | |
| use_rarefy | 0.015 | 0.000 | 0.016 | |
| zero_otu | 0.385 | 0.013 | 0.398 | |