| Back to Multiple platform build/check report for BioC 3.20: simplified long |
|
This page was generated on 2025-04-02 19:30 -0400 (Wed, 02 Apr 2025).
| Hostname | OS | Arch (*) | R version | Installed pkgs |
|---|---|---|---|---|
| nebbiolo2 | Linux (Ubuntu 24.04.1 LTS) | x86_64 | 4.4.3 (2025-02-28) -- "Trophy Case" | 4764 |
| palomino8 | Windows Server 2022 Datacenter | x64 | 4.4.3 (2025-02-28 ucrt) -- "Trophy Case" | 4495 |
| merida1 | macOS 12.7.5 Monterey | x86_64 | 4.4.3 (2025-02-28) -- "Trophy Case" | 4522 |
| kjohnson1 | macOS 13.6.6 Ventura | arm64 | 4.4.3 (2025-02-28) -- "Trophy Case" | 4449 |
| taishan | Linux (openEuler 24.03 LTS) | aarch64 | 4.4.3 (2025-02-28) -- "Trophy Case" | 4426 |
| Click on any hostname to see more info about the system (e.g. compilers) (*) as reported by 'uname -p', except on Windows and Mac OS X | ||||
| Package 467/2289 | Hostname | OS / Arch | INSTALL | BUILD | CHECK | BUILD BIN | ||||||||
| csaw 1.40.0 (landing page) Aaron Lun
| nebbiolo2 | Linux (Ubuntu 24.04.1 LTS) / x86_64 | OK | OK | WARNINGS | |||||||||
| palomino8 | Windows Server 2022 Datacenter / x64 | OK | OK | WARNINGS | OK | |||||||||
| merida1 | macOS 12.7.5 Monterey / x86_64 | OK | OK | WARNINGS | OK | |||||||||
| kjohnson1 | macOS 13.6.6 Ventura / arm64 | OK | OK | WARNINGS | OK | |||||||||
| taishan | Linux (openEuler 24.03 LTS) / aarch64 | OK | OK | WARNINGS | ||||||||||
|
To the developers/maintainers of the csaw package: - Allow up to 24 hours (and sometimes 48 hours) for your latest push to git@git.bioconductor.org:packages/csaw.git to reflect on this report. See Troubleshooting Build Report for more information. - Use the following Renviron settings to reproduce errors and warnings. - If 'R CMD check' started to fail recently on the Linux builder(s) over a missing dependency, add the missing dependency to 'Suggests:' in your DESCRIPTION file. See Renviron.bioc for more information. |
| Package: csaw |
| Version: 1.40.0 |
| Command: rm -rf csaw.buildbin-libdir && mkdir csaw.buildbin-libdir && F:\biocbuild\bbs-3.20-bioc\R\bin\R.exe CMD INSTALL --build --library=csaw.buildbin-libdir csaw_1.40.0.tar.gz |
| StartedAt: 2025-04-01 07:59:36 -0400 (Tue, 01 Apr 2025) |
| EndedAt: 2025-04-01 08:01:34 -0400 (Tue, 01 Apr 2025) |
| EllapsedTime: 117.6 seconds |
| RetCode: 0 |
| Status: OK |
| PackageFile: csaw_1.40.0.zip |
| PackageFileSize: 5.786 MiB |
##############################################################################
##############################################################################
###
### Running command:
###
### rm -rf csaw.buildbin-libdir && mkdir csaw.buildbin-libdir && F:\biocbuild\bbs-3.20-bioc\R\bin\R.exe CMD INSTALL --build --library=csaw.buildbin-libdir csaw_1.40.0.tar.gz
###
##############################################################################
##############################################################################
* installing *source* package 'csaw' ...
** using staged installation
** libs
using C++ compiler: 'G__~1.EXE (GCC) 13.3.0'
using C++11
g++ -std=gnu++11 -I"F:/biocbuild/bbs-3.20-bioc/R/include" -DNDEBUG -D_FILE_OFFSET_BITS=64 -I'F:/biocbuild/bbs-3.20-bioc/R/library/Rhtslib/include' -I'F:/biocbuild/bbs-3.20-bioc/R/library/zlibbioc/include' -I'F:/biocbuild/bbs-3.20-bioc/R/library/Rcpp/include' -I"C:/rtools44/x86_64-w64-mingw32.static.posix/include" -O2 -Wall -mfpmath=sse -msse2 -mstackrealign -c annotator.cpp -o annotator.o
annotator.cpp: In function 'SEXPREC* annotate_overlaps(SEXP, SEXP, SEXP, SEXP, SEXP, SEXP, SEXP, SEXP)':
annotator.cpp:47:24: warning: comparison of integer expressions of different signedness: 'size_t' {aka 'long long unsigned int'} and 'const int' [-Wsign-compare]
47 | while (counter < nolaps && query[counter]==curreg) {
| ~~~~~~~~^~~~~~~~
g++ -std=gnu++11 -I"F:/biocbuild/bbs-3.20-bioc/R/include" -DNDEBUG -D_FILE_OFFSET_BITS=64 -I'F:/biocbuild/bbs-3.20-bioc/R/library/Rhtslib/include' -I'F:/biocbuild/bbs-3.20-bioc/R/library/zlibbioc/include' -I'F:/biocbuild/bbs-3.20-bioc/R/library/Rcpp/include' -I"C:/rtools44/x86_64-w64-mingw32.static.posix/include" -O2 -Wall -mfpmath=sse -msse2 -mstackrealign -c bam_utils.cpp -o bam_utils.o
g++ -std=gnu++11 -I"F:/biocbuild/bbs-3.20-bioc/R/include" -DNDEBUG -D_FILE_OFFSET_BITS=64 -I'F:/biocbuild/bbs-3.20-bioc/R/library/Rhtslib/include' -I'F:/biocbuild/bbs-3.20-bioc/R/library/zlibbioc/include' -I'F:/biocbuild/bbs-3.20-bioc/R/library/Rcpp/include' -I"C:/rtools44/x86_64-w64-mingw32.static.posix/include" -O2 -Wall -mfpmath=sse -msse2 -mstackrealign -c best_in_cluster.cpp -o best_in_cluster.o
best_in_cluster.cpp: In function 'SEXPREC* best_in_cluster(SEXP, SEXP, SEXP)':
best_in_cluster.cpp:11:17: warning: comparison of integer expressions of different signedness: 'const size_t' {aka 'const long long unsigned int'} and 'R_xlen_t' {aka 'long long int'} [-Wsign-compare]
11 | if (nwin!=clustids.size() || nwin!=winweight.size()) {
| ~~~~^~~~~~~~~~~~~~~~~
best_in_cluster.cpp:11:42: warning: comparison of integer expressions of different signedness: 'const size_t' {aka 'const long long unsigned int'} and 'R_xlen_t' {aka 'long long int'} [-Wsign-compare]
11 | if (nwin!=clustids.size() || nwin!=winweight.size()) {
| ~~~~^~~~~~~~~~~~~~~~~~
g++ -std=gnu++11 -I"F:/biocbuild/bbs-3.20-bioc/R/include" -DNDEBUG -D_FILE_OFFSET_BITS=64 -I'F:/biocbuild/bbs-3.20-bioc/R/library/Rhtslib/include' -I'F:/biocbuild/bbs-3.20-bioc/R/library/zlibbioc/include' -I'F:/biocbuild/bbs-3.20-bioc/R/library/Rcpp/include' -I"C:/rtools44/x86_64-w64-mingw32.static.posix/include" -O2 -Wall -mfpmath=sse -msse2 -mstackrealign -c check_bimodality.cpp -o check_bimodality.o
g++ -std=gnu++11 -I"F:/biocbuild/bbs-3.20-bioc/R/include" -DNDEBUG -D_FILE_OFFSET_BITS=64 -I'F:/biocbuild/bbs-3.20-bioc/R/library/Rhtslib/include' -I'F:/biocbuild/bbs-3.20-bioc/R/library/zlibbioc/include' -I'F:/biocbuild/bbs-3.20-bioc/R/library/Rcpp/include' -I"C:/rtools44/x86_64-w64-mingw32.static.posix/include" -O2 -Wall -mfpmath=sse -msse2 -mstackrealign -c correlate_reads.cpp -o correlate_reads.o
g++ -std=gnu++11 -I"F:/biocbuild/bbs-3.20-bioc/R/include" -DNDEBUG -D_FILE_OFFSET_BITS=64 -I'F:/biocbuild/bbs-3.20-bioc/R/library/Rhtslib/include' -I'F:/biocbuild/bbs-3.20-bioc/R/library/zlibbioc/include' -I'F:/biocbuild/bbs-3.20-bioc/R/library/Rcpp/include' -I"C:/rtools44/x86_64-w64-mingw32.static.posix/include" -O2 -Wall -mfpmath=sse -msse2 -mstackrealign -c find_maxima.cpp -o find_maxima.o
g++ -std=gnu++11 -I"F:/biocbuild/bbs-3.20-bioc/R/include" -DNDEBUG -D_FILE_OFFSET_BITS=64 -I'F:/biocbuild/bbs-3.20-bioc/R/library/Rhtslib/include' -I'F:/biocbuild/bbs-3.20-bioc/R/library/zlibbioc/include' -I'F:/biocbuild/bbs-3.20-bioc/R/library/Rcpp/include' -I"C:/rtools44/x86_64-w64-mingw32.static.posix/include" -O2 -Wall -mfpmath=sse -msse2 -mstackrealign -c get_profile.cpp -o get_profile.o
g++ -std=gnu++11 -I"F:/biocbuild/bbs-3.20-bioc/R/include" -DNDEBUG -D_FILE_OFFSET_BITS=64 -I'F:/biocbuild/bbs-3.20-bioc/R/library/Rhtslib/include' -I'F:/biocbuild/bbs-3.20-bioc/R/library/zlibbioc/include' -I'F:/biocbuild/bbs-3.20-bioc/R/library/Rcpp/include' -I"C:/rtools44/x86_64-w64-mingw32.static.posix/include" -O2 -Wall -mfpmath=sse -msse2 -mstackrealign -c get_rle_counts.cpp -o get_rle_counts.o
g++ -std=gnu++11 -I"F:/biocbuild/bbs-3.20-bioc/R/include" -DNDEBUG -D_FILE_OFFSET_BITS=64 -I'F:/biocbuild/bbs-3.20-bioc/R/library/Rhtslib/include' -I'F:/biocbuild/bbs-3.20-bioc/R/library/zlibbioc/include' -I'F:/biocbuild/bbs-3.20-bioc/R/library/Rcpp/include' -I"C:/rtools44/x86_64-w64-mingw32.static.posix/include" -O2 -Wall -mfpmath=sse -msse2 -mstackrealign -c init.cpp -o init.o
g++ -std=gnu++11 -I"F:/biocbuild/bbs-3.20-bioc/R/include" -DNDEBUG -D_FILE_OFFSET_BITS=64 -I'F:/biocbuild/bbs-3.20-bioc/R/library/Rhtslib/include' -I'F:/biocbuild/bbs-3.20-bioc/R/library/zlibbioc/include' -I'F:/biocbuild/bbs-3.20-bioc/R/library/Rcpp/include' -I"C:/rtools44/x86_64-w64-mingw32.static.posix/include" -O2 -Wall -mfpmath=sse -msse2 -mstackrealign -c intersector.cpp -o intersector.o
intersector.cpp: In constructor 'intersector::intersector(SEXP, SEXP)':
intersector.cpp:8:10: warning: comparison of integer expressions of different signedness: 'const size_t' {aka 'const long long unsigned int'} and 'R_xlen_t' {aka 'long long int'} [-Wsign-compare]
8 | if (N!=elements.size()) {
| ~^~~~~~~~~~~~~~~~~
intersector.cpp:32:36: warning: comparison of integer expressions of different signedness: 'int' and 'const size_t' {aka 'const long long unsigned int'} [-Wsign-compare]
32 | if (current < 0 || current >= nelements) {
| ~~~~~~~~^~~~~~~~~~~~
g++ -std=gnu++11 -I"F:/biocbuild/bbs-3.20-bioc/R/include" -DNDEBUG -D_FILE_OFFSET_BITS=64 -I'F:/biocbuild/bbs-3.20-bioc/R/library/Rhtslib/include' -I'F:/biocbuild/bbs-3.20-bioc/R/library/zlibbioc/include' -I'F:/biocbuild/bbs-3.20-bioc/R/library/Rcpp/include' -I"C:/rtools44/x86_64-w64-mingw32.static.posix/include" -O2 -Wall -mfpmath=sse -msse2 -mstackrealign -c merge_windows.cpp -o merge_windows.o
g++ -std=gnu++11 -I"F:/biocbuild/bbs-3.20-bioc/R/include" -DNDEBUG -D_FILE_OFFSET_BITS=64 -I'F:/biocbuild/bbs-3.20-bioc/R/library/Rhtslib/include' -I'F:/biocbuild/bbs-3.20-bioc/R/library/zlibbioc/include' -I'F:/biocbuild/bbs-3.20-bioc/R/library/Rcpp/include' -I"C:/rtools44/x86_64-w64-mingw32.static.posix/include" -O2 -Wall -mfpmath=sse -msse2 -mstackrealign -c pair_reads.cpp -o pair_reads.o
g++ -std=gnu++11 -I"F:/biocbuild/bbs-3.20-bioc/R/include" -DNDEBUG -D_FILE_OFFSET_BITS=64 -I'F:/biocbuild/bbs-3.20-bioc/R/library/Rhtslib/include' -I'F:/biocbuild/bbs-3.20-bioc/R/library/zlibbioc/include' -I'F:/biocbuild/bbs-3.20-bioc/R/library/Rcpp/include' -I"C:/rtools44/x86_64-w64-mingw32.static.posix/include" -O2 -Wall -mfpmath=sse -msse2 -mstackrealign -c single_reads.cpp -o single_reads.o
g++ -std=gnu++11 -I"F:/biocbuild/bbs-3.20-bioc/R/include" -DNDEBUG -D_FILE_OFFSET_BITS=64 -I'F:/biocbuild/bbs-3.20-bioc/R/library/Rhtslib/include' -I'F:/biocbuild/bbs-3.20-bioc/R/library/zlibbioc/include' -I'F:/biocbuild/bbs-3.20-bioc/R/library/Rcpp/include' -I"C:/rtools44/x86_64-w64-mingw32.static.posix/include" -O2 -Wall -mfpmath=sse -msse2 -mstackrealign -c utils.cpp -o utils.o
g++ -shared -s -static-libgcc -o csaw.dll tmp.def annotator.o bam_utils.o best_in_cluster.o check_bimodality.o correlate_reads.o find_maxima.o get_profile.o get_rle_counts.o init.o intersector.o merge_windows.o pair_reads.o single_reads.o utils.o F:/biocbuild/bbs-3.20-bioc/R/library/Rhtslib/usrlib/x64/libhts.a -lm -lbz2 -llzma -lcurl -lpsl -lbrotlidec -lbrotlicommon -lbcrypt -lidn2 -lunistring -liconv -lssl -lcrypto -lz -lcrypt32 -lwsock32 -lwldap32 -lssh2 -lgcrypt -lgpg-error -lws2_32 -lzstd -lregex -LC:/rtools44/x86_64-w64-mingw32.static.posix/lib/x64 -LC:/rtools44/x86_64-w64-mingw32.static.posix/lib -LF:/biocbuild/bbs-3.20-bioc/R/bin/x64 -lR
installing to F:/biocbuild/bbs-3.20-bioc/meat/csaw.buildbin-libdir/00LOCK-csaw/00new/csaw/libs/x64
** R
** inst
** byte-compile and prepare package for lazy loading
** help
*** installing help indices
** building package indices
** installing vignettes
** testing if installed package can be loaded from temporary location
** testing if installed package can be loaded from final location
** testing if installed package keeps a record of temporary installation path
* MD5 sums
packaged installation of 'csaw' as csaw_1.40.0.zip
* DONE (csaw)