| Back to Multiple platform build/check report for BioC 3.20: simplified long |
|
This page was generated on 2025-04-02 19:28 -0400 (Wed, 02 Apr 2025).
| Hostname | OS | Arch (*) | R version | Installed pkgs |
|---|---|---|---|---|
| nebbiolo2 | Linux (Ubuntu 24.04.1 LTS) | x86_64 | 4.4.3 (2025-02-28) -- "Trophy Case" | 4764 |
| palomino8 | Windows Server 2022 Datacenter | x64 | 4.4.3 (2025-02-28 ucrt) -- "Trophy Case" | 4495 |
| merida1 | macOS 12.7.5 Monterey | x86_64 | 4.4.3 (2025-02-28) -- "Trophy Case" | 4522 |
| kjohnson1 | macOS 13.6.6 Ventura | arm64 | 4.4.3 (2025-02-28) -- "Trophy Case" | 4449 |
| taishan | Linux (openEuler 24.03 LTS) | aarch64 | 4.4.3 (2025-02-28) -- "Trophy Case" | 4426 |
| Click on any hostname to see more info about the system (e.g. compilers) (*) as reported by 'uname -p', except on Windows and Mac OS X | ||||
| Package 457/2289 | Hostname | OS / Arch | INSTALL | BUILD | CHECK | BUILD BIN | ||||||||
| crisprDesign 1.8.0 (landing page) Jean-Philippe Fortin
| nebbiolo2 | Linux (Ubuntu 24.04.1 LTS) / x86_64 | OK | OK | OK | |||||||||
| palomino8 | Windows Server 2022 Datacenter / x64 | OK | OK | OK | OK | |||||||||
| merida1 | macOS 12.7.5 Monterey / x86_64 | OK | OK | OK | OK | |||||||||
| kjohnson1 | macOS 13.6.6 Ventura / arm64 | OK | OK | OK | OK | |||||||||
| taishan | Linux (openEuler 24.03 LTS) / aarch64 | OK | OK | OK | ||||||||||
|
To the developers/maintainers of the crisprDesign package: - Allow up to 24 hours (and sometimes 48 hours) for your latest push to git@git.bioconductor.org:packages/crisprDesign.git to reflect on this report. See Troubleshooting Build Report for more information. - Use the following Renviron settings to reproduce errors and warnings. - If 'R CMD check' started to fail recently on the Linux builder(s) over a missing dependency, add the missing dependency to 'Suggests:' in your DESCRIPTION file. See Renviron.bioc for more information. |
| Package: crisprDesign |
| Version: 1.8.0 |
| Command: /home/biocbuild/bbs-3.20-bioc/R/bin/R CMD check --install=check:crisprDesign.install-out.txt --library=/home/biocbuild/bbs-3.20-bioc/R/site-library --timings crisprDesign_1.8.0.tar.gz |
| StartedAt: 2025-03-31 21:08:43 -0400 (Mon, 31 Mar 2025) |
| EndedAt: 2025-03-31 21:18:52 -0400 (Mon, 31 Mar 2025) |
| EllapsedTime: 608.6 seconds |
| RetCode: 0 |
| Status: OK |
| CheckDir: crisprDesign.Rcheck |
| Warnings: 0 |
##############################################################################
##############################################################################
###
### Running command:
###
### /home/biocbuild/bbs-3.20-bioc/R/bin/R CMD check --install=check:crisprDesign.install-out.txt --library=/home/biocbuild/bbs-3.20-bioc/R/site-library --timings crisprDesign_1.8.0.tar.gz
###
##############################################################################
##############################################################################
* using log directory ‘/home/biocbuild/bbs-3.20-bioc/meat/crisprDesign.Rcheck’
* using R version 4.4.3 (2025-02-28)
* using platform: x86_64-pc-linux-gnu
* R was compiled by
gcc (Ubuntu 13.3.0-6ubuntu2~24.04) 13.3.0
GNU Fortran (Ubuntu 13.3.0-6ubuntu2~24.04) 13.3.0
* running under: Ubuntu 24.04.2 LTS
* using session charset: UTF-8
* checking for file ‘crisprDesign/DESCRIPTION’ ... OK
* this is package ‘crisprDesign’ version ‘1.8.0’
* package encoding: UTF-8
* checking package namespace information ... OK
* checking package dependencies ... OK
* checking if this is a source package ... OK
* checking if there is a namespace ... OK
* checking for hidden files and directories ... NOTE
Found the following hidden files and directories:
.BBSoptions
These were most likely included in error. See section ‘Package
structure’ in the ‘Writing R Extensions’ manual.
* checking for portable file names ... OK
* checking for sufficient/correct file permissions ... OK
* checking whether package ‘crisprDesign’ can be installed ... OK
* checking installed package size ... OK
* checking package directory ... OK
* checking ‘build’ directory ... OK
* checking DESCRIPTION meta-information ... NOTE
License stub is invalid DCF.
* checking top-level files ... OK
* checking for left-over files ... OK
* checking index information ... OK
* checking package subdirectories ... OK
* checking code files for non-ASCII characters ... OK
* checking R files for syntax errors ... OK
* checking whether the package can be loaded ... OK
* checking whether the package can be loaded with stated dependencies ... OK
* checking whether the package can be unloaded cleanly ... OK
* checking whether the namespace can be loaded with stated dependencies ... OK
* checking whether the namespace can be unloaded cleanly ... OK
* checking loading without being on the library search path ... OK
* checking dependencies in R code ... OK
* checking S3 generic/method consistency ... OK
* checking replacement functions ... OK
* checking foreign function calls ... OK
* checking R code for possible problems ... OK
* checking Rd files ... OK
* checking Rd metadata ... OK
* checking Rd cross-references ... OK
* checking for missing documentation entries ... OK
* checking for code/documentation mismatches ... OK
* checking Rd \usage sections ... OK
* checking Rd contents ... OK
* checking for unstated dependencies in examples ... OK
* checking contents of ‘data’ directory ... OK
* checking data for non-ASCII characters ... OK
* checking LazyData ... OK
* checking data for ASCII and uncompressed saves ... OK
* checking files in ‘vignettes’ ... OK
* checking examples ... OK
Examples with CPU (user + system) or elapsed time > 5s
user system elapsed
addEditedAlleles 13.349 0.327 13.676
addSNPAnnotation 12.733 0.021 12.759
* checking for unstated dependencies in ‘tests’ ... OK
* checking tests ...
Running ‘testthat.R’
OK
* checking for unstated dependencies in vignettes ... OK
* checking package vignettes ... OK
* checking re-building of vignette outputs ... OK
* checking PDF version of manual ... OK
* DONE
Status: 2 NOTEs
See
‘/home/biocbuild/bbs-3.20-bioc/meat/crisprDesign.Rcheck/00check.log’
for details.
crisprDesign.Rcheck/00install.out
############################################################################## ############################################################################## ### ### Running command: ### ### /home/biocbuild/bbs-3.20-bioc/R/bin/R CMD INSTALL crisprDesign ### ############################################################################## ############################################################################## * installing to library ‘/home/biocbuild/bbs-3.20-bioc/R/site-library’ * installing *source* package ‘crisprDesign’ ... ** using staged installation ** R ** data *** moving datasets to lazyload DB ** inst ** byte-compile and prepare package for lazy loading ** help *** installing help indices ** building package indices ** installing vignettes ** testing if installed package can be loaded from temporary location ** testing if installed package can be loaded from final location ** testing if installed package keeps a record of temporary installation path * DONE (crisprDesign)
crisprDesign.Rcheck/tests/testthat.Rout
R version 4.4.3 (2025-02-28) -- "Trophy Case"
Copyright (C) 2025 The R Foundation for Statistical Computing
Platform: x86_64-pc-linux-gnu
R is free software and comes with ABSOLUTELY NO WARRANTY.
You are welcome to redistribute it under certain conditions.
Type 'license()' or 'licence()' for distribution details.
R is a collaborative project with many contributors.
Type 'contributors()' for more information and
'citation()' on how to cite R or R packages in publications.
Type 'demo()' for some demos, 'help()' for on-line help, or
'help.start()' for an HTML browser interface to help.
Type 'q()' to quit R.
> library(testthat)
> library(crisprDesign)
Loading required package: crisprBase
>
> test_check("crisprDesign")
[runCrisprBowtie] Using BSgenome.Hsapiens.UCSC.hg38
[runCrisprBowtie] Searching for SpCas9 protospacers
# reads processed: 7
# reads with at least one alignment: 6 (85.71%)
# reads that failed to align: 1 (14.29%)
Reported 6 alignments
[runCrisprBowtie] Using BSgenome.Hsapiens.UCSC.hg38
[runCrisprBowtie] Searching for SpCas9 protospacers
# reads processed: 7
# reads with at least one alignment: 6 (85.71%)
# reads that failed to align: 1 (14.29%)
Reported 6 alignments
[runCrisprBowtie] Using BSgenome.Hsapiens.UCSC.hg38
[runCrisprBowtie] Searching for SpCas9 protospacers
# reads processed: 6
# reads with at least one alignment: 6 (100.00%)
# reads that failed to align: 0 (0.00%)
Reported 6 alignments
[runCrisprBowtie] Using BSgenome.Hsapiens.UCSC.hg38
[runCrisprBowtie] Searching for SpCas9 protospacers
# reads processed: 6
# reads with at least one alignment: 6 (100.00%)
# reads that failed to align: 0 (0.00%)
Reported 6 alignments
[runCrisprBowtie] Using BSgenome.Hsapiens.UCSC.hg38
[runCrisprBowtie] Searching for SpCas9 protospacers
# reads processed: 6
# reads with at least one alignment: 6 (100.00%)
# reads that failed to align: 0 (0.00%)
Reported 6 alignments
[runCrisprBowtie] Using BSgenome.Hsapiens.UCSC.hg38
[runCrisprBowtie] Searching for SpCas9 protospacers
# reads processed: 6
# reads with at least one alignment: 6 (100.00%)
# reads that failed to align: 0 (0.00%)
Reported 6 alignments
[runCrisprBowtie] Using BSgenome.Hsapiens.UCSC.hg38
[runCrisprBowtie] Searching for SpCas9 protospacers
# reads processed: 6
# reads with at least one alignment: 6 (100.00%)
# reads that failed to align: 0 (0.00%)
Reported 6 alignments
[runCrisprBowtie] Using BSgenome.Hsapiens.UCSC.hg38
[runCrisprBowtie] Searching for SpCas9 protospacers
# reads processed: 6
# reads with at least one alignment: 6 (100.00%)
# reads that failed to align: 0 (0.00%)
Reported 6 alignments
[runCrisprBowtie] Using BSgenome.Hsapiens.UCSC.hg38
[runCrisprBowtie] Searching for SpCas9 protospacers
# reads processed: 6
# reads with at least one alignment: 6 (100.00%)
# reads that failed to align: 0 (0.00%)
Reported 6 alignments
[runCrisprBowtie] Using BSgenome.Hsapiens.UCSC.hg38
[runCrisprBowtie] Searching for SpCas9 protospacers
# reads processed: 6
# reads with at least one alignment: 6 (100.00%)
# reads that failed to align: 0 (0.00%)
Reported 6 alignments
[runCrisprBowtie] Using BSgenome.Hsapiens.UCSC.hg38
[runCrisprBowtie] Searching for SpCas9 protospacers
# reads processed: 6
# reads with at least one alignment: 6 (100.00%)
# reads that failed to align: 0 (0.00%)
Reported 6 alignments
[runCrisprBowtie] Using BSgenome.Hsapiens.UCSC.hg38
[runCrisprBowtie] Searching for SpCas9 protospacers
# reads processed: 6
# reads with at least one alignment: 6 (100.00%)
# reads that failed to align: 0 (0.00%)
Reported 6 alignments
[ FAIL 0 | WARN 0 | SKIP 78 | PASS 1090 ]
══ Skipped tests (78) ══════════════════════════════════════════════════════════
• empty test (69): 'test-GuideSet-class.R:214:1',
'test-GuideSet-class.R:225:1', 'test-GuideSet-class.R:230:1',
'test-addGeneAnnotation.R:17:1', 'test-addGeneAnnotation.R:116:1',
'test-addGeneAnnotation.R:174:1', 'test-addNtcs.R:352:1',
'test-addNtcs.R:398:1', 'test-addOffTargetScores.R:21:1',
'test-addOnTargetScores.R:20:1', 'test-addOnTargetScores.R:67:1',
'test-addOnTargetScores.R:87:1', 'test-addOnTargetScores.R:101:1',
'test-addOnTargetScores.R:145:1', 'test-addOnTargetScores.R:157:1',
'test-addOnTargetScores.R:190:1', 'test-addPamScores.R:30:1',
'test-addRepeats.R:78:1', 'test-addRepeats.R:84:1', 'test-addRepeats.R:89:1',
'test-addRestrictionEnzymes.R:89:1', 'test-addRestrictionEnzymes.R:180:1',
'test-addRestrictionEnzymes.R:185:1', 'test-addRestrictionEnzymes.R:191:1',
'test-addRestrictionEnzymes.R:198:1', 'test-addSpacerAlignments.R:63:1',
'test-addSpacerAlignments.R:147:1', 'test-addSpacerAlignments.R:199:1',
'test-addSpacerAlignments.R:266:1', 'test-addSpacerAlignments.R:349:1',
'test-addSpacerAlignments.R:469:1', 'test-addSpacerAlignments.R:509:1',
'test-addSpacerAlignments.R:546:1', 'test-addSpacerAlignments.R:572:1',
'test-addSpacerAlignments.R:603:1', 'test-addSpacerAlignments.R:627:1',
'test-addSpacerAlignments.R:650:1', 'test-addSpacerAlignments.R:669:1',
'test-addSpacerAlignments.R:720:1', 'test-completeSpacers.R:27:1',
'test-completeSpacers.R:32:1', 'test-completeSpacers.R:37:1',
'test-completeSpacers.R:42:1', 'test-completeSpacers.R:47:1',
'test-completeSpacers.R:52:1', 'test-completeSpacers.R:60:1',
'test-completeSpacers.R:73:1', 'test-completeSpacers.R:78:1',
'test-completeSpacers.R:83:1', 'test-completeSpacers.R:88:1',
'test-completeSpacers.R:93:1', 'test-completeSpacers.R:113:1',
'test-completeSpacers.R:118:1', 'test-completeSpacers.R:123:1',
'test-completeSpacers.R:128:1', 'test-completeSpacers.R:133:1',
'test-completeSpacers.R:139:1', 'test-completeSpacers.R:144:1',
'test-completeSpacers.R:167:1', 'test-completeSpacers.R:172:1',
'test-completeSpacers.R:177:1', 'test-completeSpacers.R:182:1',
'test-completeSpacers.R:187:1', 'test-completeSpacers.R:193:1',
'test-completeSpacers.R:198:1', 'test-completeSpacers.R:203:1',
'test-completeSpacers.R:208:1', 'test-completeSpacers.R:213:1',
'test-queryTxObject.R:152:1'
• long run time (8): 'test-TxDb2GRangesList.R:19:5',
'test-TxDb2GRangesList.R:36:5', 'test-TxDb2GRangesList.R:56:5',
'test-TxDb2GRangesList.R:77:5', 'test-addSNPAnnotation.R:33:5',
'test-addSNPAnnotation.R:70:5', 'test-addSNPAnnotation.R:79:5',
'test-addSNPAnnotation.R:124:5'
• no del for guideSetExample (1): 'test-addSNPAnnotation.R:148:5'
[ FAIL 0 | WARN 0 | SKIP 78 | PASS 1090 ]
>
> proc.time()
user system elapsed
179.043 5.325 184.788
crisprDesign.Rcheck/crisprDesign-Ex.timings
| name | user | system | elapsed | |
| GuideSet-class | 0.151 | 0.001 | 0.152 | |
| GuideSet2DataFrames | 2.813 | 0.284 | 3.098 | |
| PairedGuideSet-class | 0.416 | 0.011 | 0.427 | |
| TxDb2GRangesList | 0.000 | 0.000 | 0.001 | |
| addCompositeScores | 1.129 | 0.033 | 1.162 | |
| addDistanceToTss | 0.042 | 0.002 | 0.044 | |
| addEditedAlleles | 13.349 | 0.327 | 13.676 | |
| addExonTable | 0 | 0 | 0 | |
| addGeneAnnotation | 1.495 | 0.019 | 1.516 | |
| addIsoformAnnotation | 0.110 | 0.001 | 0.111 | |
| addNtcs | 0.410 | 0.009 | 0.419 | |
| addOffTargetScores | 0.257 | 0.000 | 0.257 | |
| addOnTargetScores | 0 | 0 | 0 | |
| addOpsBarcodes | 0.036 | 0.000 | 0.036 | |
| addPamScores | 0.452 | 0.000 | 0.452 | |
| addRepeats | 0.270 | 0.005 | 0.275 | |
| addRestrictionEnzymes | 0.793 | 0.024 | 0.817 | |
| addSNPAnnotation | 12.733 | 0.021 | 12.759 | |
| addSequenceFeatures | 0.470 | 0.001 | 0.470 | |
| addSpacerAlignments | 0.000 | 0.000 | 0.001 | |
| addTssAnnotation | 0.175 | 0.000 | 0.176 | |
| addTxTable | 0.000 | 0.000 | 0.001 | |
| completeSpacers | 0.389 | 0.010 | 0.399 | |
| convertToMinMaxGRanges | 0.059 | 0.000 | 0.058 | |
| convertToProtospacerGRanges | 0.251 | 0.004 | 0.254 | |
| designOpsLibrary | 0.114 | 0.001 | 0.114 | |
| findSpacerPairs | 2.228 | 0.018 | 2.248 | |
| findSpacers | 1.774 | 0.008 | 1.782 | |
| getBarcodeDistanceMatrix | 1.674 | 0.061 | 1.735 | |
| getConsensusIsoform | 0.107 | 0.000 | 0.107 | |
| getMrnaSequences | 0.347 | 0.008 | 0.355 | |
| getPreMrnaSequences | 0.274 | 0.003 | 0.277 | |
| getTssObjectFromTxObject | 0.062 | 0.000 | 0.062 | |
| getTxDb | 0 | 0 | 0 | |
| getTxInfoDataFrame | 0.715 | 0.031 | 0.746 | |
| preparePfamTable | 0.002 | 0.001 | 0.002 | |
| queryTss | 0.026 | 0.000 | 0.026 | |
| queryTxObject | 0.03 | 0.00 | 0.03 | |
| rankSpacers | 1.851 | 0.005 | 1.856 | |
| removeRepeats | 0.249 | 0.003 | 0.251 | |
| updateOpsLibrary | 0.226 | 0.000 | 0.226 | |
| validateOpsLibrary | 0.170 | 0.000 | 0.169 | |