| Back to Multiple platform build/check report for BioC 3.20: simplified long | 
 | 
This page was generated on 2024-11-20 12:07 -0500 (Wed, 20 Nov 2024).
| Hostname | OS | Arch (*) | R version | Installed pkgs | 
|---|---|---|---|---|
| teran2 | Linux (Ubuntu 24.04.1 LTS) | x86_64 | 4.4.2 (2024-10-31) -- "Pile of Leaves" | 4481 | 
| nebbiolo2 | Linux (Ubuntu 24.04.1 LTS) | x86_64 | 4.4.2 (2024-10-31) -- "Pile of Leaves" | 4479 | 
| palomino8 | Windows Server 2022 Datacenter | x64 | 4.4.2 (2024-10-31 ucrt) -- "Pile of Leaves" | 4359 | 
| lconway | macOS 12.7.1 Monterey | x86_64 | 4.4.1 (2024-06-14) -- "Race for Your Life" | 4539 | 
| kunpeng2 | Linux (openEuler 22.03 LTS-SP1) | aarch64 | 4.4.1 (2024-06-14) -- "Race for Your Life" | 4493 | 
| Click on any hostname to see more info about the system (e.g. compilers) (*) as reported by 'uname -p', except on Windows and Mac OS X | ||||
| Package 443/2289 | Hostname | OS / Arch | INSTALL | BUILD | CHECK | BUILD BIN | ||||||||
| cosmosR 1.14.0  (landing page) Attila Gabor 
 | teran2 | Linux (Ubuntu 24.04.1 LTS) / x86_64 | OK | OK | OK |  | ||||||||
| nebbiolo2 | Linux (Ubuntu 24.04.1 LTS) / x86_64 | OK | OK | OK | ||||||||||
| palomino8 | Windows Server 2022 Datacenter / x64 | OK | OK | OK | OK |  | ||||||||
| lconway | macOS 12.7.1 Monterey / x86_64 | OK | OK | OK | OK |  | ||||||||
| kunpeng2 | Linux (openEuler 22.03 LTS-SP1) / aarch64 | OK | OK | OK | ||||||||||
| To the developers/maintainers of the cosmosR package: - Allow up to 24 hours (and sometimes 48 hours) for your latest push to git@git.bioconductor.org:packages/cosmosR.git to reflect on this report. See Troubleshooting Build Report for more information. - Use the following Renviron settings to reproduce errors and warnings. - If 'R CMD check' started to fail recently on the Linux builder(s) over a missing dependency, add the missing dependency to 'Suggests:' in your DESCRIPTION file. See Renviron.bioc for more information. - See Martin Grigorov's blog post for how to debug Linux ARM64 related issues on a x86_64 host. | 
| Package: cosmosR | 
| Version: 1.14.0 | 
| Command: /home/biocbuild/R/R/bin/R CMD check --install=check:cosmosR.install-out.txt --library=/home/biocbuild/R/R/site-library --no-vignettes --timings cosmosR_1.14.0.tar.gz | 
| StartedAt: 2024-11-20 06:37:16 -0000 (Wed, 20 Nov 2024) | 
| EndedAt: 2024-11-20 06:39:03 -0000 (Wed, 20 Nov 2024) | 
| EllapsedTime: 107.2 seconds | 
| RetCode: 0 | 
| Status: OK | 
| CheckDir: cosmosR.Rcheck | 
| Warnings: 0 | 
##############################################################################
##############################################################################
###
### Running command:
###
###   /home/biocbuild/R/R/bin/R CMD check --install=check:cosmosR.install-out.txt --library=/home/biocbuild/R/R/site-library --no-vignettes --timings cosmosR_1.14.0.tar.gz
###
##############################################################################
##############################################################################
* using log directory ‘/home/biocbuild/bbs-3.20-bioc/meat/cosmosR.Rcheck’
* using R version 4.4.1 (2024-06-14)
* using platform: aarch64-unknown-linux-gnu
* R was compiled by
    gcc (GCC) 12.2.1 20220819 (openEuler 12.2.1-14)
    GNU Fortran (GCC) 10.3.1
* running under: openEuler 22.03 (LTS-SP1)
* using session charset: UTF-8
* using option ‘--no-vignettes’
* checking for file ‘cosmosR/DESCRIPTION’ ... OK
* checking extension type ... Package
* this is package ‘cosmosR’ version ‘1.14.0’
* package encoding: UTF-8
* checking package namespace information ... OK
* checking package dependencies ... OK
* checking if this is a source package ... OK
* checking if there is a namespace ... OK
* checking for hidden files and directories ... OK
* checking for portable file names ... OK
* checking for sufficient/correct file permissions ... OK
* checking whether package ‘cosmosR’ can be installed ... OK
* checking installed package size ... OK
* checking package directory ... OK
* checking ‘build’ directory ... OK
* checking DESCRIPTION meta-information ... OK
* checking top-level files ... NOTE
File
  LICENSE
is not mentioned in the DESCRIPTION file.
* checking for left-over files ... OK
* checking index information ... OK
* checking package subdirectories ... OK
* checking code files for non-ASCII characters ... OK
* checking R files for syntax errors ... OK
* checking whether the package can be loaded ... OK
* checking whether the package can be loaded with stated dependencies ... OK
* checking whether the package can be unloaded cleanly ... OK
* checking whether the namespace can be loaded with stated dependencies ... OK
* checking whether the namespace can be unloaded cleanly ... OK
* checking loading without being on the library search path ... OK
* checking dependencies in R code ... NOTE
There are ::: calls to the package's namespace in its code. A package
  almost never needs to use ::: for its own objects:
  ‘keep_controllable_neighbours’
* checking S3 generic/method consistency ... OK
* checking replacement functions ... OK
* checking foreign function calls ... OK
* checking R code for possible problems ... NOTE
decompress_solution_network: no visible binding for global variable
  ‘HMDB_mapper_vec’
format_COSMOS_res: no visible binding for global variable
  ‘HMDB_mapper_vec’
meta_network_cleanup: no visible binding for global variable ‘target’
meta_network_cleanup: no visible binding for global variable ‘.’
Undefined global functions or variables:
  . HMDB_mapper_vec target
* checking Rd files ... OK
* checking Rd metadata ... OK
* checking Rd cross-references ... OK
* checking for missing documentation entries ... OK
* checking for code/documentation mismatches ... OK
* checking Rd \usage sections ... OK
* checking Rd contents ... OK
* checking for unstated dependencies in examples ... OK
* checking contents of ‘data’ directory ... OK
* checking data for non-ASCII characters ... NOTE
  Note: found 1029 marked UTF-8 strings
* checking data for ASCII and uncompressed saves ... OK
* checking R/sysdata.rda ... OK
* checking files in ‘vignettes’ ... OK
* checking examples ... OK
* checking for unstated dependencies in ‘tests’ ... OK
* checking tests ...
  Running ‘testthat.R’
 OK
* checking for unstated dependencies in vignettes ... OK
* checking package vignettes ... OK
* checking running R code from vignettes ... SKIPPED
* checking re-building of vignette outputs ... SKIPPED
* checking PDF version of manual ... OK
* DONE
Status: 4 NOTEs
See
  ‘/home/biocbuild/bbs-3.20-bioc/meat/cosmosR.Rcheck/00check.log’
for details.
cosmosR.Rcheck/00install.out
############################################################################## ############################################################################## ### ### Running command: ### ### /home/biocbuild/R/R/bin/R CMD INSTALL cosmosR ### ############################################################################## ############################################################################## * installing to library ‘/home/biocbuild/R/R-4.4.1/site-library’ * installing *source* package ‘cosmosR’ ... ** using staged installation ** R ** data ** inst ** byte-compile and prepare package for lazy loading ** help *** installing help indices *** copying figures ** building package indices ** installing vignettes ** testing if installed package can be loaded from temporary location ** testing if installed package can be loaded from final location ** testing if installed package keeps a record of temporary installation path * DONE (cosmosR)
cosmosR.Rcheck/tests/testthat.Rout
R version 4.4.1 (2024-06-14) -- "Race for Your Life"
Copyright (C) 2024 The R Foundation for Statistical Computing
Platform: aarch64-unknown-linux-gnu
R is free software and comes with ABSOLUTELY NO WARRANTY.
You are welcome to redistribute it under certain conditions.
Type 'license()' or 'licence()' for distribution details.
R is a collaborative project with many contributors.
Type 'contributors()' for more information and
'citation()' on how to cite R or R packages in publications.
Type 'demo()' for some demos, 'help()' for on-line help, or
'help.start()' for an HTML browser interface to help.
Type 'q()' to quit R.
> library(testthat)
> library(cosmosR)
> 
> test_check("cosmosR")
[1] "COSMOS: all 3 signaling nodes from data were found in the meta PKN"
[1] "COSMOS: all 2 metabolic nodes from data were found in the meta PKN"
[1] "COSMOS: 2975 of the 9300 genes in expression data were found as transcription factor target"
[1] "COSMOS: 2975 of the 5321 transcription factor targets were found in expression data"
[1] "COSMOS: removing unexpressed nodes from PKN..."
[1] "COSMOS: 0 interactions removed"
[1] "COSMOS: removing nodes that are not reachable from inputs within 8 steps"
[1] "COSMOS: 26 from  101 interactions are removed from the PKN"
[1] "COSMOS: 1 input/measured nodes are not in PKN any more: Metab__HMDB0000190_c and 0 more."
[1] "COSMOS: removing nodes that are not observable by measurements within 8 steps"
[1] "COSMOS: 50 from  75 interactions are removed from the PKN"
[1] "COSMOS: 2 input/measured nodes are not in PKN any more: USF1, SRF and 0 more."
[1] "COSMOS:  0 interactions are removed from the PKN based on consistency check between TF activity and gene expression"
[1] "COSMOS: all 1 signaling nodes from data were found in the meta PKN"
[1] "COSMOS: all 1 metabolic nodes from data were found in the meta PKN"
[1] "COSMOS: 2975 of the 9300 genes in expression data were found as transcription factor target"
[1] "COSMOS: 2975 of the 5321 transcription factor targets were found in expression data"
[1] "COSMOS: all 3 signaling nodes from data were found in the meta PKN"
[1] "COSMOS: all 2 metabolic nodes from data were found in the meta PKN"
[1] "COSMOS: 2975 of the 9300 genes in expression data were found as transcription factor target"
[1] "COSMOS: 2975 of the 5321 transcription factor targets were found in expression data"
[1] "COSMOS: removing unexpressed nodes from PKN..."
[1] "COSMOS: 0 interactions removed"
[1] "COSMOS: removing nodes that are not reachable from inputs within 8 steps"
[1] "COSMOS: 0 from  101 interactions are removed from the PKN"
[1] "COSMOS: removing nodes that are not observable by measurements within 8 steps"
[1] "COSMOS: 54 from  101 interactions are removed from the PKN"
[1] "COSMOS: 1 input/measured nodes are not in PKN any more: Metab__HMDB0000190_c and 0 more."
[1] "COSMOS:  0 interactions are removed from the PKN based on consistency check between TF activity and gene expression"
[1] "COSMOS: all 3 signaling nodes from data were found in the meta PKN"
[1] "COSMOS: all 1 metabolic nodes from data were found in the meta PKN"
[1] "COSMOS: 2975 of the 9300 genes in expression data were found as transcription factor target"
[1] "COSMOS: 2975 of the 5321 transcription factor targets were found in expression data"
[1] "COSMOS: all 3 signaling nodes from data were found in the meta PKN"
[1] "COSMOS: all 2 metabolic nodes from data were found in the meta PKN"
[1] "COSMOS: 2975 of the 9300 genes in expression data were found as transcription factor target"
[1] "COSMOS: 2975 of the 5321 transcription factor targets were found in expression data"
[1] "COSMOS: removing nodes that are not reachable from inputs within 15 steps"
[1] "COSMOS: 0 from  101 interactions are removed from the PKN"
[1] "COSMOS: removing nodes that are not observable by measurements within 15 steps"
[1] "COSMOS: 54 from  101 interactions are removed from the PKN"
[1] "COSMOS: 1 input/measured nodes are not in PKN any more: Metab__HMDB0000190_c and 0 more."
[1] "COSMOS:  0 interactions are removed from the PKN based on consistency check between TF activity and gene expression"
[1] "COSMOS: all 3 signaling nodes from data were found in the meta PKN"
[1] "COSMOS: all 1 metabolic nodes from data were found in the meta PKN"
[1] "COSMOS: 2975 of the 9300 genes in expression data were found as transcription factor target"
[1] "COSMOS: 2975 of the 5321 transcription factor targets were found in expression data"
[1] "lpSolve does not scale well with large PKNs. This solver is mainly for testing purposes. To run COSMSO, we recommend using cplex, or cbc solvers."
[1] "lpSolve does not scale well with large PKNs. This solver is mainly for testing purposes. To run COSMSO, we recommend using cplex, or cbc solvers."
[1] "COSMOS: all 3 signaling nodes from data were found in the meta PKN"
[1] "COSMOS: all 2 metabolic nodes from data were found in the meta PKN"
[1] "COSMOS: 2975 of the 9300 genes in expression data were found as transcription factor target"
[1] "COSMOS: 2975 of the 5321 transcription factor targets were found in expression data"
[1] "COSMOS: removing nodes that are not reachable from inputs within 15 steps"
[1] "COSMOS: 0 from  101 interactions are removed from the PKN"
[1] "COSMOS: removing nodes that are not observable by measurements within 15 steps"
[1] "COSMOS: 52 from  101 interactions are removed from the PKN"
[1] "COSMOS: 2 input/measured nodes are not in PKN any more: USF1, SRF and 0 more."
[1] "COSMOS:  0 interactions are removed from the PKN based on consistency check between TF activity and gene expression"
[1] "COSMOS: all 1 signaling nodes from data were found in the meta PKN"
[1] "COSMOS: all 2 metabolic nodes from data were found in the meta PKN"
[1] "COSMOS: 2975 of the 9300 genes in expression data were found as transcription factor target"
[1] "COSMOS: 2975 of the 5321 transcription factor targets were found in expression data"
[1] "lpSolve does not scale well with large PKNs. This solver is mainly for testing purposes. To run COSMSO, we recommend using cplex, or cbc solvers."
[1] "lpSolve does not scale well with large PKNs. This solver is mainly for testing purposes. To run COSMSO, we recommend using cplex, or cbc solvers."
[ FAIL 0 | WARN 3 | SKIP 0 | PASS 34 ]
[ FAIL 0 | WARN 3 | SKIP 0 | PASS 34 ]
> 
> proc.time()
   user  system elapsed 
  6.531   0.225   6.666 
cosmosR.Rcheck/cosmosR-Ex.timings
| name | user | system | elapsed | |
| HMDB_mapper_vec | 0.269 | 0.020 | 0.290 | |
| compress_same_children | 0.004 | 0.000 | 0.005 | |
| decompress_solution_network | 0.363 | 0.012 | 0.376 | |
| decoupleRnival | 2.152 | 0.016 | 2.173 | |
| default_CARNIVAL_options | 0.258 | 0.022 | 0.281 | |
| display_node_neighboorhood | 4.890 | 0.087 | 4.995 | |
| extract_nodes_for_ORA | 4.022 | 0.040 | 4.071 | |
| filter_incohrent_TF_target | 0.985 | 0.000 | 0.987 | |
| load_tf_regulon_dorothea | 0.075 | 0.000 | 0.075 | |
| meta_network | 0.118 | 0.000 | 0.118 | |
| meta_network_cleanup | 0.286 | 0.000 | 0.286 | |
| preprocess_COSMOS_metabolism_to_signaling | 0.512 | 0.016 | 0.529 | |
| preprocess_COSMOS_signaling_to_metabolism | 1.545 | 0.024 | 1.571 | |
| reduce_solution_network | 1.006 | 0.016 | 1.024 | |
| run_COSMOS_metabolism_to_signaling | 0.849 | 0.007 | 0.859 | |
| run_COSMOS_signaling_to_metabolism | 2.843 | 0.028 | 2.876 | |
| toy_RNA | 0.016 | 0.000 | 0.016 | |
| toy_metabolic_input | 0.001 | 0.000 | 0.001 | |
| toy_network | 0.001 | 0.000 | 0.001 | |
| toy_signaling_input | 0.001 | 0.000 | 0.001 | |