| Back to Multiple platform build/check report for BioC 3.20: simplified long | 
 | 
This page was generated on 2024-11-20 12:07 -0500 (Wed, 20 Nov 2024).
| Hostname | OS | Arch (*) | R version | Installed pkgs | 
|---|---|---|---|---|
| teran2 | Linux (Ubuntu 24.04.1 LTS) | x86_64 | 4.4.2 (2024-10-31) -- "Pile of Leaves" | 4481 | 
| nebbiolo2 | Linux (Ubuntu 24.04.1 LTS) | x86_64 | 4.4.2 (2024-10-31) -- "Pile of Leaves" | 4479 | 
| palomino8 | Windows Server 2022 Datacenter | x64 | 4.4.2 (2024-10-31 ucrt) -- "Pile of Leaves" | 4359 | 
| lconway | macOS 12.7.1 Monterey | x86_64 | 4.4.1 (2024-06-14) -- "Race for Your Life" | 4539 | 
| kunpeng2 | Linux (openEuler 22.03 LTS-SP1) | aarch64 | 4.4.1 (2024-06-14) -- "Race for Your Life" | 4493 | 
| Click on any hostname to see more info about the system (e.g. compilers) (*) as reported by 'uname -p', except on Windows and Mac OS X | ||||
| Package 423/2289 | Hostname | OS / Arch | INSTALL | BUILD | CHECK | BUILD BIN | ||||||||
| condiments 1.14.0  (landing page) Hector Roux de Bezieux 
 | teran2 | Linux (Ubuntu 24.04.1 LTS) / x86_64 | OK | OK | OK |  | ||||||||
| nebbiolo2 | Linux (Ubuntu 24.04.1 LTS) / x86_64 | OK | OK | OK | ||||||||||
| palomino8 | Windows Server 2022 Datacenter / x64 | OK | OK | OK | OK |  | ||||||||
| lconway | macOS 12.7.1 Monterey / x86_64 | OK | OK | OK | OK |  | ||||||||
| kunpeng2 | Linux (openEuler 22.03 LTS-SP1) / aarch64 | OK | OK | OK | ||||||||||
| To the developers/maintainers of the condiments package: - Allow up to 24 hours (and sometimes 48 hours) for your latest push to git@git.bioconductor.org:packages/condiments.git to reflect on this report. See Troubleshooting Build Report for more information. - Use the following Renviron settings to reproduce errors and warnings. - If 'R CMD check' started to fail recently on the Linux builder(s) over a missing dependency, add the missing dependency to 'Suggests:' in your DESCRIPTION file. See Renviron.bioc for more information. - See Martin Grigorov's blog post for how to debug Linux ARM64 related issues on a x86_64 host. | 
| Package: condiments | 
| Version: 1.14.0 | 
| Command: /home/biocbuild/R/R/bin/R CMD check --install=check:condiments.install-out.txt --library=/home/biocbuild/R/R/site-library --no-vignettes --timings condiments_1.14.0.tar.gz | 
| StartedAt: 2024-11-20 06:31:57 -0000 (Wed, 20 Nov 2024) | 
| EndedAt: 2024-11-20 06:40:46 -0000 (Wed, 20 Nov 2024) | 
| EllapsedTime: 528.9 seconds | 
| RetCode: 0 | 
| Status: OK | 
| CheckDir: condiments.Rcheck | 
| Warnings: 0 | 
##############################################################################
##############################################################################
###
### Running command:
###
###   /home/biocbuild/R/R/bin/R CMD check --install=check:condiments.install-out.txt --library=/home/biocbuild/R/R/site-library --no-vignettes --timings condiments_1.14.0.tar.gz
###
##############################################################################
##############################################################################
* using log directory ‘/home/biocbuild/bbs-3.20-bioc/meat/condiments.Rcheck’
* using R version 4.4.1 (2024-06-14)
* using platform: aarch64-unknown-linux-gnu
* R was compiled by
    gcc (GCC) 12.2.1 20220819 (openEuler 12.2.1-14)
    GNU Fortran (GCC) 10.3.1
* running under: openEuler 22.03 (LTS-SP1)
* using session charset: UTF-8
* using option ‘--no-vignettes’
* checking for file ‘condiments/DESCRIPTION’ ... OK
* checking extension type ... Package
* this is package ‘condiments’ version ‘1.14.0’
* package encoding: UTF-8
* checking package namespace information ... OK
* checking package dependencies ... OK
* checking if this is a source package ... OK
* checking if there is a namespace ... OK
* checking for hidden files and directories ... OK
* checking for portable file names ... OK
* checking for sufficient/correct file permissions ... OK
* checking whether package ‘condiments’ can be installed ... OK
* checking installed package size ... OK
* checking package directory ... OK
* checking ‘build’ directory ... OK
* checking DESCRIPTION meta-information ... OK
* checking top-level files ... OK
* checking for left-over files ... OK
* checking index information ... OK
* checking package subdirectories ... OK
* checking code files for non-ASCII characters ... OK
* checking R files for syntax errors ... OK
* checking whether the package can be loaded ... OK
* checking whether the package can be loaded with stated dependencies ... OK
* checking whether the package can be unloaded cleanly ... OK
* checking whether the namespace can be loaded with stated dependencies ... OK
* checking whether the namespace can be unloaded cleanly ... OK
* checking loading without being on the library search path ... OK
* checking dependencies in R code ... OK
* checking S3 generic/method consistency ... OK
* checking replacement functions ... OK
* checking foreign function calls ... OK
* checking R code for possible problems ... NOTE
.condition_sling: no visible binding for global variable ‘.’
.condition_sling : <anonymous>: no visible binding for global variable
  ‘.’
.distinct_inputs: no visible binding for global variable ‘Samples’
.distinct_inputs: no visible binding for global variable ‘.’
.fateSelectionTest: no visible binding for global variable ‘pair’
.fateSelectionTest: no visible binding for global variable ‘statistic’
.fateSelectionTest: no visible binding for global variable ‘p.value’
.multiple_samples: no visible binding for global variable ‘p.value’
.progressionTest: no visible binding for global variable ‘lineage’
.progressionTest: no visible binding for global variable ‘statistic’
.progressionTest: no visible binding for global variable ‘p.value’
.topologyTest_multipleSamples: no visible binding for global variable
  ‘p.value’
fateSelectionTest_multipleSamples,SlingshotDataSet: no visible binding
  for global variable ‘condition’
progressionTest_multipleSamples,SlingshotDataSet: no visible binding
  for global variable ‘condition’
Undefined global functions or variables:
  . Samples condition lineage p.value pair statistic
* checking Rd files ... OK
* checking Rd metadata ... OK
* checking Rd cross-references ... OK
* checking for missing documentation entries ... OK
* checking for code/documentation mismatches ... OK
* checking Rd \usage sections ... OK
* checking Rd contents ... OK
* checking for unstated dependencies in examples ... OK
* checking contents of ‘data’ directory ... OK
* checking data for non-ASCII characters ... OK
* checking data for ASCII and uncompressed saves ... OK
* checking files in ‘vignettes’ ... OK
* checking examples ... OK
Examples with CPU (user + system) or elapsed time > 5s
                              user system elapsed
topologyTest_multipleSamples 5.412  0.040   5.462
topologyTest                 5.351  0.036   5.398
* checking for unstated dependencies in ‘tests’ ... OK
* checking tests ...
  Running ‘testthat.R’
 OK
* checking for unstated dependencies in vignettes ... OK
* checking package vignettes ... OK
* checking running R code from vignettes ... SKIPPED
* checking re-building of vignette outputs ... SKIPPED
* checking PDF version of manual ... OK
* DONE
Status: 1 NOTE
See
  ‘/home/biocbuild/bbs-3.20-bioc/meat/condiments.Rcheck/00check.log’
for details.
condiments.Rcheck/00install.out
############################################################################## ############################################################################## ### ### Running command: ### ### /home/biocbuild/R/R/bin/R CMD INSTALL condiments ### ############################################################################## ############################################################################## * installing to library ‘/home/biocbuild/R/R-4.4.1/site-library’ * installing *source* package ‘condiments’ ... ** using staged installation ** R ** data ** inst ** byte-compile and prepare package for lazy loading ** help *** installing help indices *** copying figures ** building package indices ** installing vignettes ** testing if installed package can be loaded from temporary location ** testing if installed package can be loaded from final location ** testing if installed package keeps a record of temporary installation path * DONE (condiments)
condiments.Rcheck/tests/testthat.Rout
R version 4.4.1 (2024-06-14) -- "Race for Your Life"
Copyright (C) 2024 The R Foundation for Statistical Computing
Platform: aarch64-unknown-linux-gnu
R is free software and comes with ABSOLUTELY NO WARRANTY.
You are welcome to redistribute it under certain conditions.
Type 'license()' or 'licence()' for distribution details.
R is a collaborative project with many contributors.
Type 'contributors()' for more information and
'citation()' on how to cite R or R packages in publications.
Type 'demo()' for some demos, 'help()' for on-line help, or
'help.start()' for an HTML browser interface to help.
Type 'q()' to quit R.
> library(condiments)
> library(testthat)
> test_check("condiments")
note: only 1 unique complexity parameters in default grid. Truncating the grid to 1 .
note: only 1 unique complexity parameters in default grid. Truncating the grid to 1 .
note: only 1 unique complexity parameters in default grid. Truncating the grid to 1 .
note: only 2 unique complexity parameters in default grid. Truncating the grid to 2 .
note: only 1 unique complexity parameters in default grid. Truncating the grid to 1 .
note: only 1 unique complexity parameters in default grid. Truncating the grid to 1 .
note: only 1 unique complexity parameters in default grid. Truncating the grid to 1 .
note: only 2 unique complexity parameters in default grid. Truncating the grid to 2 .
note: only 1 unique complexity parameters in default grid. Truncating the grid to 1 .
note: only 1 unique complexity parameters in default grid. Truncating the grid to 1 .
note: only 1 unique complexity parameters in default grid. Truncating the grid to 1 .
note: only 1 unique complexity parameters in default grid. Truncating the grid to 1 .
note: only 1 unique complexity parameters in default grid. Truncating the grid to 1 .
note: only 1 unique complexity parameters in default grid. Truncating the grid to 1 .
note: only 1 unique complexity parameters in default grid. Truncating the grid to 1 .
note: only 1 unique complexity parameters in default grid. Truncating the grid to 1 .
note: only 1 unique complexity parameters in default grid. Truncating the grid to 1 .
note: only 1 unique complexity parameters in default grid. Truncating the grid to 1 .
note: only 1 unique complexity parameters in default grid. Truncating the grid to 1 .
note: only 1 unique complexity parameters in default grid. Truncating the grid to 1 .
note: only 1 unique complexity parameters in default grid. Truncating the grid to 1 .
note: only 1 unique complexity parameters in default grid. Truncating the grid to 1 .
note: only 1 unique complexity parameters in default grid. Truncating the grid to 1 .
note: only 1 unique complexity parameters in default grid. Truncating the grid to 1 .
note: only 1 unique complexity parameters in default grid. Truncating the grid to 1 .
note: only 1 unique complexity parameters in default grid. Truncating the grid to 1 .
note: only 1 unique complexity parameters in default grid. Truncating the grid to 1 .
note: only 1 unique complexity parameters in default grid. Truncating the grid to 1 .
note: only 1 unique complexity parameters in default grid. Truncating the grid to 1 .
note: only 1 unique complexity parameters in default grid. Truncating the grid to 1 .
note: only 1 unique complexity parameters in default grid. Truncating the grid to 1 .
note: only 1 unique complexity parameters in default grid. Truncating the grid to 1 .
note: only 1 unique complexity parameters in default grid. Truncating the grid to 1 .
note: only 1 unique complexity parameters in default grid. Truncating the grid to 1 .
note: only 1 unique complexity parameters in default grid. Truncating the grid to 1 .
note: only 1 unique complexity parameters in default grid. Truncating the grid to 1 .
note: only 1 unique complexity parameters in default grid. Truncating the grid to 1 .
note: only 1 unique complexity parameters in default grid. Truncating the grid to 1 .
note: only 1 unique complexity parameters in default grid. Truncating the grid to 1 .
note: only 1 unique complexity parameters in default grid. Truncating the grid to 1 .
note: only 1 unique complexity parameters in default grid. Truncating the grid to 1 .
note: only 1 unique complexity parameters in default grid. Truncating the grid to 1 .
[ FAIL 0 | WARN 0 | SKIP 0 | PASS 112 ]
> 
> proc.time()
   user  system elapsed 
208.587   6.348 215.433 
condiments.Rcheck/condiments-Ex.timings
| name | user | system | elapsed | |
| create_differential_topology | 0.005 | 0.000 | 0.005 | |
| differentiationTest | 2.908 | 0.107 | 3.024 | |
| fateSelectionTest | 2.154 | 0.004 | 2.162 | |
| fateSelectionTest_multipleSamples | 2.908 | 0.076 | 2.990 | |
| imbalance_score | 0.364 | 0.004 | 0.271 | |
| merge_sds | 0.455 | 0.000 | 0.438 | |
| nLineages | 0.362 | 0.004 | 0.367 | |
| progressionTest | 0.474 | 0.012 | 0.490 | |
| progressionTest_multipleSamples | 0.393 | 0.004 | 0.398 | |
| slingshot_conditions | 0.965 | 0.000 | 0.967 | |
| topologyTest | 5.351 | 0.036 | 5.398 | |
| topologyTest_multipleSamples | 5.412 | 0.040 | 5.462 | |
| weights_from_pst | 0.377 | 0.012 | 0.390 | |