| Back to Multiple platform build/check report for BioC 3.20: simplified long |
|
This page was generated on 2025-04-02 19:35 -0400 (Wed, 02 Apr 2025).
| Hostname | OS | Arch (*) | R version | Installed pkgs |
|---|---|---|---|---|
| nebbiolo2 | Linux (Ubuntu 24.04.1 LTS) | x86_64 | 4.4.3 (2025-02-28) -- "Trophy Case" | 4764 |
| palomino8 | Windows Server 2022 Datacenter | x64 | 4.4.3 (2025-02-28 ucrt) -- "Trophy Case" | 4495 |
| merida1 | macOS 12.7.5 Monterey | x86_64 | 4.4.3 (2025-02-28) -- "Trophy Case" | 4522 |
| kjohnson1 | macOS 13.6.6 Ventura | arm64 | 4.4.3 (2025-02-28) -- "Trophy Case" | 4449 |
| taishan | Linux (openEuler 24.03 LTS) | aarch64 | 4.4.3 (2025-02-28) -- "Trophy Case" | 4426 |
| Click on any hostname to see more info about the system (e.g. compilers) (*) as reported by 'uname -p', except on Windows and Mac OS X | ||||
| Package 381/2289 | Hostname | OS / Arch | INSTALL | BUILD | CHECK | BUILD BIN | ||||||||
| clustifyr 1.18.0 (landing page) Rui Fu
| nebbiolo2 | Linux (Ubuntu 24.04.1 LTS) / x86_64 | OK | OK | OK | |||||||||
| palomino8 | Windows Server 2022 Datacenter / x64 | OK | OK | OK | OK | |||||||||
| merida1 | macOS 12.7.5 Monterey / x86_64 | OK | OK | OK | OK | |||||||||
| kjohnson1 | macOS 13.6.6 Ventura / arm64 | OK | OK | OK | OK | |||||||||
| taishan | Linux (openEuler 24.03 LTS) / aarch64 | OK | OK | OK | ||||||||||
|
To the developers/maintainers of the clustifyr package: - Allow up to 24 hours (and sometimes 48 hours) for your latest push to git@git.bioconductor.org:packages/clustifyr.git to reflect on this report. See Troubleshooting Build Report for more information. - Use the following Renviron settings to reproduce errors and warnings. - If 'R CMD check' started to fail recently on the Linux builder(s) over a missing dependency, add the missing dependency to 'Suggests:' in your DESCRIPTION file. See Renviron.bioc for more information. - See Martin Grigorov's blog post for how to debug Linux ARM64 related issues on a x86_64 host. |
| Package: clustifyr |
| Version: 1.18.0 |
| Command: /home/biocbuild/R/R/bin/R CMD check --install=check:clustifyr.install-out.txt --library=/home/biocbuild/R/R/site-library --no-vignettes --timings clustifyr_1.18.0.tar.gz |
| StartedAt: 2025-04-01 05:10:27 -0000 (Tue, 01 Apr 2025) |
| EndedAt: 2025-04-01 05:23:56 -0000 (Tue, 01 Apr 2025) |
| EllapsedTime: 809.7 seconds |
| RetCode: 0 |
| Status: OK |
| CheckDir: clustifyr.Rcheck |
| Warnings: 0 |
##############################################################################
##############################################################################
###
### Running command:
###
### /home/biocbuild/R/R/bin/R CMD check --install=check:clustifyr.install-out.txt --library=/home/biocbuild/R/R/site-library --no-vignettes --timings clustifyr_1.18.0.tar.gz
###
##############################################################################
##############################################################################
* using log directory ‘/home/biocbuild/bbs-3.20-bioc/meat/clustifyr.Rcheck’
* using R version 4.4.3 (2025-02-28)
* using platform: aarch64-unknown-linux-gnu
* R was compiled by
aarch64-unknown-linux-gnu-gcc (GCC) 14.2.0
GNU Fortran (GCC) 14.2.0
* running under: openEuler 24.03 (LTS)
* using session charset: UTF-8
* using option ‘--no-vignettes’
* checking for file ‘clustifyr/DESCRIPTION’ ... OK
* this is package ‘clustifyr’ version ‘1.18.0’
* package encoding: UTF-8
* checking package namespace information ... OK
* checking package dependencies ... OK
* checking if this is a source package ... OK
* checking if there is a namespace ... OK
* checking for hidden files and directories ... OK
* checking for portable file names ... OK
* checking for sufficient/correct file permissions ... OK
* checking whether package ‘clustifyr’ can be installed ... OK
* checking installed package size ... OK
* checking package directory ... OK
* checking ‘build’ directory ... OK
* checking DESCRIPTION meta-information ... NOTE
License stub is invalid DCF.
* checking top-level files ... OK
* checking for left-over files ... OK
* checking index information ... OK
* checking package subdirectories ... OK
* checking code files for non-ASCII characters ... OK
* checking R files for syntax errors ... OK
* checking whether the package can be loaded ... OK
* checking whether the package can be loaded with stated dependencies ... OK
* checking whether the package can be unloaded cleanly ... OK
* checking whether the namespace can be loaded with stated dependencies ... OK
* checking whether the namespace can be unloaded cleanly ... OK
* checking loading without being on the library search path ... OK
* checking dependencies in R code ... OK
* checking S3 generic/method consistency ... OK
* checking replacement functions ... OK
* checking foreign function calls ... OK
* checking R code for possible problems ... OK
* checking Rd files ... OK
* checking Rd metadata ... OK
* checking Rd cross-references ... OK
* checking for missing documentation entries ... OK
* checking for code/documentation mismatches ... OK
* checking Rd \usage sections ... OK
* checking Rd contents ... OK
* checking for unstated dependencies in examples ... OK
* checking contents of ‘data’ directory ... OK
* checking data for non-ASCII characters ... OK
* checking LazyData ... OK
* checking data for ASCII and uncompressed saves ... OK
* checking files in ‘vignettes’ ... OK
* checking examples ... OK
Examples with CPU (user + system) or elapsed time > 5s
user system elapsed
plot_pathway_gsea 20.592 0.128 20.767
calculate_pathway_gsea 17.665 0.108 17.818
* checking for unstated dependencies in ‘tests’ ... OK
* checking tests ...
Running ‘testthat.R’
OK
* checking for unstated dependencies in vignettes ... OK
* checking package vignettes ... OK
* checking running R code from vignettes ... SKIPPED
* checking re-building of vignette outputs ... SKIPPED
* checking PDF version of manual ... OK
* DONE
Status: 1 NOTE
See
‘/home/biocbuild/bbs-3.20-bioc/meat/clustifyr.Rcheck/00check.log’
for details.
clustifyr.Rcheck/00install.out
############################################################################## ############################################################################## ### ### Running command: ### ### /home/biocbuild/R/R/bin/R CMD INSTALL clustifyr ### ############################################################################## ############################################################################## * installing to library ‘/home/biocbuild/R/R-4.4.3/site-library’ * installing *source* package ‘clustifyr’ ... ** using staged installation ** R ** data *** moving datasets to lazyload DB ** inst ** byte-compile and prepare package for lazy loading ** help *** installing help indices *** copying figures ** building package indices ** installing vignettes ** testing if installed package can be loaded from temporary location ** testing if installed package can be loaded from final location ** testing if installed package keeps a record of temporary installation path * DONE (clustifyr)
clustifyr.Rcheck/tests/testthat.Rout
R version 4.4.3 (2025-02-28) -- "Trophy Case"
Copyright (C) 2025 The R Foundation for Statistical Computing
Platform: aarch64-unknown-linux-gnu
R is free software and comes with ABSOLUTELY NO WARRANTY.
You are welcome to redistribute it under certain conditions.
Type 'license()' or 'licence()' for distribution details.
R is a collaborative project with many contributors.
Type 'contributors()' for more information and
'citation()' on how to cite R or R packages in publications.
Type 'demo()' for some demos, 'help()' for on-line help, or
'help.start()' for an HTML browser interface to help.
Type 'q()' to quit R.
> library(testthat)
> library(clustifyr)
>
> test_check("clustifyr")
[ FAIL 0 | WARN 0 | SKIP 0 | PASS 183 ]
>
> proc.time()
user system elapsed
495.151 2.993 499.170
clustifyr.Rcheck/clustifyr-Ex.timings
| name | user | system | elapsed | |
| append_genes | 0.119 | 0.004 | 0.123 | |
| assess_rank_bias | 0.000 | 0.000 | 0.001 | |
| average_clusters | 0.688 | 0.008 | 0.698 | |
| binarize_expr | 0.057 | 0.012 | 0.069 | |
| build_atlas | 0.090 | 0.004 | 0.095 | |
| calc_distance | 0.003 | 0.004 | 0.007 | |
| calculate_pathway_gsea | 17.665 | 0.108 | 17.818 | |
| call_consensus | 0.328 | 0.016 | 0.345 | |
| call_to_metadata | 0.172 | 0.048 | 0.220 | |
| check_raw_counts | 0.829 | 0.012 | 0.843 | |
| clustify | 2.969 | 0.040 | 3.015 | |
| clustify_lists | 0.775 | 0.032 | 0.808 | |
| clustify_nudge | 1.480 | 0.020 | 1.505 | |
| clustifyr_methods | 0.000 | 0.000 | 0.001 | |
| collapse_to_cluster | 2.532 | 0.012 | 2.549 | |
| compare_lists | 0.218 | 0.028 | 0.247 | |
| cor_to_call | 0.093 | 0.004 | 0.098 | |
| cor_to_call_rank | 0.132 | 0.011 | 0.145 | |
| cor_to_call_topn | 0.107 | 0.000 | 0.108 | |
| downsample_matrix | 0.015 | 0.003 | 0.018 | |
| feature_select_PCA | 0.015 | 0.001 | 0.014 | |
| file_marker_parse | 0.003 | 0.000 | 0.003 | |
| find_rank_bias | 0.052 | 0.000 | 0.053 | |
| gene_pct_markerm | 0.487 | 0.000 | 0.488 | |
| get_ucsc_reference | 0 | 0 | 0 | |
| get_vargenes | 0 | 0 | 0 | |
| gmt_to_list | 0.050 | 0.003 | 0.058 | |
| insert_meta_object | 0.370 | 0.004 | 0.375 | |
| make_comb_ref | 0.037 | 0.000 | 0.037 | |
| marker_select | 0.02 | 0.00 | 0.02 | |
| matrixize_markers | 0.040 | 0.004 | 0.044 | |
| object_data | 0.522 | 0.004 | 0.527 | |
| object_ref | 0.440 | 0.016 | 0.456 | |
| overcluster | 2.683 | 0.008 | 2.697 | |
| overcluster_test | 1.837 | 0.004 | 1.846 | |
| parse_loc_object | 0.369 | 0.028 | 0.397 | |
| plot_best_call | 0.713 | 0.012 | 0.727 | |
| plot_cor | 0.917 | 0.000 | 0.919 | |
| plot_cor_heatmap | 1.355 | 0.008 | 1.366 | |
| plot_dims | 0.397 | 0.000 | 0.398 | |
| plot_gene | 0.683 | 0.000 | 0.684 | |
| plot_pathway_gsea | 20.592 | 0.128 | 20.767 | |
| plot_rank_bias | 0 | 0 | 0 | |
| pos_neg_marker | 0.012 | 0.000 | 0.012 | |
| pos_neg_select | 0.116 | 0.000 | 0.117 | |
| query_rank_bias | 0.051 | 0.004 | 0.056 | |
| ref_feature_select | 0.044 | 0.000 | 0.045 | |
| ref_marker_select | 0.305 | 0.000 | 0.307 | |
| reverse_marker_matrix | 0.006 | 0.000 | 0.006 | |
| run_clustifyr_app | 0 | 0 | 0 | |
| seurat_meta | 0.348 | 0.012 | 0.361 | |
| seurat_ref | 0.427 | 0.000 | 0.428 | |
| write_meta | 0.473 | 0.000 | 0.475 | |