Back to Multiple platform build/check report for BioC 3.20:   simplified   long
AB[C]DEFGHIJKLMNOPQRSTUVWXYZ

This page was generated on 2025-02-06 12:06 -0500 (Thu, 06 Feb 2025).

HostnameOSArch (*)R versionInstalled pkgs
nebbiolo2Linux (Ubuntu 24.04.1 LTS)x86_644.4.2 (2024-10-31) -- "Pile of Leaves" 4753
palomino8Windows Server 2022 Datacenterx644.4.2 (2024-10-31 ucrt) -- "Pile of Leaves" 4501
merida1macOS 12.7.5 Montereyx86_644.4.2 (2024-10-31) -- "Pile of Leaves" 4524
kjohnson1macOS 13.6.6 Venturaarm644.4.2 (2024-10-31) -- "Pile of Leaves" 4476
taishanLinux (openEuler 24.03 LTS)aarch644.4.2 (2024-10-31) -- "Pile of Leaves" 4407
Click on any hostname to see more info about the system (e.g. compilers)      (*) as reported by 'uname -p', except on Windows and Mac OS X

Package 350/2289HostnameOS / ArchINSTALLBUILDCHECKBUILD BIN
chromVAR 1.28.0  (landing page)
Alicia Schep
Snapshot Date: 2025-02-03 13:00 -0500 (Mon, 03 Feb 2025)
git_url: https://git.bioconductor.org/packages/chromVAR
git_branch: RELEASE_3_20
git_last_commit: 0f0fb6e
git_last_commit_date: 2024-10-29 10:22:54 -0500 (Tue, 29 Oct 2024)
nebbiolo2Linux (Ubuntu 24.04.1 LTS) / x86_64  OK    OK    OK  UNNEEDED, same version is already published
palomino8Windows Server 2022 Datacenter / x64  OK    OK    OK    OK  UNNEEDED, same version is already published
merida1macOS 12.7.5 Monterey / x86_64  OK    OK    OK    OK  UNNEEDED, same version is already published
kjohnson1macOS 13.6.6 Ventura / arm64  OK    OK    OK    OK  NO, package depends on 'TFBSTools' which is only available as a source package that needs compilation
taishanLinux (openEuler 24.03 LTS) / aarch64  OK    OK    OK  


CHECK results for chromVAR on palomino8

To the developers/maintainers of the chromVAR package:
- Allow up to 24 hours (and sometimes 48 hours) for your latest push to git@git.bioconductor.org:packages/chromVAR.git to reflect on this report. See Troubleshooting Build Report for more information.
- Use the following Renviron settings to reproduce errors and warnings.
- If 'R CMD check' started to fail recently on the Linux builder(s) over a missing dependency, add the missing dependency to 'Suggests:' in your DESCRIPTION file. See Renviron.bioc for more information.

raw results


Summary

Package: chromVAR
Version: 1.28.0
Command: F:\biocbuild\bbs-3.20-bioc\R\bin\R.exe CMD check --no-multiarch --install=check:chromVAR.install-out.txt --library=F:\biocbuild\bbs-3.20-bioc\R\library --no-vignettes --timings chromVAR_1.28.0.tar.gz
StartedAt: 2025-02-04 00:15:41 -0500 (Tue, 04 Feb 2025)
EndedAt: 2025-02-04 00:25:00 -0500 (Tue, 04 Feb 2025)
EllapsedTime: 558.6 seconds
RetCode: 0
Status:   OK  
CheckDir: chromVAR.Rcheck
Warnings: 0

Command output

##############################################################################
##############################################################################
###
### Running command:
###
###   F:\biocbuild\bbs-3.20-bioc\R\bin\R.exe CMD check --no-multiarch --install=check:chromVAR.install-out.txt --library=F:\biocbuild\bbs-3.20-bioc\R\library --no-vignettes --timings chromVAR_1.28.0.tar.gz
###
##############################################################################
##############################################################################


* using log directory 'F:/biocbuild/bbs-3.20-bioc/meat/chromVAR.Rcheck'
* using R version 4.4.2 (2024-10-31 ucrt)
* using platform: x86_64-w64-mingw32
* R was compiled by
    gcc.exe (GCC) 13.3.0
    GNU Fortran (GCC) 13.3.0
* running under: Windows Server 2022 x64 (build 20348)
* using session charset: UTF-8
* using option '--no-vignettes'
* checking for file 'chromVAR/DESCRIPTION' ... OK
* checking extension type ... Package
* this is package 'chromVAR' version '1.28.0'
* checking package namespace information ... OK
* checking package dependencies ... OK
* checking if this is a source package ... OK
* checking if there is a namespace ... OK
* checking for hidden files and directories ... OK
* checking for portable file names ... OK
* checking whether package 'chromVAR' can be installed ... OK
* used C++ compiler: 'G__~1.EXE (GCC) 13.3.0'
* checking C++ specification ... NOTE
  Specified C++11: please drop specification unless essential
* checking installed package size ... OK
* checking package directory ... OK
* checking 'build' directory ... OK
* checking DESCRIPTION meta-information ... NOTE
License stub records with missing/empty fields:
  Record: 1 Field(s): COPYRIGHT HOLDER
* checking top-level files ... OK
* checking for left-over files ... OK
* checking index information ... OK
* checking package subdirectories ... OK
* checking code files for non-ASCII characters ... OK
* checking R files for syntax errors ... OK
* checking whether the package can be loaded ... OK
* checking whether the package can be loaded with stated dependencies ... OK
* checking whether the package can be unloaded cleanly ... OK
* checking whether the namespace can be loaded with stated dependencies ... OK
* checking whether the namespace can be unloaded cleanly ... OK
* checking dependencies in R code ... OK
* checking S3 generic/method consistency ... OK
* checking replacement functions ... OK
* checking foreign function calls ... OK
* checking R code for possible problems ... NOTE
left_right_to_grglist: no visible global function definition for
  'GenomicRangesList'
Undefined global functions or variables:
  GenomicRangesList
* checking Rd files ... OK
* checking Rd metadata ... OK
* checking Rd cross-references ... OK
* checking for missing documentation entries ... OK
* checking for code/documentation mismatches ... OK
* checking Rd \usage sections ... OK
* checking Rd contents ... OK
* checking for unstated dependencies in examples ... OK
* checking contents of 'data' directory ... OK
* checking data for non-ASCII characters ... OK
* checking LazyData ... OK
* checking data for ASCII and uncompressed saves ... OK
* checking line endings in C/C++/Fortran sources/headers ... OK
* checking line endings in Makefiles ... OK
* checking compilation flags in Makevars ... OK
* checking for GNU extensions in Makefiles ... OK
* checking for portable use of $(BLAS_LIBS) and $(LAPACK_LIBS) ... OK
* checking use of PKG_*FLAGS in Makefiles ... OK
* checking compiled code ... NOTE
Note: information on .o files for x64 is not available
File 'F:/biocbuild/bbs-3.20-bioc/R/library/chromVAR/libs/x64/chromVAR.dll':
  Found '_exit', possibly from '_exit' (C)
  Found 'abort', possibly from 'abort' (C), 'runtime' (Fortran)
  Found 'exit', possibly from 'exit' (C), 'stop' (Fortran)

Compiled code should not call entry points which might terminate R nor
write to stdout/stderr instead of to the console, nor use Fortran I/O
nor system RNGs nor [v]sprintf. The detected symbols are linked into
the code but might come from libraries and not actually be called.

See 'Writing portable packages' in the 'Writing R Extensions' manual.
* checking files in 'vignettes' ... OK
* checking examples ... OK
Examples with CPU (user + system) or elapsed time > 5s
                         user system elapsed
deviationsCovariability 20.01   0.67   21.74
getJasparMotifs          8.44   0.29    8.74
getCounts                5.94   2.67   65.17
pwmDistance              6.91   0.30    7.20
plotVariability          5.64   0.03    5.68
* checking for unstated dependencies in 'tests' ... OK
* checking tests ...
  Running 'testthat.R'
 OK
* checking for unstated dependencies in vignettes ... OK
* checking package vignettes ... OK
* checking running R code from vignettes ... SKIPPED
* checking re-building of vignette outputs ... SKIPPED
* checking PDF version of manual ... OK
* DONE

Status: 4 NOTEs
See
  'F:/biocbuild/bbs-3.20-bioc/meat/chromVAR.Rcheck/00check.log'
for details.


Installation output

chromVAR.Rcheck/00install.out

##############################################################################
##############################################################################
###
### Running command:
###
###   F:\biocbuild\bbs-3.20-bioc\R\bin\R.exe CMD INSTALL chromVAR
###
##############################################################################
##############################################################################


* installing to library 'F:/biocbuild/bbs-3.20-bioc/R/library'
* installing *source* package 'chromVAR' ...
** using staged installation
** libs
using C++ compiler: 'G__~1.EXE (GCC) 13.3.0'
using C++11
g++  -std=gnu++11 -I"F:/biocbuild/bbs-3.20-bioc/R/include" -DNDEBUG  -I'F:/biocbuild/bbs-3.20-bioc/R/library/Rcpp/include' -I'F:/biocbuild/bbs-3.20-bioc/R/library/RcppArmadillo/include'   -I"C:/rtools44/x86_64-w64-mingw32.static.posix/include"     -O2 -Wall  -mfpmath=sse -msse2 -mstackrealign  -c RcppExports.cpp -o RcppExports.o
g++  -std=gnu++11 -I"F:/biocbuild/bbs-3.20-bioc/R/include" -DNDEBUG  -I'F:/biocbuild/bbs-3.20-bioc/R/library/Rcpp/include' -I'F:/biocbuild/bbs-3.20-bioc/R/library/RcppArmadillo/include'   -I"C:/rtools44/x86_64-w64-mingw32.static.posix/include"     -O2 -Wall  -mfpmath=sse -msse2 -mstackrealign  -c pwm_similarity.cpp -o pwm_similarity.o
g++  -std=gnu++11 -I"F:/biocbuild/bbs-3.20-bioc/R/include" -DNDEBUG  -I'F:/biocbuild/bbs-3.20-bioc/R/library/Rcpp/include' -I'F:/biocbuild/bbs-3.20-bioc/R/library/RcppArmadillo/include'   -I"C:/rtools44/x86_64-w64-mingw32.static.posix/include"     -O2 -Wall  -mfpmath=sse -msse2 -mstackrealign  -c utils.cpp -o utils.o
utils.cpp: In function 'Rcpp::NumericVector row_sds(arma::mat&, bool)':
utils.cpp:12:21: warning: comparison of integer expressions of different signedness: 'int' and 'const arma::uword' {aka 'const unsigned int'} [-Wsign-compare]
   12 |     for( int j=0; j < X.n_rows; j++ ) {
      |                   ~~^~~~~~~~~~
g++ -shared -s -static-libgcc -o chromVAR.dll tmp.def RcppExports.o pwm_similarity.o utils.o -LF:/biocbuild/bbs-3.20-bioc/R/bin/x64 -lRlapack -LF:/biocbuild/bbs-3.20-bioc/R/bin/x64 -lRblas -lgfortran -lm -lquadmath -LC:/rtools44/x86_64-w64-mingw32.static.posix/lib/x64 -LC:/rtools44/x86_64-w64-mingw32.static.posix/lib -LF:/biocbuild/bbs-3.20-bioc/R/bin/x64 -lR
installing to F:/biocbuild/bbs-3.20-bioc/R/library/00LOCK-chromVAR/00new/chromVAR/libs/x64
** R
** data
*** moving datasets to lazyload DB
** inst
** byte-compile and prepare package for lazy loading
** help
*** installing help indices
** building package indices
** installing vignettes
** testing if installed package can be loaded from temporary location
** testing if installed package can be loaded from final location
** testing if installed package keeps a record of temporary installation path
* DONE (chromVAR)

Tests output

chromVAR.Rcheck/tests/testthat.Rout


R version 4.4.2 (2024-10-31 ucrt) -- "Pile of Leaves"
Copyright (C) 2024 The R Foundation for Statistical Computing
Platform: x86_64-w64-mingw32/x64

R is free software and comes with ABSOLUTELY NO WARRANTY.
You are welcome to redistribute it under certain conditions.
Type 'license()' or 'licence()' for distribution details.

R is a collaborative project with many contributors.
Type 'contributors()' for more information and
'citation()' on how to cite R or R packages in publications.

Type 'demo()' for some demos, 'help()' for on-line help, or
'help.start()' for an HTML browser interface to help.
Type 'q()' to quit R.

> library(testthat)
> library(chromVAR)

> BiocParallel::register(BiocParallel::SerialParam())
> test_check("chromVAR")
[ FAIL 0 | WARN 0 | SKIP 0 | PASS 65 ]
> 
> proc.time()
   user  system elapsed 
  28.48    2.68   31.14 

Example timings

chromVAR.Rcheck/chromVAR-Ex.timings

nameusersystemelapsed
addGCBias1.740.101.87
annotationMatches0.010.000.01
chromVAR_theme0.140.060.20
computeDeviations4.150.144.47
computeExpectations0.010.000.02
computeVariability4.110.224.33
counts0.020.000.01
deviationScores0.010.000.02
deviations0.020.000.01
deviationsCovariability20.01 0.6721.74
deviationsTsne0.100.020.11
differentialDeviations0.010.000.01
differentialVariability0.030.000.03
example_counts000
filterPeaks0.280.020.30
filterSamples0.050.000.04
filterSamplesPlot0.100.000.09
getAnnotations0.340.000.35
getBackgroundPeaks2.430.052.47
getCisGroups0.090.020.11
getCounts 5.94 2.6765.17
getFragmentsPerPeak000
getFragmentsPerSample0.010.000.01
getJasparMotifs8.440.298.74
getPeaks0.170.020.19
getPermutedData2.460.342.79
getSampleCorrelation0.010.020.03
getSampleDepths0.170.010.19
getSampleDistance0.020.000.02
getTotalFragments0.010.000.01
makeBiasBins0.050.000.05
makePermutedSets1.200.161.37
matchKmers1.190.271.45
mini_counts0.000.010.02
mini_dev000
mini_ix000
plotVariability5.640.035.68
pwmDistance6.910.307.20
rbind-chromVARDeviations-method0.080.000.08