Back to Multiple platform build/check report for BioC 3.20:   simplified   long
AB[C]DEFGHIJKLMNOPQRSTUVWXYZ

This page was generated on 2025-02-06 12:09 -0500 (Thu, 06 Feb 2025).

HostnameOSArch (*)R versionInstalled pkgs
nebbiolo2Linux (Ubuntu 24.04.1 LTS)x86_644.4.2 (2024-10-31) -- "Pile of Leaves" 4753
palomino8Windows Server 2022 Datacenterx644.4.2 (2024-10-31 ucrt) -- "Pile of Leaves" 4501
merida1macOS 12.7.5 Montereyx86_644.4.2 (2024-10-31) -- "Pile of Leaves" 4524
kjohnson1macOS 13.6.6 Venturaarm644.4.2 (2024-10-31) -- "Pile of Leaves" 4476
taishanLinux (openEuler 24.03 LTS)aarch644.4.2 (2024-10-31) -- "Pile of Leaves" 4407
Click on any hostname to see more info about the system (e.g. compilers)      (*) as reported by 'uname -p', except on Windows and Mac OS X

Package 303/2289HostnameOS / ArchINSTALLBUILDCHECKBUILD BIN
cellmigRation 1.14.0  (landing page)
Waldir Leoncio
Snapshot Date: 2025-02-03 13:00 -0500 (Mon, 03 Feb 2025)
git_url: https://git.bioconductor.org/packages/cellmigRation
git_branch: RELEASE_3_20
git_last_commit: 49990de
git_last_commit_date: 2024-10-29 10:58:18 -0500 (Tue, 29 Oct 2024)
nebbiolo2Linux (Ubuntu 24.04.1 LTS) / x86_64  OK    OK    OK  UNNEEDED, same version is already published
palomino8Windows Server 2022 Datacenter / x64  OK    OK    OK    OK  UNNEEDED, same version is already published
merida1macOS 12.7.5 Monterey / x86_64  OK    OK    OK    OK  UNNEEDED, same version is already published
kjohnson1macOS 13.6.6 Ventura / arm64  OK    OK    OK    OK  UNNEEDED, same version is already published
taishanLinux (openEuler 24.03 LTS) / aarch64  OK    OK    OK  


CHECK results for cellmigRation on kjohnson1

To the developers/maintainers of the cellmigRation package:
- Allow up to 24 hours (and sometimes 48 hours) for your latest push to git@git.bioconductor.org:packages/cellmigRation.git to reflect on this report. See Troubleshooting Build Report for more information.
- Use the following Renviron settings to reproduce errors and warnings.
- If 'R CMD check' started to fail recently on the Linux builder(s) over a missing dependency, add the missing dependency to 'Suggests:' in your DESCRIPTION file. See Renviron.bioc for more information.

raw results


Summary

Package: cellmigRation
Version: 1.14.0
Command: /Library/Frameworks/R.framework/Resources/bin/R CMD check --install=check:cellmigRation.install-out.txt --library=/Library/Frameworks/R.framework/Resources/library --no-vignettes --timings cellmigRation_1.14.0.tar.gz
StartedAt: 2025-02-04 14:13:04 -0500 (Tue, 04 Feb 2025)
EndedAt: 2025-02-04 14:15:23 -0500 (Tue, 04 Feb 2025)
EllapsedTime: 139.2 seconds
RetCode: 0
Status:   OK  
CheckDir: cellmigRation.Rcheck
Warnings: 0

Command output

##############################################################################
##############################################################################
###
### Running command:
###
###   /Library/Frameworks/R.framework/Resources/bin/R CMD check --install=check:cellmigRation.install-out.txt --library=/Library/Frameworks/R.framework/Resources/library --no-vignettes --timings cellmigRation_1.14.0.tar.gz
###
##############################################################################
##############################################################################


* using log directory ‘/Users/biocbuild/bbs-3.20-bioc/meat/cellmigRation.Rcheck’
* using R version 4.4.2 (2024-10-31)
* using platform: aarch64-apple-darwin20
* R was compiled by
    Apple clang version 14.0.0 (clang-1400.0.29.202)
    GNU Fortran (GCC) 12.2.0
* running under: macOS Ventura 13.7.1
* using session charset: UTF-8
* using option ‘--no-vignettes’
* checking for file ‘cellmigRation/DESCRIPTION’ ... OK
* checking extension type ... Package
* this is package ‘cellmigRation’ version ‘1.14.0’
* package encoding: UTF-8
* checking package namespace information ... OK
* checking package dependencies ... OK
* checking if this is a source package ... OK
* checking if there is a namespace ... OK
* checking for hidden files and directories ... OK
* checking for portable file names ... OK
* checking for sufficient/correct file permissions ... OK
* checking whether package ‘cellmigRation’ can be installed ... OK
* checking installed package size ... OK
* checking package directory ... OK
* checking ‘build’ directory ... OK
* checking DESCRIPTION meta-information ... OK
* checking top-level files ... OK
* checking for left-over files ... OK
* checking index information ... OK
* checking package subdirectories ... OK
* checking code files for non-ASCII characters ... OK
* checking R files for syntax errors ... OK
* checking whether the package can be loaded ... OK
* checking whether the package can be loaded with stated dependencies ... OK
* checking whether the package can be unloaded cleanly ... OK
* checking whether the namespace can be loaded with stated dependencies ... OK
* checking whether the namespace can be unloaded cleanly ... OK
* checking dependencies in R code ... OK
* checking S3 generic/method consistency ... OK
* checking replacement functions ... OK
* checking foreign function calls ... OK
* checking R code for possible problems ... OK
* checking Rd files ... OK
* checking Rd metadata ... OK
* checking Rd cross-references ... OK
* checking for missing documentation entries ... OK
* checking for code/documentation mismatches ... OK
* checking Rd \usage sections ... NOTE
Documented arguments not in \usage in Rd file 'fixDA.Rd':
  ‘object’

Documented arguments not in \usage in Rd file 'fixFM1.Rd':
  ‘object’

Documented arguments not in \usage in Rd file 'fixFM2.Rd':
  ‘object’

Documented arguments not in \usage in Rd file 'fixFM3.Rd':
  ‘object’

Documented arguments not in \usage in Rd file 'fixFM4.Rd':
  ‘object’

Documented arguments not in \usage in Rd file 'fixFM5.Rd':
  ‘object’

Documented arguments not in \usage in Rd file 'fixFM6.Rd':
  ‘object’

Documented arguments not in \usage in Rd file 'fixID2.Rd':
  ‘TimeInterval’

Documented arguments not in \usage in Rd file 'fixID3.Rd':
  ‘TimeInterval’

Documented arguments not in \usage in Rd file 'fixID4.Rd':
  ‘TimeInterval’

Documented arguments not in \usage in Rd file 'fixMSD.Rd':
  ‘object’

Documented arguments not in \usage in Rd file 'fixPER1.Rd':
  ‘x’

Documented arguments not in \usage in Rd file 'fixPER2.Rd':
  ‘x’

Documented arguments not in \usage in Rd file 'innerBondRaster.Rd':
  ‘i’

Functions with \usage entries need to have the appropriate \alias
entries, and all their arguments documented.
The \usage entries must correspond to syntactically valid R code.
See chapter ‘Writing R documentation files’ in the ‘Writing R
Extensions’ manual.
* checking Rd contents ... OK
* checking for unstated dependencies in examples ... OK
* checking contents of ‘data’ directory ... OK
* checking data for non-ASCII characters ... OK
* checking data for ASCII and uncompressed saves ... OK
* checking files in ‘vignettes’ ... OK
* checking examples ... OK
* checking for unstated dependencies in ‘tests’ ... OK
* checking tests ...
  Running ‘runTests.R’
 OK
* checking for unstated dependencies in vignettes ... OK
* checking package vignettes ... OK
* checking running R code from vignettes ... SKIPPED
* checking re-building of vignette outputs ... SKIPPED
* checking PDF version of manual ... OK
* DONE

Status: 1 NOTE
See
  ‘/Users/biocbuild/bbs-3.20-bioc/meat/cellmigRation.Rcheck/00check.log’
for details.


Installation output

cellmigRation.Rcheck/00install.out

##############################################################################
##############################################################################
###
### Running command:
###
###   /Library/Frameworks/R.framework/Resources/bin/R CMD INSTALL cellmigRation
###
##############################################################################
##############################################################################


* installing to library ‘/Library/Frameworks/R.framework/Versions/4.4-arm64/Resources/library’
* installing *source* package ‘cellmigRation’ ...
** using staged installation
** R
** data
** inst
** byte-compile and prepare package for lazy loading
** help
*** installing help indices
** building package indices
** installing vignettes
** testing if installed package can be loaded from temporary location
** testing if installed package can be loaded from final location
** testing if installed package keeps a record of temporary installation path
* DONE (cellmigRation)

Tests output

cellmigRation.Rcheck/tests/runTests.Rout


R version 4.4.2 (2024-10-31) -- "Pile of Leaves"
Copyright (C) 2024 The R Foundation for Statistical Computing
Platform: aarch64-apple-darwin20

R is free software and comes with ABSOLUTELY NO WARRANTY.
You are welcome to redistribute it under certain conditions.
Type 'license()' or 'licence()' for distribution details.

R is a collaborative project with many contributors.
Type 'contributors()' for more information and
'citation()' on how to cite R or R packages in publications.

Type 'demo()' for some demos, 'help()' for on-line help, or
'help.start()' for an HTML browser interface to help.
Type 'q()' to quit R.

> BiocGenerics:::testPackage("cellmigRation")


RUNIT TEST PROTOCOL -- Tue Feb  4 14:15:08 2025 
*********************************************** 
Number of test functions: 7 
Number of errors: 0 
Number of failures: 0 

 
1 Test Suite : 
cellmigRation RUnit Tests - 7 test functions, 0 errors, 0 failures
Number of test functions: 7 
Number of errors: 0 
Number of failures: 0 
> 
> proc.time()
   user  system elapsed 
  3.453   0.308   3.790 

Example timings

cellmigRation.Rcheck/cellmigRation-Ex.timings

nameusersystemelapsed
AddDimension0.0020.0000.002
CellMig-class0.0410.0030.045
CellMigPCA1.4540.0311.510
CellMigPCAclust0.0100.0030.011
CellMigPCAclustALL0.7020.0070.714
CellTracker0.0260.0040.029
CellTrackerMainLoop0.0070.0110.022
CentroidArray0.0250.0020.028
CentroidValidation0.5120.0130.533
ComputeTracksStats0.0330.0020.036
DetectRadii0.0020.0000.002
DiAutoCor1.5120.0151.533
DiRatio0.0190.0020.020
DiRatioPlot0.0400.0120.053
EstimateDiameterRange0.0170.0030.019
FMI0.5190.0040.527
FianlizeOptiParams0.0010.0000.001
FilterTrackedCells0.0030.0010.004
FinRes0.7440.0160.765
ForwardMigration1.0720.0061.085
GenAllCombos0.0030.0000.003
LinearConv20.0220.0020.023
LoadTiff0.0010.0010.001
MSD1.8380.0601.912
MakeHypercube0.0020.0010.001
MigrationStats0.0010.0010.001
NextOdd000
NonParallel4OptimizeParams0.0010.0000.001
NonParallelTrackLoop0.0000.0000.001
OptimizeParams0.0260.0020.028
OptimizeParamsMainLoop0.0060.0100.022
Parallel4OptimizeParams0.0010.0010.001
ParallelTrackLoop0.0010.0000.001
PerAndSpeed0.3160.0310.349
PlotTracksSeparately0.0090.0010.010
PostProcessTracking0.0010.0000.000
Prep4OptimizeParams0.0460.0020.050
ThreeConditions0.0070.0020.009
TrackCellsDataset0.0110.0010.013
TrajectoryDataset0.0130.0010.014
ValidateTrackingArgs000
VeAutoCor0.6470.0150.683
VisualizeCntr0.0010.0010.002
VisualizeImg0.0030.0010.003
VisualizeStackCentroids0.0430.0050.051
WSADataset0.0040.0010.006
aggregateFR0.5680.0060.582
aggregateTrackedCells0.0310.0040.036
bpass0.0830.0040.087
circshift0.0010.0000.001
cntrd0.7460.0150.781
fixDA0.0000.0000.001
fixExpName0.0000.0010.001
fixFM1000
fixFM2000
fixFM3000
fixFM4000
fixFM5000
fixFM60.0000.0010.000
fixID1000
fixMSD0.0000.0000.001
fixPER10.0010.0000.001
fixPER20.0000.0000.001
fixPER30.0010.0010.001
getAvailableAggrMetrics0.9630.0100.979
getCellImages0.2520.7871.063
getCellMigSlot0.3970.4920.904
getCellTrackMeta0.0230.0030.026
getCellTrackStats0.0260.0030.030
getCellTracks0.0260.0030.028
getCellsMeta0.0250.0020.028
getCellsStats0.0270.0030.030
getDACtable1.9810.0222.021
getDiRatio0.0230.0020.025
getFMItable0.4990.0080.510
getForMigtable0.6010.0060.609
getImageCentroids0.0320.0040.035
getImageStacks0.0700.0080.078
getMSDtable3.6010.0503.681
getOptimizedParameters0.0250.0020.027
getOptimizedParams0.0270.0030.030
getPerAndSpeed0.3160.0330.352
getPopulationStats0.0270.0030.030
getProcessedImages0.2420.8001.073
getProcessingStatus0.0240.0030.028
getResults0.6710.0180.695
getTracks0.0250.0030.028
getVACtable1.1010.0121.125
initializeTrackParams0.0010.0010.000
innerBondRaster0.0020.0000.003
internalPermutation0.0010.0000.001
matfix0.0010.0010.001
nontrivialBondTracking0.0010.0000.001
pkfnd0.7370.0270.768
plot3DAllTracks0.0010.0000.000
plot3DTracks0.0010.0000.000
plotAllTracks0.0230.0040.026
plotSampleTracks0.0190.0040.024
preProcCellMig0.0110.0020.012
rmPreProcessing0.1010.0030.105
runTrackingPermutation0.0020.0000.002
setAnalyticParams0.0260.0030.028
setCellMigSlot0.0340.0020.036
setCellTracks0.0260.0030.028
setCellsMeta0.0250.0020.028
setExpName0.0320.0020.034
setOptimizedParams0.0240.0030.027
setProcessedImages0.0250.0020.029
setProcessingStatus0.0230.0030.026
setTrackedCellsMeta0.0240.0030.027
setTrackedCentroids0.0250.0030.028
setTrackedPositions0.0250.0020.028
setTrackingStats0.0260.0030.029
sinkAway0.0000.0000.001
subNetworkTracking0.0020.0000.004
track0.0220.0050.027
trackHypercubeBuild0.0000.0000.001
trackSlideProcessing0.0010.0000.001
trackSlideWrapUp0.0010.0000.001
trivialBondRaster0.0020.0000.002
trivialBondTracking000
visualizeCellTracks0.0700.0080.079
visualizeTrcks0.0470.0030.050
warnMessage0.0000.0000.001
wsaPreProcessing0.0560.0020.058