| Back to Multiple platform build/check report for BioC 3.20: simplified long |
|
This page was generated on 2024-11-20 12:05 -0500 (Wed, 20 Nov 2024).
| Hostname | OS | Arch (*) | R version | Installed pkgs |
|---|---|---|---|---|
| teran2 | Linux (Ubuntu 24.04.1 LTS) | x86_64 | 4.4.2 (2024-10-31) -- "Pile of Leaves" | 4481 |
| nebbiolo2 | Linux (Ubuntu 24.04.1 LTS) | x86_64 | 4.4.2 (2024-10-31) -- "Pile of Leaves" | 4479 |
| palomino8 | Windows Server 2022 Datacenter | x64 | 4.4.2 (2024-10-31 ucrt) -- "Pile of Leaves" | 4359 |
| lconway | macOS 12.7.1 Monterey | x86_64 | 4.4.1 (2024-06-14) -- "Race for Your Life" | 4539 |
| kunpeng2 | Linux (openEuler 22.03 LTS-SP1) | aarch64 | 4.4.1 (2024-06-14) -- "Race for Your Life" | 4493 |
| Click on any hostname to see more info about the system (e.g. compilers) (*) as reported by 'uname -p', except on Windows and Mac OS X | ||||
| Package 298/2289 | Hostname | OS / Arch | INSTALL | BUILD | CHECK | BUILD BIN | ||||||||
| cellbaseR 1.30.0 (landing page) Mohammed OE Abdallah
| teran2 | Linux (Ubuntu 24.04.1 LTS) / x86_64 | OK | OK | OK | |||||||||
| nebbiolo2 | Linux (Ubuntu 24.04.1 LTS) / x86_64 | OK | OK | OK | ||||||||||
| palomino8 | Windows Server 2022 Datacenter / x64 | OK | OK | OK | OK | |||||||||
| lconway | macOS 12.7.1 Monterey / x86_64 | OK | OK | OK | OK | |||||||||
| kunpeng2 | Linux (openEuler 22.03 LTS-SP1) / aarch64 | OK | OK | OK | ||||||||||
|
To the developers/maintainers of the cellbaseR package: - Allow up to 24 hours (and sometimes 48 hours) for your latest push to git@git.bioconductor.org:packages/cellbaseR.git to reflect on this report. See Troubleshooting Build Report for more information. - Use the following Renviron settings to reproduce errors and warnings. - If 'R CMD check' started to fail recently on the Linux builder(s) over a missing dependency, add the missing dependency to 'Suggests:' in your DESCRIPTION file. See Renviron.bioc for more information. |
| Package: cellbaseR |
| Version: 1.30.0 |
| Command: /Library/Frameworks/R.framework/Resources/bin/R CMD check --install=check:cellbaseR.install-out.txt --library=/Library/Frameworks/R.framework/Resources/library --no-vignettes --timings cellbaseR_1.30.0.tar.gz |
| StartedAt: 2024-11-19 20:20:56 -0500 (Tue, 19 Nov 2024) |
| EndedAt: 2024-11-19 20:26:16 -0500 (Tue, 19 Nov 2024) |
| EllapsedTime: 320.4 seconds |
| RetCode: 0 |
| Status: OK |
| CheckDir: cellbaseR.Rcheck |
| Warnings: 0 |
##############################################################################
##############################################################################
###
### Running command:
###
### /Library/Frameworks/R.framework/Resources/bin/R CMD check --install=check:cellbaseR.install-out.txt --library=/Library/Frameworks/R.framework/Resources/library --no-vignettes --timings cellbaseR_1.30.0.tar.gz
###
##############################################################################
##############################################################################
* using log directory ‘/Users/biocbuild/bbs-3.20-bioc/meat/cellbaseR.Rcheck’
* using R version 4.4.1 (2024-06-14)
* using platform: x86_64-apple-darwin20
* R was compiled by
Apple clang version 14.0.0 (clang-1400.0.29.202)
GNU Fortran (GCC) 12.2.0
* running under: macOS Monterey 12.7.6
* using session charset: UTF-8
* using option ‘--no-vignettes’
* checking for file ‘cellbaseR/DESCRIPTION’ ... OK
* checking extension type ... Package
* this is package ‘cellbaseR’ version ‘1.30.0’
* package encoding: UTF-8
* checking package namespace information ... OK
* checking package dependencies ...Warning: unable to access index for repository https://CRAN.R-project.org/src/contrib:
cannot open URL 'https://CRAN.R-project.org/src/contrib/PACKAGES'
OK
* checking if this is a source package ... OK
* checking if there is a namespace ... OK
* checking for hidden files and directories ... OK
* checking for portable file names ... OK
* checking for sufficient/correct file permissions ... OK
* checking whether package ‘cellbaseR’ can be installed ... OK
* checking installed package size ... OK
* checking package directory ... OK
* checking ‘build’ directory ... OK
* checking DESCRIPTION meta-information ... OK
* checking top-level files ... OK
* checking for left-over files ... OK
* checking index information ... OK
* checking package subdirectories ... OK
* checking code files for non-ASCII characters ... OK
* checking R files for syntax errors ... OK
* checking whether the package can be loaded ... OK
* checking whether the package can be loaded with stated dependencies ... OK
* checking whether the package can be unloaded cleanly ... OK
* checking whether the namespace can be loaded with stated dependencies ... OK
* checking whether the namespace can be unloaded cleanly ... OK
* checking dependencies in R code ... OK
* checking S3 generic/method consistency ... OK
* checking replacement functions ... OK
* checking foreign function calls ... OK
* checking R code for possible problems ... OK
* checking Rd files ... OK
* checking Rd metadata ... OK
* checking Rd cross-references ... OK
* checking for missing documentation entries ... OK
* checking for code/documentation mismatches ... OK
* checking Rd \usage sections ... OK
* checking Rd contents ... OK
* checking for unstated dependencies in examples ... OK
* checking files in ‘vignettes’ ... OK
* checking examples ... OK
Examples with CPU (user + system) or elapsed time > 5s
user system elapsed
AnnotateVcf-CellBaseR-method 3.136 0.504 11.608
* checking for unstated dependencies in vignettes ... OK
* checking package vignettes ... OK
* checking running R code from vignettes ... SKIPPED
* checking re-building of vignette outputs ... SKIPPED
* checking PDF version of manual ... OK
* DONE
Status: OK
cellbaseR.Rcheck/00install.out
############################################################################## ############################################################################## ### ### Running command: ### ### /Library/Frameworks/R.framework/Resources/bin/R CMD INSTALL cellbaseR ### ############################################################################## ############################################################################## * installing to library ‘/Library/Frameworks/R.framework/Versions/4.4-x86_64/Resources/library’ * installing *source* package ‘cellbaseR’ ... ** using staged installation ** R ** inst ** byte-compile and prepare package for lazy loading ** help *** installing help indices ** building package indices ** installing vignettes ** testing if installed package can be loaded from temporary location ** testing if installed package can be loaded from final location ** testing if installed package keeps a record of temporary installation path * DONE (cellbaseR)
cellbaseR.Rcheck/cellbaseR-Ex.timings
| name | user | system | elapsed | |
| AnnotateVcf-CellBaseR-method | 3.136 | 0.504 | 11.608 | |
| CellBaseParam | 0.001 | 0.000 | 0.002 | |
| CellBaseR | 0.016 | 0.002 | 0.174 | |
| createGeneModel | 0.158 | 0.019 | 0.444 | |
| getCellBase-CellBaseR-method | 0.037 | 0.005 | 0.205 | |
| getCellBaseResourceHelp | 0.103 | 0.010 | 1.253 | |
| getChromosomeInfo-CellBaseR-method | 0.020 | 0.002 | 0.264 | |
| getClinical-CellBaseR-method | 0.297 | 0.008 | 0.511 | |
| getConservationByRegion | 0.035 | 0.002 | 0.213 | |
| getGene-CellBaseR-method | 0.139 | 0.004 | 0.397 | |
| getGeneInfo | 0.037 | 0.003 | 0.201 | |
| getMeta-CellBaseR-method | 0.026 | 0.001 | 0.185 | |
| getProtein-CellBaseR-method | 0.068 | 0.002 | 0.244 | |
| getProteinInfo | 0.066 | 0.001 | 0.230 | |
| getRegion-CellBaseR-method | 0.097 | 0.002 | 0.276 | |
| getRegulatoryByRegion | 0.027 | 0.001 | 0.194 | |
| getTranscript-CellBaseR-method | 0.025 | 0.002 | 0.190 | |
| getTranscriptByGene | 0.025 | 0.001 | 0.187 | |
| getVariant-CellBaseR-method | 0.047 | 0.001 | 0.220 | |
| getVariantAnnotation | 0.047 | 0.002 | 0.230 | |
| getXref-CellBaseR-method | 0.020 | 0.001 | 0.197 | |