| Back to Multiple platform build/check report for BioC 3.20: simplified long | 
  | 
This page was generated on 2024-11-20 12:07 -0500 (Wed, 20 Nov 2024).
| Hostname | OS | Arch (*) | R version | Installed pkgs | 
|---|---|---|---|---|
| teran2 | Linux (Ubuntu 24.04.1 LTS) | x86_64 | 4.4.2 (2024-10-31) -- "Pile of Leaves" | 4481 | 
| nebbiolo2 | Linux (Ubuntu 24.04.1 LTS) | x86_64 | 4.4.2 (2024-10-31) -- "Pile of Leaves" | 4479 | 
| palomino8 | Windows Server 2022 Datacenter | x64 | 4.4.2 (2024-10-31 ucrt) -- "Pile of Leaves" | 4359 | 
| lconway | macOS 12.7.1 Monterey | x86_64 | 4.4.1 (2024-06-14) -- "Race for Your Life" | 4539 | 
| kunpeng2 | Linux (openEuler 22.03 LTS-SP1) | aarch64 | 4.4.1 (2024-06-14) -- "Race for Your Life" | 4493 | 
| Click on any hostname to see more info about the system (e.g. compilers) (*) as reported by 'uname -p', except on Windows and Mac OS X | ||||
| Package 279/2289 | Hostname | OS / Arch | INSTALL | BUILD | CHECK | BUILD BIN | ||||||||
| categoryCompare 1.50.0  (landing page) Robert M. Flight 
  | teran2 | Linux (Ubuntu 24.04.1 LTS) / x86_64 | OK | OK | OK | |||||||||
| nebbiolo2 | Linux (Ubuntu 24.04.1 LTS) / x86_64 | OK | OK | OK | ||||||||||
| palomino8 | Windows Server 2022 Datacenter / x64 | OK | OK | OK | OK | |||||||||
| lconway | macOS 12.7.1 Monterey / x86_64 | OK | OK | OK | OK | |||||||||
| kunpeng2 | Linux (openEuler 22.03 LTS-SP1) / aarch64 | OK | OK | OK | ||||||||||
| 
To the developers/maintainers of the categoryCompare package: - Allow up to 24 hours (and sometimes 48 hours) for your latest push to git@git.bioconductor.org:packages/categoryCompare.git to reflect on this report. See Troubleshooting Build Report for more information. - Use the following Renviron settings to reproduce errors and warnings. - If 'R CMD check' started to fail recently on the Linux builder(s) over a missing dependency, add the missing dependency to 'Suggests:' in your DESCRIPTION file. See Renviron.bioc for more information. - See Martin Grigorov's blog post for how to debug Linux ARM64 related issues on a x86_64 host.  | 
| Package: categoryCompare | 
| Version: 1.50.0 | 
| Command: /home/biocbuild/R/R/bin/R CMD check --install=check:categoryCompare.install-out.txt --library=/home/biocbuild/R/R/site-library --no-vignettes --timings categoryCompare_1.50.0.tar.gz | 
| StartedAt: 2024-11-20 05:56:21 -0000 (Wed, 20 Nov 2024) | 
| EndedAt: 2024-11-20 06:00:22 -0000 (Wed, 20 Nov 2024) | 
| EllapsedTime: 240.4 seconds | 
| RetCode: 0 | 
| Status: OK | 
| CheckDir: categoryCompare.Rcheck | 
| Warnings: 0 | 
##############################################################################
##############################################################################
###
### Running command:
###
###   /home/biocbuild/R/R/bin/R CMD check --install=check:categoryCompare.install-out.txt --library=/home/biocbuild/R/R/site-library --no-vignettes --timings categoryCompare_1.50.0.tar.gz
###
##############################################################################
##############################################################################
* using log directory ‘/home/biocbuild/bbs-3.20-bioc/meat/categoryCompare.Rcheck’
* using R version 4.4.1 (2024-06-14)
* using platform: aarch64-unknown-linux-gnu
* R was compiled by
    gcc (GCC) 12.2.1 20220819 (openEuler 12.2.1-14)
    GNU Fortran (GCC) 10.3.1
* running under: openEuler 22.03 (LTS-SP1)
* using session charset: UTF-8
* using option ‘--no-vignettes’
* checking for file ‘categoryCompare/DESCRIPTION’ ... OK
* this is package ‘categoryCompare’ version ‘1.50.0’
* checking package namespace information ... OK
* checking package dependencies ... OK
* checking if this is a source package ... OK
* checking if there is a namespace ... OK
* checking for hidden files and directories ... OK
* checking for portable file names ... OK
* checking for sufficient/correct file permissions ... OK
* checking whether package ‘categoryCompare’ can be installed ... OK
* checking installed package size ... OK
* checking package directory ... OK
* checking ‘build’ directory ... OK
* checking DESCRIPTION meta-information ... OK
* checking top-level files ... OK
* checking for left-over files ... OK
* checking index information ... OK
* checking package subdirectories ... OK
* checking code files for non-ASCII characters ... OK
* checking R files for syntax errors ... OK
* checking whether the package can be loaded ... OK
* checking whether the package can be loaded with stated dependencies ... OK
* checking whether the package can be unloaded cleanly ... OK
* checking whether the namespace can be loaded with stated dependencies ... OK
* checking whether the namespace can be unloaded cleanly ... OK
* checking loading without being on the library search path ... OK
* checking dependencies in R code ... OK
* checking S3 generic/method consistency ... OK
* checking replacement functions ... OK
* checking foreign function calls ... OK
* checking R code for possible problems ... NOTE
.ccCompareGO: no visible binding for global variable ‘GOBPPARENTS’
.ccCompareGO: no visible binding for global variable ‘GOMFPARENTS’
.ccCompareGO: no visible binding for global variable ‘GOCCPARENTS’
.ccCompareGO: no visible binding for global variable ‘GOTERM’
.ccCompareGO: no visible binding for global variable ‘Term’
.cytOutNodes: ... may be used in an incorrect context:
  exportImage(filename = fileName, type = "png", network = cwObj, ...)
.getDesc : <anonymous>: no visible global function definition for
  ‘Term’
show,HyperGResultCC: no visible global function definition for
  ‘description’
Undefined global functions or variables:
  GOBPPARENTS GOCCPARENTS GOMFPARENTS GOTERM Term description
* checking Rd files ... NOTE
checkRd: (-1) ccData.Rd:21: Lost braces
    21 |   \code{table10}{: Log-ratio output from \pkg{limma} for the comparison of presence-absence of estrogen at 10 hours}
       |                 ^
checkRd: (-1) ccData.Rd:23: Lost braces
    23 |   \code{table48}{: Log-ratio output from \pkg{limma} for the comparison of presence-absence of estrogen at 48 hours}
       |                 ^
checkRd: (-1) ccData.Rd:25: Lost braces
    25 |   \code{gUniverse}{: All of the genes measured on the chip}
       |                   ^
checkRd: (-1) ccData.Rd:27: Lost braces
    27 |         \code{gseaRes}{: Toy results of GSEA analysis of 3 different tissues}
       |                       ^
checkRd: (-1) ccData.Rd:29: Lost braces
    29 |         \code{enrichLists}{: Apply \code{\link{ccEnrich}} to a ccGeneList from \code{table10} and \code{table48}}
       |                           ^
checkRd: (-1) ccData.Rd:31: Lost braces
    31 |         \code{ccResults}{: Apply \code{\link{ccCompare}} to \code{enrichLists}}
       |                         ^
checkRd: (-1) ccData.Rd:33: Lost braces
    33 |         \code{ccResultsBPHier}{: Modify \code{enrichLists$BP} to use a "hierarchical" layout}
       |                               ^
checkRd: (-1) ccData.Rd:35: Lost braces
    35 |         \code{geneLists}{: a \code{ccGeneList} generated from genes in table10 and table48}
       |                         ^
checkRd: (-1) ccData.Rd:37: Lost braces
    37 |         \code{ccOpts}{: a \code{ccOptions} object describing what we are going to do as far as feature list comparisons}
       |                      ^
* checking Rd metadata ... OK
* checking Rd cross-references ... OK
* checking for missing documentation entries ... OK
* checking for code/documentation mismatches ... OK
* checking Rd \usage sections ... OK
* checking Rd contents ... OK
* checking for unstated dependencies in examples ... OK
* checking contents of ‘data’ directory ... OK
* checking data for non-ASCII characters ... OK
* checking data for ASCII and uncompressed saves ... OK
* checking files in ‘vignettes’ ... OK
* checking examples ... OK
* checking for unstated dependencies in vignettes ... OK
* checking package vignettes ... OK
* checking running R code from vignettes ... SKIPPED
* checking re-building of vignette outputs ... SKIPPED
* checking PDF version of manual ... OK
* DONE
Status: 2 NOTEs
See
  ‘/home/biocbuild/bbs-3.20-bioc/meat/categoryCompare.Rcheck/00check.log’
for details.
categoryCompare.Rcheck/00install.out
############################################################################## ############################################################################## ### ### Running command: ### ### /home/biocbuild/R/R/bin/R CMD INSTALL categoryCompare ### ############################################################################## ############################################################################## * installing to library ‘/home/biocbuild/R/R-4.4.1/site-library’ * installing *source* package ‘categoryCompare’ ... ** using staged installation ** R ** data ** inst ** byte-compile and prepare package for lazy loading Note: ... may be used in an incorrect context ** help *** installing help indices ** building package indices ** installing vignettes ** testing if installed package can be loaded from temporary location ** testing if installed package can be loaded from final location ** testing if installed package keeps a record of temporary installation path * DONE (categoryCompare)
categoryCompare.Rcheck/categoryCompare-Ex.timings
| name | user | system | elapsed | |
| GENccEnrichResult-class | 0.600 | 0.004 | 0.605 | |
| HyperGParamsCC-class | 0.002 | 0.000 | 0.001 | |
| HyperGResultCC-class | 0.001 | 0.000 | 0.001 | |
| breakEdges-methods | 0.680 | 0.016 | 0.697 | |
| ccCompare | 0.635 | 0.012 | 0.648 | |
| ccCompareCollection-class | 0.001 | 0.000 | 0.000 | |
| ccCompareResult-class | 0 | 0 | 0 | |
| ccData | 0.573 | 0.004 | 0.578 | |
| ccEnrich | 0.603 | 0.000 | 0.604 | |
| ccEnrichCollection-class | 2.019 | 0.039 | 2.062 | |
| ccEnrichResult-class | 3.191 | 0.084 | 3.281 | |
| ccGeneList-class | 0.665 | 0.008 | 0.674 | |
| ccOptions-class | 0.022 | 0.000 | 0.023 | |
| ccOutCyt-methods | 0.000 | 0.000 | 0.001 | |
| ccSigList-class | 0.000 | 0.000 | 0.001 | |
| cytOutData-methods | 0 | 0 | 0 | |
| cytOutNodes-methods | 0 | 0 | 0 | |
| hyperGTestCC | 1.046 | 0.016 | 1.063 | |
| mergeLists-methods | 1.087 | 0.024 | 1.113 | |
| mergedData-class | 0.913 | 0.024 | 0.939 | |
| minCount | 2.523 | 0.052 | 2.580 | |
| minNodes | 0 | 0 | 0 | |
| pvalueType | 1.740 | 0.008 | 1.751 | |
| show-methods | 0.001 | 0.000 | 0.000 | |