Back to Multiple platform build/check report for BioC 3.20: simplified long |
|
This page was generated on 2025-02-06 12:07 -0500 (Thu, 06 Feb 2025).
Hostname | OS | Arch (*) | R version | Installed pkgs |
---|---|---|---|---|
nebbiolo2 | Linux (Ubuntu 24.04.1 LTS) | x86_64 | 4.4.2 (2024-10-31) -- "Pile of Leaves" | 4753 |
palomino8 | Windows Server 2022 Datacenter | x64 | 4.4.2 (2024-10-31 ucrt) -- "Pile of Leaves" | 4501 |
merida1 | macOS 12.7.5 Monterey | x86_64 | 4.4.2 (2024-10-31) -- "Pile of Leaves" | 4524 |
kjohnson1 | macOS 13.6.6 Ventura | arm64 | 4.4.2 (2024-10-31) -- "Pile of Leaves" | 4476 |
taishan | Linux (openEuler 24.03 LTS) | aarch64 | 4.4.2 (2024-10-31) -- "Pile of Leaves" | 4407 |
Click on any hostname to see more info about the system (e.g. compilers) (*) as reported by 'uname -p', except on Windows and Mac OS X |
Package 272/2289 | Hostname | OS / Arch | INSTALL | BUILD | CHECK | BUILD BIN | ||||||||
cardelino 1.8.0 (landing page) Davis McCarthy
| nebbiolo2 | Linux (Ubuntu 24.04.1 LTS) / x86_64 | OK | OK | OK | ![]() | ||||||||
palomino8 | Windows Server 2022 Datacenter / x64 | OK | OK | OK | OK | ![]() | ||||||||
merida1 | macOS 12.7.5 Monterey / x86_64 | OK | OK | OK | OK | ![]() | ||||||||
kjohnson1 | macOS 13.6.6 Ventura / arm64 | OK | OK | OK | OK | ![]() | ||||||||
taishan | Linux (openEuler 24.03 LTS) / aarch64 | OK | OK | OK | ||||||||||
To the developers/maintainers of the cardelino package: - Allow up to 24 hours (and sometimes 48 hours) for your latest push to git@git.bioconductor.org:packages/cardelino.git to reflect on this report. See Troubleshooting Build Report for more information. - Use the following Renviron settings to reproduce errors and warnings. - If 'R CMD check' started to fail recently on the Linux builder(s) over a missing dependency, add the missing dependency to 'Suggests:' in your DESCRIPTION file. See Renviron.bioc for more information. |
Package: cardelino |
Version: 1.8.0 |
Command: /Library/Frameworks/R.framework/Resources/bin/R CMD check --install=check:cardelino.install-out.txt --library=/Library/Frameworks/R.framework/Resources/library --no-vignettes --timings cardelino_1.8.0.tar.gz |
StartedAt: 2025-02-04 00:48:10 -0500 (Tue, 04 Feb 2025) |
EndedAt: 2025-02-04 01:02:43 -0500 (Tue, 04 Feb 2025) |
EllapsedTime: 873.4 seconds |
RetCode: 0 |
Status: OK |
CheckDir: cardelino.Rcheck |
Warnings: 0 |
############################################################################## ############################################################################## ### ### Running command: ### ### /Library/Frameworks/R.framework/Resources/bin/R CMD check --install=check:cardelino.install-out.txt --library=/Library/Frameworks/R.framework/Resources/library --no-vignettes --timings cardelino_1.8.0.tar.gz ### ############################################################################## ############################################################################## * using log directory ‘/Users/biocbuild/bbs-3.20-bioc/meat/cardelino.Rcheck’ * using R version 4.4.2 (2024-10-31) * using platform: x86_64-apple-darwin20 * R was compiled by Apple clang version 14.0.0 (clang-1400.0.29.202) GNU Fortran (GCC) 12.2.0 * running under: macOS Monterey 12.7.6 * using session charset: UTF-8 * using option ‘--no-vignettes’ * checking for file ‘cardelino/DESCRIPTION’ ... OK * checking extension type ... Package * this is package ‘cardelino’ version ‘1.8.0’ * package encoding: UTF-8 * checking package namespace information ... OK * checking package dependencies ... OK * checking if this is a source package ... OK * checking if there is a namespace ... OK * checking for hidden files and directories ... OK * checking for portable file names ... OK * checking for sufficient/correct file permissions ... OK * checking whether package ‘cardelino’ can be installed ... OK * checking installed package size ... OK * checking package directory ... OK * checking ‘build’ directory ... OK * checking DESCRIPTION meta-information ... OK * checking top-level files ... OK * checking for left-over files ... OK * checking index information ... OK * checking package subdirectories ... OK * checking code files for non-ASCII characters ... OK * checking R files for syntax errors ... OK * checking whether the package can be loaded ... OK * checking whether the package can be loaded with stated dependencies ... OK * checking whether the package can be unloaded cleanly ... OK * checking whether the namespace can be loaded with stated dependencies ... OK * checking whether the namespace can be unloaded cleanly ... OK * checking dependencies in R code ... OK * checking S3 generic/method consistency ... OK * checking replacement functions ... OK * checking foreign function calls ... OK * checking R code for possible problems ... OK * checking Rd files ... OK * checking Rd metadata ... OK * checking Rd cross-references ... OK * checking for missing documentation entries ... OK * checking for code/documentation mismatches ... OK * checking Rd \usage sections ... OK * checking Rd contents ... OK * checking for unstated dependencies in examples ... OK * checking contents of ‘data’ directory ... OK * checking data for non-ASCII characters ... OK * checking data for ASCII and uncompressed saves ... OK * checking files in ‘vignettes’ ... OK * checking examples ... OK Examples with CPU (user + system) or elapsed time > 5s user system elapsed vc_heatmap 135.177 9.968 153.376 get_snp_matrices 33.848 1.973 37.310 clone_id 25.349 1.250 28.006 read_vcf 5.001 0.407 5.656 * checking for unstated dependencies in ‘tests’ ... OK * checking tests ... Running ‘testthat.R’ OK * checking for unstated dependencies in vignettes ... OK * checking package vignettes ... OK * checking running R code from vignettes ... SKIPPED * checking re-building of vignette outputs ... SKIPPED * checking PDF version of manual ... OK * DONE Status: OK
cardelino.Rcheck/00install.out
############################################################################## ############################################################################## ### ### Running command: ### ### /Library/Frameworks/R.framework/Resources/bin/R CMD INSTALL cardelino ### ############################################################################## ############################################################################## * installing to library ‘/Library/Frameworks/R.framework/Versions/4.4-x86_64/Resources/library’ * installing *source* package ‘cardelino’ ... ** using staged installation ** R ** data ** inst ** byte-compile and prepare package for lazy loading ** help *** installing help indices ** building package indices ** installing vignettes ** testing if installed package can be loaded from temporary location ** testing if installed package can be loaded from final location ** testing if installed package keeps a record of temporary installation path * DONE (cardelino)
cardelino.Rcheck/tests/testthat.Rout
R version 4.4.2 (2024-10-31) -- "Pile of Leaves" Copyright (C) 2024 The R Foundation for Statistical Computing Platform: x86_64-apple-darwin20 R is free software and comes with ABSOLUTELY NO WARRANTY. You are welcome to redistribute it under certain conditions. Type 'license()' or 'licence()' for distribution details. R is a collaborative project with many contributors. Type 'contributors()' for more information and 'citation()' on how to cite R or R packages in publications. Type 'demo()' for some demos, 'help()' for on-line help, or 'help.start()' for an HTML browser interface to help. Type 'q()' to quit R. > Sys.setenv("R_TESTS" = "") > library(testthat) > library(cardelino) > > test_check("cardelino") [1] "Total iterations: 11" 99.7% converged. [1] "Converged in 200 iterations." DIC: 2936.04 D_mean: 2448.89 D_post: 2348.56 logLik_var: 146.87 [,1] [,2] [,3] [,4] [1,] 1 2 3 4 [1] "63 samples have multiple labels." Scanning file to determine attributes. File attributes: meta lines: 37 header_line: 38 variant count: 112 column count: 86 Meta line 37 read in. All meta lines processed. gt matrix initialized. Character matrix gt created. Character matrix gt rows: 112 Character matrix gt cols: 86 skip: 0 nrows: 112 row_num: 0 Processed variant: 112 All variants processed [1] "112 out of 112 SNPs passed." Scanning file to determine attributes. File attributes: meta lines: 37 header_line: 38 variant count: 112 column count: 86 Meta line 37 read in. All meta lines processed. gt matrix initialized. Character matrix gt created. Character matrix gt rows: 112 Character matrix gt cols: 86 skip: 0 nrows: 112 row_num: 0 Processed variant: 112 All variants processed [ FAIL 0 | WARN 2 | SKIP 0 | PASS 20 ] [ FAIL 0 | WARN 2 | SKIP 0 | PASS 20 ] > > # check test coverage with covr in Rstudio > # covr::package_coverage() > > proc.time() user system elapsed 42.363 2.314 46.695
cardelino.Rcheck/cardelino-Ex.timings
name | user | system | elapsed | |
assign_cells_to_clones | 0.187 | 0.009 | 0.209 | |
binaryPRC | 0.017 | 0.005 | 0.024 | |
binaryROC | 0.019 | 0.006 | 0.024 | |
clone_id | 25.349 | 1.250 | 28.006 | |
colMatch | 0.002 | 0.001 | 0.002 | |
get_snp_matrices | 33.848 | 1.973 | 37.310 | |
get_tree | 0.789 | 0.012 | 0.826 | |
heat_matrix | 1.566 | 0.034 | 1.669 | |
load_GT_vcf | 0.503 | 0.054 | 0.583 | |
load_cellSNP_vcf | 0.039 | 0.003 | 0.044 | |
mixBinom | 0.032 | 0.001 | 0.035 | |
mtx_to_df | 0.003 | 0.001 | 0.004 | |
plot_config_diffs | 0.346 | 0.005 | 0.359 | |
plot_tree | 0.617 | 0.009 | 0.658 | |
predMixBinom | 0.032 | 0.001 | 0.033 | |
prob_heatmap | 0.188 | 0.005 | 0.204 | |
pub.theme | 0.051 | 0.002 | 0.059 | |
read_vcf | 5.001 | 0.407 | 5.656 | |
rowArgmax | 0.001 | 0.000 | 0.002 | |
rowMax | 0.001 | 0.000 | 0.001 | |
sample_seq_depth | 1.367 | 0.051 | 1.481 | |
sample_tree_SNV | 0.007 | 0.002 | 0.009 | |
sim_read_count | 3.485 | 0.031 | 3.758 | |
vc_heatmap | 135.177 | 9.968 | 153.376 | |