| Back to Multiple platform build/check report for BioC 3.20: simplified long |
|
This page was generated on 2024-11-20 12:07 -0500 (Wed, 20 Nov 2024).
| Hostname | OS | Arch (*) | R version | Installed pkgs |
|---|---|---|---|---|
| teran2 | Linux (Ubuntu 24.04.1 LTS) | x86_64 | 4.4.2 (2024-10-31) -- "Pile of Leaves" | 4481 |
| nebbiolo2 | Linux (Ubuntu 24.04.1 LTS) | x86_64 | 4.4.2 (2024-10-31) -- "Pile of Leaves" | 4479 |
| palomino8 | Windows Server 2022 Datacenter | x64 | 4.4.2 (2024-10-31 ucrt) -- "Pile of Leaves" | 4359 |
| lconway | macOS 12.7.1 Monterey | x86_64 | 4.4.1 (2024-06-14) -- "Race for Your Life" | 4539 |
| kunpeng2 | Linux (openEuler 22.03 LTS-SP1) | aarch64 | 4.4.1 (2024-06-14) -- "Race for Your Life" | 4493 |
| Click on any hostname to see more info about the system (e.g. compilers) (*) as reported by 'uname -p', except on Windows and Mac OS X | ||||
| Package 231/2289 | Hostname | OS / Arch | INSTALL | BUILD | CHECK | BUILD BIN | ||||||||
| bluster 1.16.0 (landing page) Aaron Lun
| teran2 | Linux (Ubuntu 24.04.1 LTS) / x86_64 | OK | OK | OK | |||||||||
| nebbiolo2 | Linux (Ubuntu 24.04.1 LTS) / x86_64 | OK | OK | OK | ||||||||||
| palomino8 | Windows Server 2022 Datacenter / x64 | OK | OK | OK | OK | |||||||||
| lconway | macOS 12.7.1 Monterey / x86_64 | OK | OK | OK | OK | |||||||||
| kunpeng2 | Linux (openEuler 22.03 LTS-SP1) / aarch64 | OK | OK | OK | ||||||||||
|
To the developers/maintainers of the bluster package: - Allow up to 24 hours (and sometimes 48 hours) for your latest push to git@git.bioconductor.org:packages/bluster.git to reflect on this report. See Troubleshooting Build Report for more information. - Use the following Renviron settings to reproduce errors and warnings. - If 'R CMD check' started to fail recently on the Linux builder(s) over a missing dependency, add the missing dependency to 'Suggests:' in your DESCRIPTION file. See Renviron.bioc for more information. - See Martin Grigorov's blog post for how to debug Linux ARM64 related issues on a x86_64 host. |
| Package: bluster |
| Version: 1.16.0 |
| Command: /home/biocbuild/R/R/bin/R CMD check --install=check:bluster.install-out.txt --library=/home/biocbuild/R/R/site-library --no-vignettes --timings bluster_1.16.0.tar.gz |
| StartedAt: 2024-11-20 05:44:09 -0000 (Wed, 20 Nov 2024) |
| EndedAt: 2024-11-20 05:47:04 -0000 (Wed, 20 Nov 2024) |
| EllapsedTime: 175.1 seconds |
| RetCode: 0 |
| Status: OK |
| CheckDir: bluster.Rcheck |
| Warnings: 0 |
##############################################################################
##############################################################################
###
### Running command:
###
### /home/biocbuild/R/R/bin/R CMD check --install=check:bluster.install-out.txt --library=/home/biocbuild/R/R/site-library --no-vignettes --timings bluster_1.16.0.tar.gz
###
##############################################################################
##############################################################################
* using log directory ‘/home/biocbuild/bbs-3.20-bioc/meat/bluster.Rcheck’
* using R version 4.4.1 (2024-06-14)
* using platform: aarch64-unknown-linux-gnu
* R was compiled by
gcc (GCC) 12.2.1 20220819 (openEuler 12.2.1-14)
GNU Fortran (GCC) 10.3.1
* running under: openEuler 22.03 (LTS-SP1)
* using session charset: UTF-8
* using option ‘--no-vignettes’
* checking for file ‘bluster/DESCRIPTION’ ... OK
* this is package ‘bluster’ version ‘1.16.0’
* package encoding: UTF-8
* checking package namespace information ... OK
* checking package dependencies ... OK
* checking if this is a source package ... OK
* checking if there is a namespace ... OK
* checking for hidden files and directories ... OK
* checking for portable file names ... OK
* checking for sufficient/correct file permissions ... OK
* checking whether package ‘bluster’ can be installed ... OK
* used C++ compiler: ‘g++ (conda-forge gcc 14.2.0-1) 14.2.0’
* checking C++ specification ... OK
Not all R platforms support C++17
* checking installed package size ... OK
* checking package directory ... OK
* checking ‘build’ directory ... OK
* checking DESCRIPTION meta-information ... OK
* checking top-level files ... OK
* checking for left-over files ... OK
* checking index information ... OK
* checking package subdirectories ... OK
* checking code files for non-ASCII characters ... OK
* checking R files for syntax errors ... OK
* checking whether the package can be loaded ... OK
* checking whether the package can be loaded with stated dependencies ... OK
* checking whether the package can be unloaded cleanly ... OK
* checking whether the namespace can be loaded with stated dependencies ... OK
* checking whether the namespace can be unloaded cleanly ... OK
* checking loading without being on the library search path ... OK
* checking dependencies in R code ... OK
* checking S3 generic/method consistency ... OK
* checking replacement functions ... OK
* checking foreign function calls ... OK
* checking R code for possible problems ... OK
* checking Rd files ... OK
* checking Rd metadata ... OK
* checking Rd cross-references ... OK
* checking for missing documentation entries ... OK
* checking for code/documentation mismatches ... OK
* checking Rd \usage sections ... OK
* checking Rd contents ... OK
* checking for unstated dependencies in examples ... OK
* checking line endings in C/C++/Fortran sources/headers ... OK
* checking compiled code ... NOTE
Note: information on .o files is not available
* checking files in ‘vignettes’ ... OK
* checking examples ... OK
Examples with CPU (user + system) or elapsed time > 5s
user system elapsed
MbkmeansParam-class 5.971 0.156 6.14
* checking for unstated dependencies in ‘tests’ ... OK
* checking tests ...
Running ‘testthat.R’
OK
* checking for unstated dependencies in vignettes ... OK
* checking package vignettes ... OK
* checking running R code from vignettes ... SKIPPED
* checking re-building of vignette outputs ... SKIPPED
* checking PDF version of manual ... OK
* DONE
Status: 1 NOTE
See
‘/home/biocbuild/bbs-3.20-bioc/meat/bluster.Rcheck/00check.log’
for details.
bluster.Rcheck/00install.out
############################################################################## ############################################################################## ### ### Running command: ### ### /home/biocbuild/R/R/bin/R CMD INSTALL bluster ### ############################################################################## ############################################################################## * installing to library ‘/home/biocbuild/R/R-4.4.1/site-library’ * installing *source* package ‘bluster’ ... ** using staged installation ** libs using C++ compiler: ‘g++ (conda-forge gcc 14.2.0-1) 14.2.0’ using C++17 g++ -std=gnu++17 -I"/home/biocbuild/R/R-4.4.1/include" -DNDEBUG -I'/home/biocbuild/R/R-4.4.1/site-library/Rcpp/include' -I'/home/biocbuild/R/R-4.4.1/site-library/assorthead/include' -I/usr/local/include -fPIC -g -O2 -Wall -c RcppExports.cpp -o RcppExports.o g++ -std=gnu++17 -I"/home/biocbuild/R/R-4.4.1/include" -DNDEBUG -I'/home/biocbuild/R/R-4.4.1/site-library/Rcpp/include' -I'/home/biocbuild/R/R-4.4.1/site-library/assorthead/include' -I/usr/local/include -fPIC -g -O2 -Wall -c build_snn.cpp -o build_snn.o g++ -std=gnu++17 -I"/home/biocbuild/R/R-4.4.1/include" -DNDEBUG -I'/home/biocbuild/R/R-4.4.1/site-library/Rcpp/include' -I'/home/biocbuild/R/R-4.4.1/site-library/assorthead/include' -I/usr/local/include -fPIC -g -O2 -Wall -c sum_neighbor_weights.cpp -o sum_neighbor_weights.o g++ -std=gnu++17 -shared -L/home/biocbuild/R/R-4.4.1/lib -L/usr/local/lib -o bluster.so RcppExports.o build_snn.o sum_neighbor_weights.o -L/home/biocbuild/R/R-4.4.1/lib -lR installing to /home/biocbuild/R/R-4.4.1/site-library/00LOCK-bluster/00new/bluster/libs ** R ** inst ** byte-compile and prepare package for lazy loading ** help *** installing help indices ** building package indices ** installing vignettes ** testing if installed package can be loaded from temporary location ** checking absolute paths in shared objects and dynamic libraries ** testing if installed package can be loaded from final location ** testing if installed package keeps a record of temporary installation path * DONE (bluster)
bluster.Rcheck/tests/testthat.Rout
R version 4.4.1 (2024-06-14) -- "Race for Your Life"
Copyright (C) 2024 The R Foundation for Statistical Computing
Platform: aarch64-unknown-linux-gnu
R is free software and comes with ABSOLUTELY NO WARRANTY.
You are welcome to redistribute it under certain conditions.
Type 'license()' or 'licence()' for distribution details.
R is a collaborative project with many contributors.
Type 'contributors()' for more information and
'citation()' on how to cite R or R packages in publications.
Type 'demo()' for some demos, 'help()' for on-line help, or
'help.start()' for an HTML browser interface to help.
Type 'q()' to quit R.
> library(testthat)
> library(bluster)
> test_check("bluster")
[ FAIL 0 | WARN 2 | SKIP 0 | PASS 2249 ]
[ FAIL 0 | WARN 2 | SKIP 0 | PASS 2249 ]
>
> proc.time()
user system elapsed
50.344 0.886 50.445
bluster.Rcheck/bluster-Ex.timings
| name | user | system | elapsed | |
| AffinityParam-class | 1.165 | 0.044 | 1.212 | |
| AgnesParam-class | 0.027 | 0.000 | 0.027 | |
| ClaraParam-class | 0.022 | 0.000 | 0.022 | |
| DbscanParam-class | 0.035 | 0.000 | 0.036 | |
| DianaParam-class | 0.019 | 0.004 | 0.022 | |
| DmmParam-class | 1.935 | 0.044 | 1.814 | |
| HclustParam-class | 0.209 | 0.012 | 0.144 | |
| KmeansParam-class | 0.012 | 0.000 | 0.012 | |
| MbkmeansParam-class | 5.971 | 0.156 | 6.140 | |
| NNGraphParam-class | 0.054 | 0.004 | 0.059 | |
| PamParam-class | 0.013 | 0.008 | 0.020 | |
| SomParam-class | 0.058 | 0.004 | 0.062 | |
| TwoStepParam-class | 0.347 | 0.012 | 0.359 | |
| approxSilhouette | 0.191 | 0.000 | 0.191 | |
| bootstrapStability | 0.971 | 0.007 | 0.980 | |
| clusterRMSD | 0.01 | 0.00 | 0.01 | |
| clusterRows | 1.006 | 0.027 | 1.035 | |
| clusterSweep | 0.495 | 0.012 | 0.509 | |
| compareClusterings | 0.251 | 0.005 | 0.257 | |
| defaultArguments | 0.000 | 0.003 | 0.004 | |
| linkClusters | 0.068 | 0.000 | 0.069 | |
| makeSNNGraph | 1.611 | 0.004 | 1.619 | |
| mergeCommunities | 0.030 | 0.000 | 0.031 | |
| neighborPurity | 0.086 | 0.000 | 0.087 | |
| nestedClusters | 0.037 | 0.004 | 0.042 | |
| pairwiseModularity | 1.176 | 0.008 | 1.185 | |
| pairwiseRand | 0.034 | 0.000 | 0.033 | |