| Back to Multiple platform build/check report for BioC 3.20: simplified long |
|
This page was generated on 2025-04-02 19:36 -0400 (Wed, 02 Apr 2025).
| Hostname | OS | Arch (*) | R version | Installed pkgs |
|---|---|---|---|---|
| nebbiolo2 | Linux (Ubuntu 24.04.1 LTS) | x86_64 | 4.4.3 (2025-02-28) -- "Trophy Case" | 4764 |
| palomino8 | Windows Server 2022 Datacenter | x64 | 4.4.3 (2025-02-28 ucrt) -- "Trophy Case" | 4495 |
| merida1 | macOS 12.7.5 Monterey | x86_64 | 4.4.3 (2025-02-28) -- "Trophy Case" | 4522 |
| kjohnson1 | macOS 13.6.6 Ventura | arm64 | 4.4.3 (2025-02-28) -- "Trophy Case" | 4449 |
| taishan | Linux (openEuler 24.03 LTS) | aarch64 | 4.4.3 (2025-02-28) -- "Trophy Case" | 4426 |
| Click on any hostname to see more info about the system (e.g. compilers) (*) as reported by 'uname -p', except on Windows and Mac OS X | ||||
| Package 2281/2289 | Hostname | OS / Arch | INSTALL | BUILD | CHECK | BUILD BIN | ||||||||
| YAPSA 1.32.0 (landing page) Zuguang Gu
| nebbiolo2 | Linux (Ubuntu 24.04.1 LTS) / x86_64 | OK | OK | OK | |||||||||
| palomino8 | Windows Server 2022 Datacenter / x64 | OK | OK | OK | OK | |||||||||
| merida1 | macOS 12.7.5 Monterey / x86_64 | OK | OK | OK | OK | |||||||||
| kjohnson1 | macOS 13.6.6 Ventura / arm64 | OK | OK | OK | OK | |||||||||
| taishan | Linux (openEuler 24.03 LTS) / aarch64 | OK | OK | OK | ||||||||||
|
To the developers/maintainers of the YAPSA package: - Allow up to 24 hours (and sometimes 48 hours) for your latest push to git@git.bioconductor.org:packages/YAPSA.git to reflect on this report. See Troubleshooting Build Report for more information. - Use the following Renviron settings to reproduce errors and warnings. - If 'R CMD check' started to fail recently on the Linux builder(s) over a missing dependency, add the missing dependency to 'Suggests:' in your DESCRIPTION file. See Renviron.bioc for more information. - See Martin Grigorov's blog post for how to debug Linux ARM64 related issues on a x86_64 host. |
| Package: YAPSA |
| Version: 1.32.0 |
| Command: /home/biocbuild/R/R/bin/R CMD check --install=check:YAPSA.install-out.txt --library=/home/biocbuild/R/R/site-library --no-vignettes --timings YAPSA_1.32.0.tar.gz |
| StartedAt: 2025-04-01 11:49:35 -0000 (Tue, 01 Apr 2025) |
| EndedAt: 2025-04-01 11:59:26 -0000 (Tue, 01 Apr 2025) |
| EllapsedTime: 591.1 seconds |
| RetCode: 0 |
| Status: OK |
| CheckDir: YAPSA.Rcheck |
| Warnings: 0 |
##############################################################################
##############################################################################
###
### Running command:
###
### /home/biocbuild/R/R/bin/R CMD check --install=check:YAPSA.install-out.txt --library=/home/biocbuild/R/R/site-library --no-vignettes --timings YAPSA_1.32.0.tar.gz
###
##############################################################################
##############################################################################
* using log directory ‘/home/biocbuild/bbs-3.20-bioc/meat/YAPSA.Rcheck’
* using R version 4.4.3 (2025-02-28)
* using platform: aarch64-unknown-linux-gnu
* R was compiled by
aarch64-unknown-linux-gnu-gcc (GCC) 14.2.0
GNU Fortran (GCC) 14.2.0
* running under: openEuler 24.03 (LTS)
* using session charset: UTF-8
* using option ‘--no-vignettes’
* checking for file ‘YAPSA/DESCRIPTION’ ... OK
* checking extension type ... Package
* this is package ‘YAPSA’ version ‘1.32.0’
* package encoding: UTF-8
* checking package namespace information ... OK
* checking package dependencies ... OK
* checking if this is a source package ... OK
* checking if there is a namespace ... OK
* checking for hidden files and directories ... OK
* checking for portable file names ... OK
* checking for sufficient/correct file permissions ... OK
* checking whether package ‘YAPSA’ can be installed ... OK
* checking installed package size ... OK
* checking package directory ... OK
* checking ‘build’ directory ... OK
* checking DESCRIPTION meta-information ... OK
* checking top-level files ... OK
* checking for left-over files ... OK
* checking index information ... OK
* checking package subdirectories ... OK
* checking code files for non-ASCII characters ... OK
* checking R files for syntax errors ... OK
* checking whether the package can be loaded ... OK
* checking whether the package can be loaded with stated dependencies ... OK
* checking whether the package can be unloaded cleanly ... OK
* checking whether the namespace can be loaded with stated dependencies ... OK
* checking whether the namespace can be unloaded cleanly ... OK
* checking loading without being on the library search path ... OK
* checking dependencies in R code ... OK
* checking S3 generic/method consistency ... OK
* checking replacement functions ... OK
* checking foreign function calls ... OK
* checking R code for possible problems ... OK
* checking Rd files ... OK
* checking Rd metadata ... OK
* checking Rd cross-references ... OK
* checking for missing documentation entries ... OK
* checking for code/documentation mismatches ... OK
* checking Rd \usage sections ... OK
* checking Rd contents ... OK
* checking for unstated dependencies in examples ... OK
* checking contents of ‘data’ directory ... OK
* checking data for non-ASCII characters ... OK
* checking data for ASCII and uncompressed saves ... OK
* checking files in ‘vignettes’ ... OK
* checking examples ... OK
Examples with CPU (user + system) or elapsed time > 5s
user system elapsed
confidence_indel_only_calulation 30.461 0.503 31.023
create_indel_mutation_catalogue_from_df 18.699 0.450 19.194
build_gene_list_for_pathway 7.346 0.636 17.619
run_SMC 6.132 0.176 6.322
* checking for unstated dependencies in ‘tests’ ... OK
* checking tests ...
Running ‘testthat.R’
OK
* checking for unstated dependencies in vignettes ... OK
* checking package vignettes ... OK
* checking running R code from vignettes ... SKIPPED
* checking re-building of vignette outputs ... SKIPPED
* checking PDF version of manual ... OK
* DONE
Status: OK
YAPSA.Rcheck/00install.out
############################################################################## ############################################################################## ### ### Running command: ### ### /home/biocbuild/R/R/bin/R CMD INSTALL YAPSA ### ############################################################################## ############################################################################## * installing to library ‘/home/biocbuild/R/R-4.4.3/site-library’ * installing *source* package ‘YAPSA’ ... ** using staged installation ** R ** data ** inst ** byte-compile and prepare package for lazy loading Found more than one class "atomicVector" in cache; using the first, from namespace 'Matrix' Also defined by 'Rmpfr' Found more than one class "atomicVector" in cache; using the first, from namespace 'Matrix' Also defined by 'Rmpfr' Found more than one class "atomicVector" in cache; using the first, from namespace 'Matrix' Also defined by 'Rmpfr' Found more than one class "atomicVector" in cache; using the first, from namespace 'Matrix' Also defined by 'Rmpfr' Found more than one class "atomicVector" in cache; using the first, from namespace 'Matrix' Also defined by 'Rmpfr' Found more than one class "atomicVector" in cache; using the first, from namespace 'Matrix' Also defined by 'Rmpfr' Found more than one class "atomicVector" in cache; using the first, from namespace 'Matrix' Also defined by 'Rmpfr' Found more than one class "atomicVector" in cache; using the first, from namespace 'Matrix' Also defined by 'Rmpfr' ** help *** installing help indices ** building package indices ** installing vignettes ** testing if installed package can be loaded from temporary location Found more than one class "atomicVector" in cache; using the first, from namespace 'Matrix' Also defined by 'Rmpfr' Found more than one class "atomicVector" in cache; using the first, from namespace 'Matrix' Also defined by 'Rmpfr' Found more than one class "atomicVector" in cache; using the first, from namespace 'Matrix' Also defined by 'Rmpfr' Found more than one class "atomicVector" in cache; using the first, from namespace 'Matrix' Also defined by 'Rmpfr' Found more than one class "atomicVector" in cache; using the first, from namespace 'Matrix' Also defined by 'Rmpfr' Found more than one class "atomicVector" in cache; using the first, from namespace 'Matrix' Also defined by 'Rmpfr' Found more than one class "atomicVector" in cache; using the first, from namespace 'Matrix' Also defined by 'Rmpfr' Found more than one class "atomicVector" in cache; using the first, from namespace 'Matrix' Also defined by 'Rmpfr' ** testing if installed package can be loaded from final location Found more than one class "atomicVector" in cache; using the first, from namespace 'Matrix' Also defined by 'Rmpfr' Found more than one class "atomicVector" in cache; using the first, from namespace 'Matrix' Also defined by 'Rmpfr' Found more than one class "atomicVector" in cache; using the first, from namespace 'Matrix' Also defined by 'Rmpfr' Found more than one class "atomicVector" in cache; using the first, from namespace 'Matrix' Also defined by 'Rmpfr' Found more than one class "atomicVector" in cache; using the first, from namespace 'Matrix' Also defined by 'Rmpfr' Found more than one class "atomicVector" in cache; using the first, from namespace 'Matrix' Also defined by 'Rmpfr' Found more than one class "atomicVector" in cache; using the first, from namespace 'Matrix' Also defined by 'Rmpfr' Found more than one class "atomicVector" in cache; using the first, from namespace 'Matrix' Also defined by 'Rmpfr' ** testing if installed package keeps a record of temporary installation path * DONE (YAPSA)
YAPSA.Rcheck/tests/testthat.Rout
R version 4.4.3 (2025-02-28) -- "Trophy Case"
Copyright (C) 2025 The R Foundation for Statistical Computing
Platform: aarch64-unknown-linux-gnu
R is free software and comes with ABSOLUTELY NO WARRANTY.
You are welcome to redistribute it under certain conditions.
Type 'license()' or 'licence()' for distribution details.
R is a collaborative project with many contributors.
Type 'contributors()' for more information and
'citation()' on how to cite R or R packages in publications.
Type 'demo()' for some demos, 'help()' for on-line help, or
'help.start()' for an HTML browser interface to help.
Type 'q()' to quit R.
> Sys.setenv(R_TESTS=" ")
> library(testthat)
> library(YAPSA)
Loading required package: GenomicRanges
Loading required package: stats4
Loading required package: BiocGenerics
Attaching package: 'BiocGenerics'
The following objects are masked from 'package:stats':
IQR, mad, sd, var, xtabs
The following objects are masked from 'package:base':
Filter, Find, Map, Position, Reduce, anyDuplicated, aperm, append,
as.data.frame, basename, cbind, colnames, dirname, do.call,
duplicated, eval, evalq, get, grep, grepl, intersect, is.unsorted,
lapply, mapply, match, mget, order, paste, pmax, pmax.int, pmin,
pmin.int, rank, rbind, rownames, sapply, saveRDS, setdiff, table,
tapply, union, unique, unsplit, which.max, which.min
Loading required package: S4Vectors
Attaching package: 'S4Vectors'
The following object is masked from 'package:utils':
findMatches
The following objects are masked from 'package:base':
I, expand.grid, unname
Loading required package: IRanges
Loading required package: GenomeInfoDb
Loading required package: ggplot2
Loading required package: grid
Found more than one class "atomicVector" in cache; using the first, from namespace 'Matrix'
Also defined by 'Rmpfr'
Found more than one class "atomicVector" in cache; using the first, from namespace 'Matrix'
Also defined by 'Rmpfr'
Found more than one class "atomicVector" in cache; using the first, from namespace 'Matrix'
Also defined by 'Rmpfr'
Found more than one class "atomicVector" in cache; using the first, from namespace 'Matrix'
Also defined by 'Rmpfr'
Found more than one class "atomicVector" in cache; using the first, from namespace 'Matrix'
Also defined by 'Rmpfr'
Found more than one class "atomicVector" in cache; using the first, from namespace 'Matrix'
Also defined by 'Rmpfr'
Found more than one class "atomicVector" in cache; using the first, from namespace 'Matrix'
Also defined by 'Rmpfr'
Found more than one class "atomicVector" in cache; using the first, from namespace 'Matrix'
Also defined by 'Rmpfr'
>
> test_check("YAPSA")
YAPSA:::shapiro_if_possible::error: Non-numeric inputYAPSA:::makeVRangesFromDataFrame::warning:strand information missing, set to "+".
YAPSA:::makeVRangesFromDataFrame::in_PID.field found. Retrieving PID information.
YAPSA:::makeVRangesFromDataFrame::in_subgroup.field found. Retrieving subgroup information.
[ FAIL 0 | WARN 1 | SKIP 0 | PASS 62 ]
[ FAIL 0 | WARN 1 | SKIP 0 | PASS 62 ]
>
> proc.time()
user system elapsed
22.528 1.468 24.025
YAPSA.Rcheck/YAPSA-Ex.timings
| name | user | system | elapsed | |
| GenomeOfNl_raw | 0.010 | 0.000 | 0.009 | |
| LCD | 0.010 | 0.000 | 0.011 | |
| LCD_complex_cutoff | 0 | 0 | 0 | |
| MutCat_indel_df | 0.004 | 0.000 | 0.004 | |
| SMC | 0.000 | 0.000 | 0.001 | |
| SMC_perPID | 0 | 0 | 0 | |
| add_annotation | 0 | 0 | 0 | |
| add_as_fist_to_list | 0 | 0 | 0 | |
| aggregate_exposures_by_category | 0 | 0 | 0 | |
| annotate_intermut_dist_PID | 0.023 | 0.000 | 0.023 | |
| annotate_intermut_dist_cohort | 0.029 | 0.000 | 0.028 | |
| annotation_exposures_barplot | 0 | 0 | 0 | |
| annotation_exposures_list_barplot | 0 | 0 | 0 | |
| annotation_heatmap_exposures | 0 | 0 | 0 | |
| attribute_nucleotide_exchanges | 0.001 | 0.002 | 0.003 | |
| attribute_sequence_contex_indel | 0.727 | 0.050 | 0.778 | |
| attribution_of_indels | 0.814 | 0.032 | 0.846 | |
| build_gene_list_for_pathway | 7.346 | 0.636 | 17.619 | |
| classify_indels | 0 | 0 | 0 | |
| compare_SMCs | 0 | 0 | 0 | |
| compare_exposures | 0 | 0 | 0 | |
| compare_expousre_sets | 0.006 | 0.000 | 0.005 | |
| compare_sets | 0.005 | 0.000 | 0.004 | |
| compare_to_catalogues | 0 | 0 | 0 | |
| complex_heatmap_exposures | 1.310 | 0.155 | 1.469 | |
| computeLogLik | 0 | 0 | 0 | |
| compute_comparison_stat_df | 0 | 0 | 0 | |
| confIntExp | 1.851 | 0.212 | 2.066 | |
| confidence_indel_calulation | 0.001 | 0.000 | 0.001 | |
| confidence_indel_only_calulation | 30.461 | 0.503 | 31.023 | |
| correct_rounded | 0 | 0 | 0 | |
| cosineDist | 0 | 0 | 0 | |
| cosineMatchDist | 0.002 | 0.000 | 0.002 | |
| create_indel_mut_cat_from_df | 0.637 | 0.004 | 0.642 | |
| create_indel_mutation_catalogue_from_df | 18.699 | 0.450 | 19.194 | |
| create_mutation_catalogue_from_VR | 1.674 | 0.100 | 1.779 | |
| create_mutation_catalogue_from_df | 1.292 | 0.080 | 1.374 | |
| cut_breaks_as_intervals | 0.174 | 0.000 | 0.175 | |
| deriveSigInd_df | 0 | 0 | 0 | |
| disambiguateVector | 0 | 0 | 0 | |
| enrichSigs | 0 | 0 | 0 | |
| exampleYAPSA | 0.073 | 0.004 | 0.077 | |
| exome_mutCatRaw_df | 0.013 | 0.000 | 0.013 | |
| exposures_barplot | 4.034 | 0.019 | 4.064 | |
| extract_names_from_gene_list | 0 | 0 | 0 | |
| find_affected_PIDs | 0 | 0 | 0 | |
| getSequenceContext | 0.205 | 0.000 | 0.206 | |
| get_extreme_PIDs | 0.011 | 0.000 | 0.010 | |
| hclust_exposures | 0.003 | 0.003 | 0.007 | |
| logLikelihood | 1.281 | 0.056 | 1.339 | |
| lymphomaNature2013_mutCat_df | 0.007 | 0.000 | 0.007 | |
| makeVRangesFromDataFrame | 0.15 | 0.00 | 0.15 | |
| make_catalogue_strata_df | 0.001 | 0.000 | 0.000 | |
| make_comparison_matrix | 0.112 | 0.004 | 0.116 | |
| make_strata_df | 0 | 0 | 0 | |
| make_subgroups_df | 0.033 | 0.004 | 0.037 | |
| melt_exposures | 0 | 0 | 0 | |
| merge_exposures | 0 | 0 | 0 | |
| normalizeMotifs_otherRownames | 0 | 0 | 0 | |
| normalize_df_per_dim | 0.011 | 0.000 | 0.010 | |
| plotExchangeSpectra | 0 | 0 | 0 | |
| plotExchangeSpectra_indel | 1.971 | 0.004 | 1.980 | |
| plotExposuresConfidence | 0 | 0 | 0 | |
| plotExposuresConfidence_indel | 0 | 0 | 0 | |
| plot_SMC | 0 | 0 | 0 | |
| plot_exposures | 0.766 | 0.000 | 0.767 | |
| plot_strata | 0 | 0 | 0 | |
| read_entry | 0 | 0 | 0 | |
| relateSigs | 0 | 0 | 0 | |
| repeat_df | 0.003 | 0.000 | 0.003 | |
| round_precision | 0 | 0 | 0 | |
| run_SMC | 6.132 | 0.176 | 6.322 | |
| run_annotate_vcf_pl | 0 | 0 | 0 | |
| run_comparison_catalogues | 0 | 0 | 0 | |
| run_comparison_general | 0 | 0 | 0 | |
| run_kmer_frequency_correction | 0 | 0 | 0 | |
| run_kmer_frequency_normalization | 0 | 0 | 0 | |
| run_plot_strata_general | 0 | 0 | 0 | |
| shapiro_if_possible | 0.001 | 0.000 | 0.002 | |
| split_exposures_by_subgroups | 0 | 0 | 0 | |
| stat_plot_subgroups | 0 | 0 | 0 | |
| stat_test_SMC | 0.001 | 0.000 | 0.000 | |
| stat_test_subgroups | 0 | 0 | 0 | |
| stderrmean | 0.000 | 0.000 | 0.001 | |
| sum_over_list_of_df | 0.003 | 0.000 | 0.003 | |
| testSigs | 0 | 0 | 0 | |
| test_exposureAffected | 0 | 0 | 0 | |
| test_gene_list_in_exposures | 0 | 0 | 0 | |
| transform_rownames_R_to_MATLAB | 0 | 0 | 0 | |
| translate_to_hg19 | 0.004 | 0.000 | 0.005 | |
| trellis_rainfall_plot | 2.394 | 0.028 | 2.429 | |
| variateExp | 3.562 | 0.048 | 3.617 | |
| variateExpSingle | 1.245 | 0.059 | 1.308 | |