| Back to Multiple platform build/check report for BioC 3.20: simplified long |
|
This page was generated on 2024-11-20 12:08 -0500 (Wed, 20 Nov 2024).
| Hostname | OS | Arch (*) | R version | Installed pkgs |
|---|---|---|---|---|
| teran2 | Linux (Ubuntu 24.04.1 LTS) | x86_64 | 4.4.2 (2024-10-31) -- "Pile of Leaves" | 4481 |
| nebbiolo2 | Linux (Ubuntu 24.04.1 LTS) | x86_64 | 4.4.2 (2024-10-31) -- "Pile of Leaves" | 4479 |
| palomino8 | Windows Server 2022 Datacenter | x64 | 4.4.2 (2024-10-31 ucrt) -- "Pile of Leaves" | 4359 |
| lconway | macOS 12.7.1 Monterey | x86_64 | 4.4.1 (2024-06-14) -- "Race for Your Life" | 4539 |
| kunpeng2 | Linux (openEuler 22.03 LTS-SP1) | aarch64 | 4.4.1 (2024-06-14) -- "Race for Your Life" | 4493 |
| Click on any hostname to see more info about the system (e.g. compilers) (*) as reported by 'uname -p', except on Windows and Mac OS X | ||||
| Package 2120/2289 | Hostname | OS / Arch | INSTALL | BUILD | CHECK | BUILD BIN | ||||||||
| TargetSearch 2.8.0 (landing page) Alvaro Cuadros-Inostroza
| teran2 | Linux (Ubuntu 24.04.1 LTS) / x86_64 | OK | OK | OK | |||||||||
| nebbiolo2 | Linux (Ubuntu 24.04.1 LTS) / x86_64 | OK | OK | OK | ||||||||||
| palomino8 | Windows Server 2022 Datacenter / x64 | OK | OK | OK | OK | |||||||||
| lconway | macOS 12.7.1 Monterey / x86_64 | OK | OK | OK | OK | |||||||||
| kunpeng2 | Linux (openEuler 22.03 LTS-SP1) / aarch64 | OK | OK | OK | ||||||||||
|
To the developers/maintainers of the TargetSearch package: - Allow up to 24 hours (and sometimes 48 hours) for your latest push to git@git.bioconductor.org:packages/TargetSearch.git to reflect on this report. See Troubleshooting Build Report for more information. - Use the following Renviron settings to reproduce errors and warnings. - If 'R CMD check' started to fail recently on the Linux builder(s) over a missing dependency, add the missing dependency to 'Suggests:' in your DESCRIPTION file. See Renviron.bioc for more information. - See Martin Grigorov's blog post for how to debug Linux ARM64 related issues on a x86_64 host. |
| Package: TargetSearch |
| Version: 2.8.0 |
| Command: /home/biocbuild/R/R/bin/R CMD check --install=check:TargetSearch.install-out.txt --library=/home/biocbuild/R/R/site-library --no-vignettes --timings TargetSearch_2.8.0.tar.gz |
| StartedAt: 2024-11-20 13:10:11 -0000 (Wed, 20 Nov 2024) |
| EndedAt: 2024-11-20 13:11:30 -0000 (Wed, 20 Nov 2024) |
| EllapsedTime: 79.2 seconds |
| RetCode: 0 |
| Status: OK |
| CheckDir: TargetSearch.Rcheck |
| Warnings: 0 |
##############################################################################
##############################################################################
###
### Running command:
###
### /home/biocbuild/R/R/bin/R CMD check --install=check:TargetSearch.install-out.txt --library=/home/biocbuild/R/R/site-library --no-vignettes --timings TargetSearch_2.8.0.tar.gz
###
##############################################################################
##############################################################################
* using log directory ‘/home/biocbuild/bbs-3.20-bioc/meat/TargetSearch.Rcheck’
* using R version 4.4.1 (2024-06-14)
* using platform: aarch64-unknown-linux-gnu
* R was compiled by
gcc (GCC) 12.2.1 20220819 (openEuler 12.2.1-14)
GNU Fortran (GCC) 10.3.1
* running under: openEuler 22.03 (LTS-SP1)
* using session charset: UTF-8
* using option ‘--no-vignettes’
* checking for file ‘TargetSearch/DESCRIPTION’ ... OK
* checking extension type ... Package
* this is package ‘TargetSearch’ version ‘2.8.0’
* checking package namespace information ... OK
* checking package dependencies ... OK
* checking if this is a source package ... OK
* checking if there is a namespace ... OK
* checking for hidden files and directories ... OK
* checking for portable file names ... OK
* checking for sufficient/correct file permissions ... OK
* checking whether package ‘TargetSearch’ can be installed ... OK
* used C compiler: ‘gcc (conda-forge gcc 14.2.0-1) 14.2.0’
* checking installed package size ... OK
* checking package directory ... OK
* checking ‘build’ directory ... OK
* checking DESCRIPTION meta-information ... OK
* checking top-level files ... OK
* checking for left-over files ... OK
* checking index information ... OK
* checking package subdirectories ... OK
* checking code files for non-ASCII characters ... OK
* checking R files for syntax errors ... OK
* checking whether the package can be loaded ... OK
* checking whether the package can be loaded with stated dependencies ... OK
* checking whether the package can be unloaded cleanly ... OK
* checking whether the namespace can be loaded with stated dependencies ... OK
* checking whether the namespace can be unloaded cleanly ... OK
* checking loading without being on the library search path ... OK
* checking dependencies in R code ... OK
* checking S3 generic/method consistency ... OK
* checking replacement functions ... OK
* checking foreign function calls ... OK
* checking R code for possible problems ... OK
* checking Rd files ... OK
* checking Rd metadata ... OK
* checking Rd cross-references ... OK
* checking for missing documentation entries ... OK
* checking for code/documentation mismatches ... OK
* checking Rd \usage sections ... OK
* checking Rd contents ... OK
* checking for unstated dependencies in examples ... OK
* checking contents of ‘data’ directory ... OK
* checking data for non-ASCII characters ... OK
* checking data for ASCII and uncompressed saves ... OK
* checking line endings in C/C++/Fortran sources/headers ... OK
* checking compiled code ... NOTE
Note: information on .o files is not available
* checking installed files from ‘inst/doc’ ... OK
* checking files in ‘vignettes’ ... OK
* checking examples ... OK
Examples with CPU (user + system) or elapsed time > 5s
user system elapsed
RIcorrect 10.697 0.415 11.305
* checking for unstated dependencies in ‘tests’ ... OK
* checking tests ...
Running ‘tinytest.R’
OK
* checking for unstated dependencies in vignettes ... OK
* checking package vignettes ... OK
* checking running R code from vignettes ... SKIPPED
* checking re-building of vignette outputs ... SKIPPED
* checking PDF version of manual ... OK
* DONE
Status: 1 NOTE
See
‘/home/biocbuild/bbs-3.20-bioc/meat/TargetSearch.Rcheck/00check.log’
for details.
TargetSearch.Rcheck/00install.out
############################################################################## ############################################################################## ### ### Running command: ### ### /home/biocbuild/R/R/bin/R CMD INSTALL TargetSearch ### ############################################################################## ############################################################################## * installing to library ‘/home/biocbuild/R/R-4.4.1/site-library’ * installing *source* package ‘TargetSearch’ ... ** using staged installation ** libs using C compiler: ‘gcc (conda-forge gcc 14.2.0-1) 14.2.0’ gcc -I"/home/biocbuild/R/R-4.4.1/include" -DNDEBUG -I/usr/local/include -fPIC -g -O2 -Wall -c Rinit.c -o Rinit.o gcc -I"/home/biocbuild/R/R-4.4.1/include" -DNDEBUG -I/usr/local/include -fPIC -g -O2 -Wall -c baseline.c -o baseline.o gcc -I"/home/biocbuild/R/R-4.4.1/include" -DNDEBUG -I/usr/local/include -fPIC -g -O2 -Wall -c detection.c -o detection.o gcc -I"/home/biocbuild/R/R-4.4.1/include" -DNDEBUG -I/usr/local/include -fPIC -g -O2 -Wall -c file.c -o file.o gcc -I"/home/biocbuild/R/R-4.4.1/include" -DNDEBUG -I/usr/local/include -fPIC -g -O2 -Wall -c find.c -o find.o gcc -I"/home/biocbuild/R/R-4.4.1/include" -DNDEBUG -I/usr/local/include -fPIC -g -O2 -Wall -c get_line.c -o get_line.o gcc -I"/home/biocbuild/R/R-4.4.1/include" -DNDEBUG -I/usr/local/include -fPIC -g -O2 -Wall -c hpf.c -o hpf.o gcc -I"/home/biocbuild/R/R-4.4.1/include" -DNDEBUG -I/usr/local/include -fPIC -g -O2 -Wall -c matrix.c -o matrix.o gcc -I"/home/biocbuild/R/R-4.4.1/include" -DNDEBUG -I/usr/local/include -fPIC -g -O2 -Wall -c ncdf.c -o ncdf.o gcc -I"/home/biocbuild/R/R-4.4.1/include" -DNDEBUG -I/usr/local/include -fPIC -g -O2 -Wall -c peak.c -o peak.o gcc -I"/home/biocbuild/R/R-4.4.1/include" -DNDEBUG -I/usr/local/include -fPIC -g -O2 -Wall -c spectrum.c -o spectrum.o gcc -I"/home/biocbuild/R/R-4.4.1/include" -DNDEBUG -I/usr/local/include -fPIC -g -O2 -Wall -c strutils.c -o strutils.o gcc -I"/home/biocbuild/R/R-4.4.1/include" -DNDEBUG -I/usr/local/include -fPIC -g -O2 -Wall -c utils.c -o utils.o gcc -shared -L/home/biocbuild/R/R-4.4.1/lib -L/usr/local/lib -o TargetSearch.so Rinit.o baseline.o detection.o file.o find.o get_line.o hpf.o matrix.o ncdf.o peak.o spectrum.o strutils.o utils.o -L/home/biocbuild/R/R-4.4.1/lib -lR installing to /home/biocbuild/R/R-4.4.1/site-library/00LOCK-TargetSearch/00new/TargetSearch/libs ** R ** data ** inst ** byte-compile and prepare package for lazy loading ** help *** installing help indices ** building package indices ** installing vignettes ** testing if installed package can be loaded from temporary location ** checking absolute paths in shared objects and dynamic libraries ** testing if installed package can be loaded from final location ** testing if installed package keeps a record of temporary installation path * DONE (TargetSearch)
TargetSearch.Rcheck/tests/tinytest.Rout
R version 4.4.1 (2024-06-14) -- "Race for Your Life"
Copyright (C) 2024 The R Foundation for Statistical Computing
Platform: aarch64-unknown-linux-gnu
R is free software and comes with ABSOLUTELY NO WARRANTY.
You are welcome to redistribute it under certain conditions.
Type 'license()' or 'licence()' for distribution details.
R is a collaborative project with many contributors.
Type 'contributors()' for more information and
'citation()' on how to cite R or R packages in publications.
Type 'demo()' for some demos, 'help()' for on-line help, or
'help.start()' for an HTML browser interface to help.
Type 'q()' to quit R.
> if ( requireNamespace("tinytest", quietly=TRUE) && requireNamespace("TargetSearchData", quietly=TRUE)) {
+ tinytest::test_package("TargetSearch", color=FALSE, verbose=1)
+ }
Loading required package: TargetSearchData
test_FindAllPeaks.R........... 19 tests OK 1.3s
FAMEs were saved in /home/biocbuild/tmp/RtmpZXxCjw/file23c76c10bc9336.pdf
FAMEs were saved in /home/biocbuild/tmp/RtmpZXxCjw/file23c76c10bc9336.pdf
FAMEs were saved in /home/biocbuild/tmp/RtmpZXxCjw/file23c76c10bc9336.pdf
FAMEs were saved in /home/biocbuild/tmp/RtmpZXxCjw/file23c76c10bc9336.pdf
test_fameoutliers.R........... 5 tests OK 75ms
test_file.R................... 4 tests OK 75ms
test_import_fame.R............ 14 tests OK 19ms
test_import_library.R......... 15 tests OK 0.2s
test_ncdf4_plot_peak.R........ 7 tests OK 0.5s
test_quantMatrix.R............ 8 tests OK 50ms
test_ri_data_extract.R........ 6 tests OK 5.2s
test_ri_plot_peak.R........... 22 tests OK 0.2s
test_tsLib.R.................. 24 tests OK 0.1s
test_tsProfile.R.............. 12 tests OK 19ms
test_tsRim.R.................. 9 tests OK 6ms
test_tsSample.R............... 19 tests OK 66ms
test_write_ri_file.R.......... 6 tests OK 12ms
All ok, 170 results (7.8s)
>
> proc.time()
user system elapsed
8.060 0.195 8.180
TargetSearch.Rcheck/TargetSearch-Ex.timings
| name | user | system | elapsed | |
| FAMEoutliers | 0.083 | 0.000 | 0.082 | |
| FindAllPeaks | 0.892 | 0.020 | 0.929 | |
| FindPeaks | 0.156 | 0.004 | 0.160 | |
| ImportFameSettings | 0.006 | 0.004 | 0.011 | |
| ImportLibrary | 0.024 | 0.000 | 0.025 | |
| ImportSamples | 0.013 | 0.000 | 0.013 | |
| NetCDFPeakFinding | 0.130 | 0.020 | 0.161 | |
| Profile | 0.750 | 0.012 | 0.764 | |
| ProfileCleanUp | 0.605 | 0.024 | 0.629 | |
| RIcorrect | 10.697 | 0.415 | 11.305 | |
| TSExample | 2.322 | 0.040 | 2.367 | |
| Write.Results | 0.063 | 0.004 | 0.067 | |
| baseline | 0.243 | 0.004 | 0.247 | |
| baselineCorrection | 0.257 | 0.012 | 0.269 | |
| baselineCorrectionQuant | 0.315 | 0.005 | 0.322 | |
| checkRimLim | 0.718 | 0.030 | 0.748 | |
| file | 0.069 | 0.000 | 0.070 | |
| fixRI | 0.781 | 0.048 | 0.830 | |
| medianRILib | 0.328 | 0.011 | 0.340 | |
| ncdf4Convert-method | 0.092 | 0.008 | 0.100 | |
| ncdf4_convert | 0.028 | 0.000 | 0.029 | |
| ncdf4_convert_from_path | 1.612 | 0.123 | 1.739 | |
| ncdf4_data_extract | 0.348 | 0.004 | 0.352 | |
| ncdf4_plot_peak | 0.984 | 0.032 | 1.018 | |
| ncdf4_update_ri | 0.229 | 0.000 | 0.230 | |
| peakCDFextraction | 0.357 | 0.016 | 0.374 | |
| peakFind | 0.180 | 0.000 | 0.228 | |
| plotFAME | 0.004 | 0.004 | 0.008 | |
| plotPeak | 0.144 | 0.004 | 0.149 | |
| plotPeakRI | 0.659 | 0.000 | 0.660 | |
| plotPeakSimple | 0.249 | 0.012 | 0.262 | |
| plotRIdev | 0.365 | 0.012 | 0.377 | |
| plotRefSpectra | 0.126 | 0.000 | 0.125 | |
| plotSpectra | 0.183 | 0.004 | 0.188 | |
| quantMatrix | 0.620 | 0.008 | 0.630 | |
| ri2rt | 0.001 | 0.004 | 0.005 | |
| riMatrix | 0.692 | 0.024 | 0.718 | |
| ri_data_extract | 0.037 | 0.004 | 0.041 | |
| ri_plot_peak | 0.957 | 0.028 | 0.987 | |
| rt2ri | 0.005 | 0.000 | 0.005 | |
| sampleRI | 0.369 | 0.004 | 0.374 | |
| tsLib-class | 0.024 | 0.000 | 0.025 | |
| tsMSdata-class | 0.01 | 0.00 | 0.01 | |
| tsProfile-class | 0.005 | 0.003 | 0.009 | |
| tsRim-class | 0.003 | 0.000 | 0.002 | |
| tsSample-class | 0.022 | 0.004 | 0.026 | |
| tsUpdate-method | 0.001 | 0.000 | 0.000 | |
| updateRI | 1.200 | 0.024 | 1.226 | |
| writeLibText | 0.020 | 0.004 | 0.023 | |
| writeMSP | 0.02 | 0.00 | 0.02 | |