| Back to Multiple platform build/check report for BioC 3.20: simplified long |
|
This page was generated on 2025-04-02 19:29 -0400 (Wed, 02 Apr 2025).
| Hostname | OS | Arch (*) | R version | Installed pkgs |
|---|---|---|---|---|
| nebbiolo2 | Linux (Ubuntu 24.04.1 LTS) | x86_64 | 4.4.3 (2025-02-28) -- "Trophy Case" | 4764 |
| palomino8 | Windows Server 2022 Datacenter | x64 | 4.4.3 (2025-02-28 ucrt) -- "Trophy Case" | 4495 |
| merida1 | macOS 12.7.5 Monterey | x86_64 | 4.4.3 (2025-02-28) -- "Trophy Case" | 4522 |
| kjohnson1 | macOS 13.6.6 Ventura | arm64 | 4.4.3 (2025-02-28) -- "Trophy Case" | 4449 |
| taishan | Linux (openEuler 24.03 LTS) | aarch64 | 4.4.3 (2025-02-28) -- "Trophy Case" | 4426 |
| Click on any hostname to see more info about the system (e.g. compilers) (*) as reported by 'uname -p', except on Windows and Mac OS X | ||||
| Package 2165/2289 | Hostname | OS / Arch | INSTALL | BUILD | CHECK | BUILD BIN | ||||||||
| TOP 1.6.0 (landing page) Harry Robertson
| nebbiolo2 | Linux (Ubuntu 24.04.1 LTS) / x86_64 | OK | OK | OK | |||||||||
| palomino8 | Windows Server 2022 Datacenter / x64 | OK | OK | OK | OK | |||||||||
| merida1 | macOS 12.7.5 Monterey / x86_64 | OK | OK | OK | OK | |||||||||
| kjohnson1 | macOS 13.6.6 Ventura / arm64 | OK | OK | OK | OK | |||||||||
| taishan | Linux (openEuler 24.03 LTS) / aarch64 | OK | OK | OK | ||||||||||
|
To the developers/maintainers of the TOP package: - Allow up to 24 hours (and sometimes 48 hours) for your latest push to git@git.bioconductor.org:packages/TOP.git to reflect on this report. See Troubleshooting Build Report for more information. - Use the following Renviron settings to reproduce errors and warnings. - If 'R CMD check' started to fail recently on the Linux builder(s) over a missing dependency, add the missing dependency to 'Suggests:' in your DESCRIPTION file. See Renviron.bioc for more information. |
| Package: TOP |
| Version: 1.6.0 |
| Command: /home/biocbuild/bbs-3.20-bioc/R/bin/R CMD check --install=check:TOP.install-out.txt --library=/home/biocbuild/bbs-3.20-bioc/R/site-library --timings TOP_1.6.0.tar.gz |
| StartedAt: 2025-04-01 03:00:30 -0400 (Tue, 01 Apr 2025) |
| EndedAt: 2025-04-01 03:04:30 -0400 (Tue, 01 Apr 2025) |
| EllapsedTime: 240.2 seconds |
| RetCode: 0 |
| Status: OK |
| CheckDir: TOP.Rcheck |
| Warnings: 0 |
##############################################################################
##############################################################################
###
### Running command:
###
### /home/biocbuild/bbs-3.20-bioc/R/bin/R CMD check --install=check:TOP.install-out.txt --library=/home/biocbuild/bbs-3.20-bioc/R/site-library --timings TOP_1.6.0.tar.gz
###
##############################################################################
##############################################################################
* using log directory ‘/home/biocbuild/bbs-3.20-bioc/meat/TOP.Rcheck’
* using R version 4.4.3 (2025-02-28)
* using platform: x86_64-pc-linux-gnu
* R was compiled by
gcc (Ubuntu 13.3.0-6ubuntu2~24.04) 13.3.0
GNU Fortran (Ubuntu 13.3.0-6ubuntu2~24.04) 13.3.0
* running under: Ubuntu 24.04.2 LTS
* using session charset: UTF-8
* checking for file ‘TOP/DESCRIPTION’ ... OK
* this is package ‘TOP’ version ‘1.6.0’
* package encoding: UTF-8
* checking package namespace information ... OK
* checking package dependencies ... OK
* checking if this is a source package ... OK
* checking if there is a namespace ... OK
* checking for hidden files and directories ... OK
* checking for portable file names ... OK
* checking for sufficient/correct file permissions ... OK
* checking whether package ‘TOP’ can be installed ... OK
* checking installed package size ... OK
* checking package directory ... OK
* checking ‘build’ directory ... OK
* checking DESCRIPTION meta-information ... OK
* checking top-level files ... OK
* checking for left-over files ... OK
* checking index information ... OK
* checking package subdirectories ... OK
* checking code files for non-ASCII characters ... OK
* checking R files for syntax errors ... OK
* checking whether the package can be loaded ... OK
* checking whether the package can be loaded with stated dependencies ... OK
* checking whether the package can be unloaded cleanly ... OK
* checking whether the namespace can be loaded with stated dependencies ... OK
* checking whether the namespace can be unloaded cleanly ... OK
* checking loading without being on the library search path ... OK
* checking dependencies in R code ... OK
* checking S3 generic/method consistency ... OK
* checking replacement functions ... OK
* checking foreign function calls ... OK
* checking R code for possible problems ... NOTE
Surv_TOP_CI: no visible binding for global variable ‘offset’
TOP_coefPlot: no visible binding for global variable ‘lambda.min’
TOP_coefPlot: no visible binding for global variable ‘Features’
TOP_lambdaPlot: no visible binding for global variable ‘variable’
TOP_lambdaPlot: no visible binding for global variable ‘value’
TOP_lambdaPlot: no visible binding for global variable ‘Feature’
TOP_model: no visible binding for global variable ‘value’
TOP_model: no visible binding for global variable ‘SampleGroup’
TOP_model: no visible binding for global variable ‘n’
TOP_model: no visible binding for global variable ‘freq’
TOP_model: no visible binding for global variable ‘sd’
TOP_survival: no visible binding for global variable ‘coef’
TOP_survival: no visible binding for global variable ‘value’
TOP_survival: no visible binding for global variable ‘freq’
TOP_survival: no visible binding for global variable ‘sd’
TOP_survival: no visible binding for global variable ‘.’
TOP_survival: no visible binding for global variable ‘SampleGroup’
TOP_survival: no visible binding for global variable ‘n’
TOP_survivalPrediction: no visible binding for global variable ‘offset’
coefNetworkPlot: no visible binding for global variable ‘Features’
coefNetworkPlot: no visible binding for global variable ‘lambda.min’
coefNetworkPlot: no visible binding for global variable ‘score’
colCoxTests_combine: no visible binding for global variable ‘coef’
extractAUC: no visible binding for global variable ‘variable’
extractAUC: no visible binding for global variable ‘value’
simplenetworkPlot: no visible binding for global variable ‘Features’
simplenetworkPlot: no visible binding for global variable ‘lambda.min’
simplenetworkPlot: no visible binding for global variable ‘coef_abs’
simplenetworkPlot: no visible binding for global variable ‘from’
simplenetworkPlot: no visible binding for global variable ‘to’
simplenetworkPlot: no visible binding for global variable ‘name’
Undefined global functions or variables:
. Feature Features SampleGroup coef coef_abs freq from lambda.min n
name offset score sd to value variable
Consider adding
importFrom("stats", "coef", "offset", "sd")
to your NAMESPACE file.
* checking Rd files ... OK
* checking Rd metadata ... OK
* checking Rd cross-references ... OK
* checking for missing documentation entries ... OK
* checking for code/documentation mismatches ... OK
* checking Rd \usage sections ... OK
* checking Rd contents ... OK
* checking for unstated dependencies in examples ... OK
* checking contents of ‘data’ directory ... OK
* checking data for non-ASCII characters ... OK
* checking data for ASCII and uncompressed saves ... OK
* checking files in ‘vignettes’ ... OK
* checking examples ... OK
* checking for unstated dependencies in vignettes ... OK
* checking package vignettes ... OK
* checking re-building of vignette outputs ... OK
* checking PDF version of manual ... OK
* DONE
Status: 1 NOTE
See
‘/home/biocbuild/bbs-3.20-bioc/meat/TOP.Rcheck/00check.log’
for details.
TOP.Rcheck/00install.out
############################################################################## ############################################################################## ### ### Running command: ### ### /home/biocbuild/bbs-3.20-bioc/R/bin/R CMD INSTALL TOP ### ############################################################################## ############################################################################## * installing to library ‘/home/biocbuild/bbs-3.20-bioc/R/site-library’ * installing *source* package ‘TOP’ ... ** using staged installation ** R ** data ** byte-compile and prepare package for lazy loading ** help *** installing help indices ** building package indices ** installing vignettes ** testing if installed package can be loaded from temporary location ** testing if installed package can be loaded from final location ** testing if installed package keeps a record of temporary installation path * DONE (TOP)
TOP.Rcheck/TOP-Ex.timings
| name | user | system | elapsed | |
| ROC_Plot | 0.451 | 0.017 | 0.469 | |
| Surv_Frank_CI | 1.808 | 0.012 | 1.820 | |
| TOP_coefPlot | 0.393 | 0.046 | 0.439 | |
| TOP_lambdaPlot | 0.582 | 0.021 | 0.604 | |
| TOP_model | 0.119 | 0.001 | 0.118 | |
| TOP_survival | 0.949 | 0.000 | 0.950 | |
| TOP_survivalPrediction | 0.981 | 0.021 | 1.004 | |
| coefNetworkPlot | 0.607 | 0.005 | 0.612 | |
| filterFeatures | 0.041 | 0.000 | 0.041 | |
| logit-expit | 0.031 | 0.001 | 0.032 | |
| pairwise_col_diff | 0.001 | 0.001 | 0.001 | |
| performance_TOP | 0.828 | 0.068 | 0.898 | |
| predict_TOP | 0.121 | 0.001 | 0.122 | |
| simplenetworkPlot | 0.415 | 0.005 | 0.421 | |