Back to Multiple platform build/check report for BioC 3.20:   simplified   long
ABCDEFGHIJKLMNOPQR[S]TUVWXYZ

This page was generated on 2025-02-06 12:09 -0500 (Thu, 06 Feb 2025).

HostnameOSArch (*)R versionInstalled pkgs
nebbiolo2Linux (Ubuntu 24.04.1 LTS)x86_644.4.2 (2024-10-31) -- "Pile of Leaves" 4753
palomino8Windows Server 2022 Datacenterx644.4.2 (2024-10-31 ucrt) -- "Pile of Leaves" 4501
merida1macOS 12.7.5 Montereyx86_644.4.2 (2024-10-31) -- "Pile of Leaves" 4524
kjohnson1macOS 13.6.6 Venturaarm644.4.2 (2024-10-31) -- "Pile of Leaves" 4476
taishanLinux (openEuler 24.03 LTS)aarch644.4.2 (2024-10-31) -- "Pile of Leaves" 4407
Click on any hostname to see more info about the system (e.g. compilers)      (*) as reported by 'uname -p', except on Windows and Mac OS X

Package 2106/2289HostnameOS / ArchINSTALLBUILDCHECKBUILD BIN
SynExtend 1.18.0  (landing page)
Nicholas Cooley
Snapshot Date: 2025-02-03 13:00 -0500 (Mon, 03 Feb 2025)
git_url: https://git.bioconductor.org/packages/SynExtend
git_branch: RELEASE_3_20
git_last_commit: 75461e3
git_last_commit_date: 2024-10-29 10:46:40 -0500 (Tue, 29 Oct 2024)
nebbiolo2Linux (Ubuntu 24.04.1 LTS) / x86_64  OK    OK    OK  UNNEEDED, same version is already published
palomino8Windows Server 2022 Datacenter / x64  OK    OK    OK    OK  UNNEEDED, same version is already published
merida1macOS 12.7.5 Monterey / x86_64  OK    OK    OK    NA  
kjohnson1macOS 13.6.6 Ventura / arm64  OK    OK    OK    OK  UNNEEDED, same version is already published
taishanLinux (openEuler 24.03 LTS) / aarch64  OK    OK    OK  


CHECK results for SynExtend on merida1

To the developers/maintainers of the SynExtend package:
- Allow up to 24 hours (and sometimes 48 hours) for your latest push to git@git.bioconductor.org:packages/SynExtend.git to reflect on this report. See Troubleshooting Build Report for more information.
- Use the following Renviron settings to reproduce errors and warnings.
- If 'R CMD check' started to fail recently on the Linux builder(s) over a missing dependency, add the missing dependency to 'Suggests:' in your DESCRIPTION file. See Renviron.bioc for more information.

raw results


Summary

Package: SynExtend
Version: 1.18.0
Command: /Library/Frameworks/R.framework/Resources/bin/R CMD check --install=check:SynExtend.install-out.txt --library=/Library/Frameworks/R.framework/Resources/library --no-vignettes --timings SynExtend_1.18.0.tar.gz
StartedAt: 2025-02-04 11:04:38 -0500 (Tue, 04 Feb 2025)
EndedAt: 2025-02-04 11:23:36 -0500 (Tue, 04 Feb 2025)
EllapsedTime: 1138.6 seconds
RetCode: 0
Status:   OK  
CheckDir: SynExtend.Rcheck
Warnings: 0

Command output

##############################################################################
##############################################################################
###
### Running command:
###
###   /Library/Frameworks/R.framework/Resources/bin/R CMD check --install=check:SynExtend.install-out.txt --library=/Library/Frameworks/R.framework/Resources/library --no-vignettes --timings SynExtend_1.18.0.tar.gz
###
##############################################################################
##############################################################################


* using log directory ‘/Users/biocbuild/bbs-3.20-bioc/meat/SynExtend.Rcheck’
* using R version 4.4.2 (2024-10-31)
* using platform: x86_64-apple-darwin20
* R was compiled by
    Apple clang version 14.0.0 (clang-1400.0.29.202)
    GNU Fortran (GCC) 12.2.0
* running under: macOS Monterey 12.7.6
* using session charset: UTF-8
* using option ‘--no-vignettes’
* checking for file ‘SynExtend/DESCRIPTION’ ... OK
* checking extension type ... Package
* this is package ‘SynExtend’ version ‘1.18.0’
* package encoding: UTF-8
* checking package namespace information ... OK
* checking package dependencies ... OK
* checking if this is a source package ... OK
* checking if there is a namespace ... OK
* checking for hidden files and directories ... OK
* checking for portable file names ... OK
* checking for sufficient/correct file permissions ... OK
* checking whether package ‘SynExtend’ can be installed ... OK
* used C compiler: ‘Apple clang version 14.0.0 (clang-1400.0.29.202)’
* used Fortran compiler: ‘GNU Fortran (GCC) 12.2.0’
* used SDK: ‘MacOSX11.3.sdk’
* checking installed package size ... OK
* checking package directory ... OK
* checking ‘build’ directory ... OK
* checking DESCRIPTION meta-information ... OK
* checking top-level files ... OK
* checking for left-over files ... OK
* checking index information ... OK
* checking package subdirectories ... OK
* checking code files for non-ASCII characters ... OK
* checking R files for syntax errors ... OK
* checking whether the package can be loaded ... OK
* checking whether the package can be loaded with stated dependencies ... OK
* checking whether the package can be unloaded cleanly ... OK
* checking whether the namespace can be loaded with stated dependencies ... OK
* checking whether the namespace can be unloaded cleanly ... OK
* checking dependencies in R code ... NOTE
Unexported object imported by a ':::' call: ‘DECIPHER:::.detectCores’
  See the note in ?`:::` about the use of this operator.
* checking S3 generic/method consistency ... OK
* checking replacement functions ... OK
* checking foreign function calls ... OK
* checking R code for possible problems ... OK
* checking Rd files ... OK
* checking Rd metadata ... OK
* checking Rd cross-references ... OK
* checking for missing documentation entries ... OK
* checking for code/documentation mismatches ... OK
* checking Rd \usage sections ... OK
* checking Rd contents ... OK
* checking for unstated dependencies in examples ... OK
* checking contents of ‘data’ directory ... OK
* checking data for non-ASCII characters ... OK
* checking data for ASCII and uncompressed saves ... OK
* checking line endings in C/C++/Fortran sources/headers ... OK
* checking line endings in Makefiles ... OK
* checking compilation flags in Makevars ... OK
* checking for GNU extensions in Makefiles ... OK
* checking for portable use of $(BLAS_LIBS) and $(LAPACK_LIBS) ... OK
* checking use of PKG_*FLAGS in Makefiles ... OK
* checking compiled code ... NOTE
Note: information on .o files is not available
* checking usage of KIND in Fortran files ... OK
* checking files in ‘vignettes’ ... OK
* checking examples ... OK
Examples with CPU (user + system) or elapsed time > 5s
                           user system elapsed
BuiltInEnsembles        225.185  4.858 234.552
BlockExpansion          185.001  2.117 190.542
ExampleStreptomycesData 154.888  3.200 160.899
SelectByK               110.835  1.278 113.564
ExpandDiagonal           60.107  1.612  62.328
SummarizePairs           33.341  0.582  35.190
predict.EvoWeaver        20.100  0.466  21.065
gffToDataFrame           17.099  0.057  18.088
PairSummaries             8.281  0.160   8.531
ClusterByK                5.617  0.034   5.806
* checking for unstated dependencies in vignettes ... OK
* checking package vignettes ... OK
* checking running R code from vignettes ... SKIPPED
* checking re-building of vignette outputs ... SKIPPED
* checking PDF version of manual ... OK
* DONE

Status: 2 NOTEs
See
  ‘/Users/biocbuild/bbs-3.20-bioc/meat/SynExtend.Rcheck/00check.log’
for details.


Installation output

SynExtend.Rcheck/00install.out

##############################################################################
##############################################################################
###
### Running command:
###
###   /Library/Frameworks/R.framework/Resources/bin/R CMD INSTALL SynExtend
###
##############################################################################
##############################################################################


* installing to library ‘/Library/Frameworks/R.framework/Versions/4.4-x86_64/Resources/library’
* installing *source* package ‘SynExtend’ ...
** using staged installation
** libs
using C compiler: ‘Apple clang version 14.0.0 (clang-1400.0.29.202)’
using Fortran compiler: ‘GNU Fortran (GCC) 12.2.0’
using SDK: ‘MacOSX11.3.sdk’
clang -arch x86_64 -I"/Library/Frameworks/R.framework/Resources/include" -DNDEBUG   -I/opt/R/x86_64/include    -fPIC  -falign-functions=64 -Wall -g -O2  -c CDend.c -o CDend.o
clang -arch x86_64 -I"/Library/Frameworks/R.framework/Resources/include" -DNDEBUG   -I/opt/R/x86_64/include    -fPIC  -falign-functions=64 -Wall -g -O2  -c CShuffle.c -o CShuffle.o
clang -arch x86_64 -I"/Library/Frameworks/R.framework/Resources/include" -DNDEBUG   -I/opt/R/x86_64/include    -fPIC  -falign-functions=64 -Wall -g -O2  -c HungarianAlgo.c -o HungarianAlgo.o
clang -arch x86_64 -I"/Library/Frameworks/R.framework/Resources/include" -DNDEBUG   -I/opt/R/x86_64/include    -fPIC  -falign-functions=64 -Wall -g -O2  -c MoranI.c -o MoranI.o
clang -arch x86_64 -I"/Library/Frameworks/R.framework/Resources/include" -DNDEBUG   -I/opt/R/x86_64/include    -fPIC  -falign-functions=64 -Wall -g -O2  -c NucleotideCounts.c -o NucleotideCounts.o
NucleotideCounts.c:267:7: warning: unused variable 'nthreads' [-Wunused-variable]
  int nthreads = INTEGER(NTHREADS)[0];
      ^
1 warning generated.
clang -arch x86_64 -I"/Library/Frameworks/R.framework/Resources/include" -DNDEBUG   -I/opt/R/x86_64/include    -fPIC  -falign-functions=64 -Wall -g -O2  -c OnDiskLP.c -o OnDiskLP.o
clang -arch x86_64 -I"/Library/Frameworks/R.framework/Resources/include" -DNDEBUG   -I/opt/R/x86_64/include    -fPIC  -falign-functions=64 -Wall -g -O2  -c PrefixTrie.c -o PrefixTrie.o
clang -arch x86_64 -I"/Library/Frameworks/R.framework/Resources/include" -DNDEBUG   -I/opt/R/x86_64/include    -fPIC  -falign-functions=64 -Wall -g -O2  -c R_init_synextend.c -o R_init_synextend.o
clang -arch x86_64 -I"/Library/Frameworks/R.framework/Resources/include" -DNDEBUG   -I/opt/R/x86_64/include    -fPIC  -falign-functions=64 -Wall -g -O2  -c RandomForest.c -o RandomForest.o
clang -arch x86_64 -I"/Library/Frameworks/R.framework/Resources/include" -DNDEBUG   -I/opt/R/x86_64/include    -fPIC  -falign-functions=64 -Wall -g -O2  -c SEutils.c -o SEutils.o
clang -arch x86_64 -I"/Library/Frameworks/R.framework/Resources/include" -DNDEBUG   -I/opt/R/x86_64/include    -fPIC  -falign-functions=64 -Wall -g -O2  -c XORRand.c -o XORRand.o
XORRand.c:67:7: warning: unused variable 'threads' [-Wunused-variable]
  int threads = INTEGER(NTHREADS)[0];
      ^
1 warning generated.
/opt/gfortran/bin/gfortran -arch x86_64  -fPIC  -Wall -g -O2  -c  _fortran_tabulate.f95 -o _fortran_tabulate.o
/opt/gfortran/bin/gfortran -arch x86_64  -fPIC  -Wall -g -O2  -c  _fortran_utils.f95 -o _fortran_utils.o
clang -arch x86_64 -I"/Library/Frameworks/R.framework/Resources/include" -DNDEBUG   -I/opt/R/x86_64/include    -fPIC  -falign-functions=64 -Wall -g -O2  -c calcMIR2C.c -o calcMIR2C.o
/opt/gfortran/bin/gfortran -arch x86_64  -fPIC  -Wall -g -O2  -c  cart_fort.f95 -o cart_fort.o
clang -arch x86_64 -I"/Library/Frameworks/R.framework/Resources/include" -DNDEBUG   -I/opt/R/x86_64/include    -fPIC  -falign-functions=64 -Wall -g -O2  -c dendrapply.c -o dendrapply.o
clang -arch x86_64 -dynamiclib -Wl,-headerpad_max_install_names -undefined dynamic_lookup -L/Library/Frameworks/R.framework/Resources/lib -L/opt/R/x86_64/lib -o SynExtend.so CDend.o CShuffle.o HungarianAlgo.o MoranI.o NucleotideCounts.o OnDiskLP.o PrefixTrie.o R_init_synextend.o RandomForest.o SEutils.o XORRand.o _fortran_tabulate.o _fortran_utils.o calcMIR2C.o cart_fort.o dendrapply.o -L/opt/gfortran/lib/gcc/x86_64-apple-darwin20.0/12.2.0 -L/opt/gfortran/lib -lgfortran -lquadmath -F/Library/Frameworks/R.framework/.. -framework R -Wl,-framework -Wl,CoreFoundation
installing to /Library/Frameworks/R.framework/Versions/4.4-x86_64/Resources/library/00LOCK-SynExtend/00new/SynExtend/libs
** R
** data
** inst
** byte-compile and prepare package for lazy loading
** help
*** installing help indices
** building package indices
** installing vignettes
** testing if installed package can be loaded from temporary location
** checking absolute paths in shared objects and dynamic libraries
** testing if installed package can be loaded from final location
** testing if installed package keeps a record of temporary installation path
* DONE (SynExtend)

Tests output


Example timings

SynExtend.Rcheck/SynExtend-Ex.timings

nameusersystemelapsed
BlastSeqs0.0000.0010.001
BlockExpansion185.001 2.117190.542
BlockReconciliation0.0010.0000.000
BuiltInEnsembles225.185 4.858234.552
CIDist_NullDist0.0020.0040.007
ClusterByK5.6170.0345.806
DPhyloStatistic0.0700.0040.075
DecisionTree-class0.0880.0020.091
DisjointSet0.2040.0070.212
Endosymbionts_GeneCalls0.0200.0040.024
Endosymbionts_LinkedFeatures0.0440.0050.050
Endosymbionts_Pairs010.0410.0040.045
Endosymbionts_Pairs020.0410.0050.046
Endosymbionts_Pairs030.0380.0040.042
Endosymbionts_Sets0.0060.0040.009
Endosymbionts_Synteny0.0190.0040.024
EstimRearrScen3.5400.0813.661
EstimateExoLabel0.0050.0010.007
EvoWeaver0.0070.0020.009
EvoWeb0.0690.0090.080
ExampleStreptomycesData154.888 3.200160.899
ExoLabel0.0340.0180.053
ExpandDiagonal60.107 1.61262.328
ExtractBy0.5340.0100.550
FastQFromSRR0.0010.0010.000
FindSets0.0030.0010.003
FitchParsimony0.1690.0050.174
Generic0.0030.0030.007
MakeBlastDb0.0000.0010.001
MoransI0.0010.0010.003
NucleotideOverlap2.9270.0223.004
PairSummaries8.2810.1608.531
PhyloDistance-CI0.0080.0020.011
PhyloDistance-JRF0.0080.0010.009
PhyloDistance-KF0.0040.0010.005
PhyloDistance-RF0.0050.0020.007
PhyloDistance0.0090.0020.010
PrepareSeqs0.0450.0030.048
RandForest0.0250.0020.028
SelectByK110.835 1.278113.564
SequenceSimilarity0.1220.0060.169
SubSetPairs1.1240.1121.244
SummarizePairs33.341 0.58235.190
SuperTree0.6260.0140.659
SuperTreeEx0.0290.0050.036
dendrapply0.2330.0320.308
gffToDataFrame17.099 0.05718.088
plot.EvoWeb2.5420.0662.659
predict.EvoWeaver20.100 0.46621.065
simMat0.0420.0090.050
subset-dendrogram0.5910.0140.615