| Back to Multiple platform build/check report for BioC 3.20: simplified long |
|
This page was generated on 2024-11-09 21:31 -0500 (Sat, 09 Nov 2024).
| Hostname | OS | Arch (*) | R version | Installed pkgs |
|---|---|---|---|---|
| teran2 | Linux (Ubuntu 24.04.1 LTS) | x86_64 | 4.4.1 (2024-06-14) -- "Race for Your Life" | 4505 |
| palomino8 | Windows Server 2022 Datacenter | x64 | 4.4.1 (2024-06-14 ucrt) -- "Race for Your Life" | 4506 |
| lconway | macOS 12.7.1 Monterey | x86_64 | 4.4.1 (2024-06-14) -- "Race for Your Life" | 4538 |
| kjohnson3 | macOS 13.6.5 Ventura | arm64 | 4.4.1 (2024-06-14) -- "Race for Your Life" | 4486 |
| kunpeng2 | Linux (openEuler 22.03 LTS-SP1) | aarch64 | 4.4.1 (2024-06-14) -- "Race for Your Life" | 4493 |
| Click on any hostname to see more info about the system (e.g. compilers) (*) as reported by 'uname -p', except on Windows and Mac OS X | ||||
| Package 2106/2289 | Hostname | OS / Arch | INSTALL | BUILD | CHECK | BUILD BIN | ||||||||
| SynExtend 1.18.0 (landing page) Nicholas Cooley
| teran2 | Linux (Ubuntu 24.04.1 LTS) / x86_64 | OK | OK | OK | |||||||||
| palomino8 | Windows Server 2022 Datacenter / x64 | OK | OK | OK | OK | |||||||||
| lconway | macOS 12.7.1 Monterey / x86_64 | OK | OK | OK | OK | |||||||||
| kjohnson3 | macOS 13.6.5 Ventura / arm64 | OK | OK | OK | OK | |||||||||
| kunpeng2 | Linux (openEuler 22.03 LTS-SP1) / aarch64 | OK | OK | OK | ||||||||||
|
To the developers/maintainers of the SynExtend package: - Allow up to 24 hours (and sometimes 48 hours) for your latest push to git@git.bioconductor.org:packages/SynExtend.git to reflect on this report. See Troubleshooting Build Report for more information. - Use the following Renviron settings to reproduce errors and warnings. - If 'R CMD check' started to fail recently on the Linux builder(s) over a missing dependency, add the missing dependency to 'Suggests:' in your DESCRIPTION file. See Renviron.bioc for more information. |
| Package: SynExtend |
| Version: 1.18.0 |
| Command: /Library/Frameworks/R.framework/Resources/bin/R CMD check --install=check:SynExtend.install-out.txt --library=/Library/Frameworks/R.framework/Resources/library --no-vignettes --timings SynExtend_1.18.0.tar.gz |
| StartedAt: 2024-11-09 14:49:46 -0500 (Sat, 09 Nov 2024) |
| EndedAt: 2024-11-09 14:56:18 -0500 (Sat, 09 Nov 2024) |
| EllapsedTime: 392.8 seconds |
| RetCode: 0 |
| Status: OK |
| CheckDir: SynExtend.Rcheck |
| Warnings: 0 |
##############################################################################
##############################################################################
###
### Running command:
###
### /Library/Frameworks/R.framework/Resources/bin/R CMD check --install=check:SynExtend.install-out.txt --library=/Library/Frameworks/R.framework/Resources/library --no-vignettes --timings SynExtend_1.18.0.tar.gz
###
##############################################################################
##############################################################################
* using log directory ‘/Users/biocbuild/bbs-3.20-bioc/meat/SynExtend.Rcheck’
* using R version 4.4.1 (2024-06-14)
* using platform: aarch64-apple-darwin20
* R was compiled by
Apple clang version 14.0.0 (clang-1400.0.29.202)
GNU Fortran (GCC) 12.2.0
* running under: macOS Ventura 13.6.7
* using session charset: UTF-8
* using option ‘--no-vignettes’
* checking for file ‘SynExtend/DESCRIPTION’ ... OK
* checking extension type ... Package
* this is package ‘SynExtend’ version ‘1.18.0’
* package encoding: UTF-8
* checking package namespace information ... OK
* checking package dependencies ...Warning: unable to access index for repository https://CRAN.R-project.org/src/contrib:
cannot open URL 'https://CRAN.R-project.org/src/contrib/PACKAGES'
OK
* checking if this is a source package ... OK
* checking if there is a namespace ... OK
* checking for hidden files and directories ... OK
* checking for portable file names ... OK
* checking for sufficient/correct file permissions ... OK
* checking whether package ‘SynExtend’ can be installed ... OK
* used C compiler: ‘Apple clang version 15.0.0 (clang-1500.1.0.2.5)’
* used Fortran compiler: ‘GNU Fortran (GCC) 12.2.0’
* used SDK: ‘MacOSX11.3.sdk’
* checking installed package size ... OK
* checking package directory ... OK
* checking ‘build’ directory ... OK
* checking DESCRIPTION meta-information ... OK
* checking top-level files ... OK
* checking for left-over files ... OK
* checking index information ... OK
* checking package subdirectories ... OK
* checking code files for non-ASCII characters ... OK
* checking R files for syntax errors ... OK
* checking whether the package can be loaded ... OK
* checking whether the package can be loaded with stated dependencies ... OK
* checking whether the package can be unloaded cleanly ... OK
* checking whether the namespace can be loaded with stated dependencies ... OK
* checking whether the namespace can be unloaded cleanly ... OK
* checking dependencies in R code ... NOTE
Unexported object imported by a ':::' call: ‘DECIPHER:::.detectCores’
See the note in ?`:::` about the use of this operator.
* checking S3 generic/method consistency ... OK
* checking replacement functions ... OK
* checking foreign function calls ... OK
* checking R code for possible problems ... OK
* checking Rd files ... OK
* checking Rd metadata ... OK
* checking Rd cross-references ... OK
* checking for missing documentation entries ... OK
* checking for code/documentation mismatches ... OK
* checking Rd \usage sections ... OK
* checking Rd contents ... OK
* checking for unstated dependencies in examples ... OK
* checking contents of ‘data’ directory ... OK
* checking data for non-ASCII characters ... OK
* checking data for ASCII and uncompressed saves ... OK
* checking line endings in C/C++/Fortran sources/headers ... OK
* checking line endings in Makefiles ... OK
* checking compilation flags in Makevars ... OK
* checking for GNU extensions in Makefiles ... OK
* checking for portable use of $(BLAS_LIBS) and $(LAPACK_LIBS) ... OK
* checking use of PKG_*FLAGS in Makefiles ... OK
* checking compiled code ... NOTE
Note: information on .o files is not available
* checking usage of KIND in Fortran files ... OK
* checking files in ‘vignettes’ ... OK
* checking examples ... OK
Examples with CPU (user + system) or elapsed time > 5s
user system elapsed
BuiltInEnsembles 33.212 2.014 35.229
BlockExpansion 25.619 0.299 25.923
ExampleStreptomycesData 22.892 1.438 24.335
SelectByK 13.763 0.148 13.911
ExpandDiagonal 11.277 0.543 11.829
SummarizePairs 5.414 0.282 5.701
* checking for unstated dependencies in vignettes ... OK
* checking package vignettes ... OK
* checking running R code from vignettes ... SKIPPED
* checking re-building of vignette outputs ... SKIPPED
* checking PDF version of manual ... OK
* DONE
Status: 2 NOTEs
See
‘/Users/biocbuild/bbs-3.20-bioc/meat/SynExtend.Rcheck/00check.log’
for details.
SynExtend.Rcheck/00install.out
##############################################################################
##############################################################################
###
### Running command:
###
### /Library/Frameworks/R.framework/Resources/bin/R CMD INSTALL SynExtend
###
##############################################################################
##############################################################################
* installing to library ‘/Library/Frameworks/R.framework/Versions/4.4-arm64/Resources/library’
* installing *source* package ‘SynExtend’ ...
** using staged installation
** libs
using C compiler: ‘Apple clang version 15.0.0 (clang-1500.1.0.2.5)’
using Fortran compiler: ‘GNU Fortran (GCC) 12.2.0’
using SDK: ‘MacOSX11.3.sdk’
clang -arch arm64 -I"/Library/Frameworks/R.framework/Resources/include" -DNDEBUG -I/opt/R/arm64/include -fPIC -falign-functions=64 -Wall -g -O2 -c CDend.c -o CDend.o
clang -arch arm64 -I"/Library/Frameworks/R.framework/Resources/include" -DNDEBUG -I/opt/R/arm64/include -fPIC -falign-functions=64 -Wall -g -O2 -c CShuffle.c -o CShuffle.o
clang -arch arm64 -I"/Library/Frameworks/R.framework/Resources/include" -DNDEBUG -I/opt/R/arm64/include -fPIC -falign-functions=64 -Wall -g -O2 -c HungarianAlgo.c -o HungarianAlgo.o
clang -arch arm64 -I"/Library/Frameworks/R.framework/Resources/include" -DNDEBUG -I/opt/R/arm64/include -fPIC -falign-functions=64 -Wall -g -O2 -c MoranI.c -o MoranI.o
clang -arch arm64 -I"/Library/Frameworks/R.framework/Resources/include" -DNDEBUG -I/opt/R/arm64/include -fPIC -falign-functions=64 -Wall -g -O2 -c NucleotideCounts.c -o NucleotideCounts.o
NucleotideCounts.c:267:7: warning: unused variable 'nthreads' [-Wunused-variable]
int nthreads = INTEGER(NTHREADS)[0];
^
1 warning generated.
clang -arch arm64 -I"/Library/Frameworks/R.framework/Resources/include" -DNDEBUG -I/opt/R/arm64/include -fPIC -falign-functions=64 -Wall -g -O2 -c OnDiskLP.c -o OnDiskLP.o
clang -arch arm64 -I"/Library/Frameworks/R.framework/Resources/include" -DNDEBUG -I/opt/R/arm64/include -fPIC -falign-functions=64 -Wall -g -O2 -c PrefixTrie.c -o PrefixTrie.o
clang -arch arm64 -I"/Library/Frameworks/R.framework/Resources/include" -DNDEBUG -I/opt/R/arm64/include -fPIC -falign-functions=64 -Wall -g -O2 -c R_init_synextend.c -o R_init_synextend.o
clang -arch arm64 -I"/Library/Frameworks/R.framework/Resources/include" -DNDEBUG -I/opt/R/arm64/include -fPIC -falign-functions=64 -Wall -g -O2 -c RandomForest.c -o RandomForest.o
clang -arch arm64 -I"/Library/Frameworks/R.framework/Resources/include" -DNDEBUG -I/opt/R/arm64/include -fPIC -falign-functions=64 -Wall -g -O2 -c SEutils.c -o SEutils.o
clang -arch arm64 -I"/Library/Frameworks/R.framework/Resources/include" -DNDEBUG -I/opt/R/arm64/include -fPIC -falign-functions=64 -Wall -g -O2 -c XORRand.c -o XORRand.o
XORRand.c:67:7: warning: unused variable 'threads' [-Wunused-variable]
int threads = INTEGER(NTHREADS)[0];
^
1 warning generated.
/opt/gfortran/bin/gfortran -arch arm64 -fPIC -Wall -g -O2 -c _fortran_tabulate.f95 -o _fortran_tabulate.o
/opt/gfortran/bin/gfortran -arch arm64 -fPIC -Wall -g -O2 -c _fortran_utils.f95 -o _fortran_utils.o
clang -arch arm64 -I"/Library/Frameworks/R.framework/Resources/include" -DNDEBUG -I/opt/R/arm64/include -fPIC -falign-functions=64 -Wall -g -O2 -c calcMIR2C.c -o calcMIR2C.o
/opt/gfortran/bin/gfortran -arch arm64 -fPIC -Wall -g -O2 -c cart_fort.f95 -o cart_fort.o
clang -arch arm64 -I"/Library/Frameworks/R.framework/Resources/include" -DNDEBUG -I/opt/R/arm64/include -fPIC -falign-functions=64 -Wall -g -O2 -c dendrapply.c -o dendrapply.o
clang -arch arm64 -dynamiclib -Wl,-headerpad_max_install_names -undefined dynamic_lookup -L/Library/Frameworks/R.framework/Resources/lib -L/opt/R/arm64/lib -o SynExtend.so CDend.o CShuffle.o HungarianAlgo.o MoranI.o NucleotideCounts.o OnDiskLP.o PrefixTrie.o R_init_synextend.o RandomForest.o SEutils.o XORRand.o _fortran_tabulate.o _fortran_utils.o calcMIR2C.o cart_fort.o dendrapply.o -L/opt/gfortran/lib/gcc/aarch64-apple-darwin20.0/12.2.0 -L/opt/gfortran/lib -lgfortran -lemutls_w -lquadmath -F/Library/Frameworks/R.framework/.. -framework R -Wl,-framework -Wl,CoreFoundation
installing to /Library/Frameworks/R.framework/Versions/4.4-arm64/Resources/library/00LOCK-SynExtend/00new/SynExtend/libs
** R
** data
** inst
** byte-compile and prepare package for lazy loading
** help
*** installing help indices
** building package indices
** installing vignettes
** testing if installed package can be loaded from temporary location
** checking absolute paths in shared objects and dynamic libraries
** testing if installed package can be loaded from final location
** testing if installed package keeps a record of temporary installation path
* DONE (SynExtend)
SynExtend.Rcheck/SynExtend-Ex.timings
| name | user | system | elapsed | |
| BlastSeqs | 0 | 0 | 0 | |
| BlockExpansion | 25.619 | 0.299 | 25.923 | |
| BlockReconciliation | 0 | 0 | 0 | |
| BuiltInEnsembles | 33.212 | 2.014 | 35.229 | |
| CIDist_NullDist | 0.000 | 0.000 | 0.002 | |
| ClusterByK | 1.557 | 0.012 | 1.568 | |
| DPhyloStatistic | 0.012 | 0.001 | 0.013 | |
| DecisionTree-class | 0.011 | 0.001 | 0.012 | |
| DisjointSet | 0.028 | 0.001 | 0.028 | |
| Endosymbionts_GeneCalls | 0.004 | 0.001 | 0.005 | |
| Endosymbionts_LinkedFeatures | 0.011 | 0.001 | 0.012 | |
| Endosymbionts_Pairs01 | 0.009 | 0.001 | 0.010 | |
| Endosymbionts_Pairs02 | 0.009 | 0.001 | 0.010 | |
| Endosymbionts_Pairs03 | 0.008 | 0.001 | 0.009 | |
| Endosymbionts_Sets | 0.001 | 0.000 | 0.002 | |
| Endosymbionts_Synteny | 0.006 | 0.001 | 0.007 | |
| EstimRearrScen | 0.436 | 0.007 | 0.443 | |
| EstimateExoLabel | 0.001 | 0.000 | 0.001 | |
| EvoWeaver | 0.000 | 0.001 | 0.001 | |
| EvoWeb | 0.013 | 0.001 | 0.015 | |
| ExampleStreptomycesData | 22.892 | 1.438 | 24.335 | |
| ExoLabel | 0.005 | 0.004 | 0.009 | |
| ExpandDiagonal | 11.277 | 0.543 | 11.829 | |
| ExtractBy | 0.107 | 0.003 | 0.109 | |
| FastQFromSRR | 0 | 0 | 0 | |
| FindSets | 0.001 | 0.000 | 0.000 | |
| FitchParsimony | 0.017 | 0.001 | 0.018 | |
| Generic | 0.001 | 0.001 | 0.002 | |
| MakeBlastDb | 0 | 0 | 0 | |
| MoransI | 0.000 | 0.000 | 0.001 | |
| NucleotideOverlap | 0.333 | 0.005 | 0.337 | |
| PairSummaries | 1.443 | 0.049 | 1.492 | |
| PhyloDistance-CI | 0.002 | 0.001 | 0.001 | |
| PhyloDistance-JRF | 0.001 | 0.000 | 0.001 | |
| PhyloDistance-KF | 0 | 0 | 0 | |
| PhyloDistance-RF | 0 | 0 | 0 | |
| PhyloDistance | 0.001 | 0.000 | 0.001 | |
| PrepareSeqs | 0.012 | 0.001 | 0.012 | |
| RandForest | 0.005 | 0.000 | 0.005 | |
| SelectByK | 13.763 | 0.148 | 13.911 | |
| SequenceSimilarity | 0.027 | 0.005 | 0.032 | |
| SubSetPairs | 0.165 | 0.082 | 0.247 | |
| SummarizePairs | 5.414 | 0.282 | 5.701 | |
| SuperTree | 0.070 | 0.003 | 0.073 | |
| SuperTreeEx | 0.003 | 0.000 | 0.004 | |
| dendrapply | 0.028 | 0.004 | 0.031 | |
| gffToDataFrame | 1.782 | 0.018 | 1.800 | |
| plot.EvoWeb | 0.324 | 0.012 | 0.337 | |
| predict.EvoWeaver | 3.062 | 0.237 | 3.300 | |
| simMat | 0.005 | 0.001 | 0.006 | |
| subset-dendrogram | 0.183 | 0.003 | 0.185 | |