| Back to Multiple platform build/check report for BioC 3.20: simplified long |
|
This page was generated on 2024-11-20 12:08 -0500 (Wed, 20 Nov 2024).
| Hostname | OS | Arch (*) | R version | Installed pkgs |
|---|---|---|---|---|
| teran2 | Linux (Ubuntu 24.04.1 LTS) | x86_64 | 4.4.2 (2024-10-31) -- "Pile of Leaves" | 4481 |
| nebbiolo2 | Linux (Ubuntu 24.04.1 LTS) | x86_64 | 4.4.2 (2024-10-31) -- "Pile of Leaves" | 4479 |
| palomino8 | Windows Server 2022 Datacenter | x64 | 4.4.2 (2024-10-31 ucrt) -- "Pile of Leaves" | 4359 |
| lconway | macOS 12.7.1 Monterey | x86_64 | 4.4.1 (2024-06-14) -- "Race for Your Life" | 4539 |
| kunpeng2 | Linux (openEuler 22.03 LTS-SP1) | aarch64 | 4.4.1 (2024-06-14) -- "Race for Your Life" | 4493 |
| Click on any hostname to see more info about the system (e.g. compilers) (*) as reported by 'uname -p', except on Windows and Mac OS X | ||||
| Package 2027/2289 | Hostname | OS / Arch | INSTALL | BUILD | CHECK | BUILD BIN | ||||||||
| Spectra 1.16.0 (landing page) RforMassSpectrometry Package Maintainer
| teran2 | Linux (Ubuntu 24.04.1 LTS) / x86_64 | OK | OK | OK | |||||||||
| nebbiolo2 | Linux (Ubuntu 24.04.1 LTS) / x86_64 | OK | OK | OK | ||||||||||
| palomino8 | Windows Server 2022 Datacenter / x64 | OK | OK | OK | OK | |||||||||
| lconway | macOS 12.7.1 Monterey / x86_64 | OK | OK | OK | OK | |||||||||
| kunpeng2 | Linux (openEuler 22.03 LTS-SP1) / aarch64 | OK | OK | OK | ||||||||||
|
To the developers/maintainers of the Spectra package: - Allow up to 24 hours (and sometimes 48 hours) for your latest push to git@git.bioconductor.org:packages/Spectra.git to reflect on this report. See Troubleshooting Build Report for more information. - Use the following Renviron settings to reproduce errors and warnings. - If 'R CMD check' started to fail recently on the Linux builder(s) over a missing dependency, add the missing dependency to 'Suggests:' in your DESCRIPTION file. See Renviron.bioc for more information. - See Martin Grigorov's blog post for how to debug Linux ARM64 related issues on a x86_64 host. |
| Package: Spectra |
| Version: 1.16.0 |
| Command: /home/biocbuild/R/R/bin/R CMD check --install=check:Spectra.install-out.txt --library=/home/biocbuild/R/R/site-library --no-vignettes --timings Spectra_1.16.0.tar.gz |
| StartedAt: 2024-11-20 12:46:57 -0000 (Wed, 20 Nov 2024) |
| EndedAt: 2024-11-20 12:58:48 -0000 (Wed, 20 Nov 2024) |
| EllapsedTime: 710.2 seconds |
| RetCode: 0 |
| Status: OK |
| CheckDir: Spectra.Rcheck |
| Warnings: 0 |
##############################################################################
##############################################################################
###
### Running command:
###
### /home/biocbuild/R/R/bin/R CMD check --install=check:Spectra.install-out.txt --library=/home/biocbuild/R/R/site-library --no-vignettes --timings Spectra_1.16.0.tar.gz
###
##############################################################################
##############################################################################
* using log directory ‘/home/biocbuild/bbs-3.20-bioc/meat/Spectra.Rcheck’
* using R version 4.4.1 (2024-06-14)
* using platform: aarch64-unknown-linux-gnu
* R was compiled by
gcc (GCC) 12.2.1 20220819 (openEuler 12.2.1-14)
GNU Fortran (GCC) 10.3.1
* running under: openEuler 22.03 (LTS-SP1)
* using session charset: UTF-8
* using option ‘--no-vignettes’
* checking for file ‘Spectra/DESCRIPTION’ ... OK
* this is package ‘Spectra’ version ‘1.16.0’
* package encoding: UTF-8
* checking package namespace information ... OK
* checking package dependencies ... OK
* checking if this is a source package ... OK
* checking if there is a namespace ... OK
* checking for hidden files and directories ... OK
* checking for portable file names ... OK
* checking for sufficient/correct file permissions ... OK
* checking whether package ‘Spectra’ can be installed ... OK
* checking installed package size ... OK
* checking package directory ... OK
* checking ‘build’ directory ... OK
* checking DESCRIPTION meta-information ... OK
* checking top-level files ... OK
* checking for left-over files ... OK
* checking index information ... OK
* checking package subdirectories ... OK
* checking code files for non-ASCII characters ... OK
* checking R files for syntax errors ... OK
* checking whether the package can be loaded ... OK
* checking whether the package can be loaded with stated dependencies ... OK
* checking whether the package can be unloaded cleanly ... OK
* checking whether the namespace can be loaded with stated dependencies ... OK
* checking whether the namespace can be unloaded cleanly ... OK
* checking loading without being on the library search path ... OK
* checking whether startup messages can be suppressed ... OK
* checking dependencies in R code ... OK
* checking S3 generic/method consistency ... OK
* checking replacement functions ... OK
* checking foreign function calls ... NOTE
Foreign function calls to a different package:
.Call("_H5Dclose", ..., PACKAGE = "rhdf5")
.Call("_H5Dopen", ..., PACKAGE = "rhdf5")
.Call("_H5Dread", ..., PACKAGE = "rhdf5")
.Call("_H5Fclose", ..., PACKAGE = "rhdf5")
.Call("_H5Fopen", ..., PACKAGE = "rhdf5")
See chapter ‘System and foreign language interfaces’ in the ‘Writing R
Extensions’ manual.
* checking R code for possible problems ... OK
* checking Rd files ... OK
* checking Rd metadata ... OK
* checking Rd cross-references ... OK
* checking for missing documentation entries ... OK
* checking for code/documentation mismatches ... OK
* checking Rd \usage sections ... OK
* checking Rd contents ... OK
* checking for unstated dependencies in examples ... OK
* checking contents of ‘data’ directory ... OK
* checking data for non-ASCII characters ... OK
* checking data for ASCII and uncompressed saves ... OK
* checking files in ‘vignettes’ ... OK
* checking examples ... OK
Examples with CPU (user + system) or elapsed time > 5s
user system elapsed
estimatePrecursorMz 129.171 2.353 131.727
addProcessing 20.205 0.881 20.976
combinePeaks 17.244 1.744 10.677
plotMzDelta 11.289 1.022 11.599
filterMsLevel 10.098 0.930 10.916
compareSpectra 9.660 0.511 10.142
Spectra 6.778 1.408 5.662
spectraData 4.891 1.245 3.278
estimatePrecursorIntensity 4.539 0.798 5.200
* checking for unstated dependencies in ‘tests’ ... OK
* checking tests ...
Running ‘testthat.R’
OK
* checking for unstated dependencies in vignettes ... OK
* checking package vignettes ... OK
* checking running R code from vignettes ... SKIPPED
* checking re-building of vignette outputs ... SKIPPED
* checking PDF version of manual ... OK
* DONE
Status: 1 NOTE
See
‘/home/biocbuild/bbs-3.20-bioc/meat/Spectra.Rcheck/00check.log’
for details.
Spectra.Rcheck/00install.out
############################################################################## ############################################################################## ### ### Running command: ### ### /home/biocbuild/R/R/bin/R CMD INSTALL Spectra ### ############################################################################## ############################################################################## * installing to library ‘/home/biocbuild/R/R-4.4.1/site-library’ * installing *source* package ‘Spectra’ ... ** using staged installation ** R ** data ** inst ** byte-compile and prepare package for lazy loading Creating a new generic function for ‘entropy’ in package ‘Spectra’ ** help *** installing help indices *** copying figures ** building package indices ** installing vignettes ** testing if installed package can be loaded from temporary location ** testing if installed package can be loaded from final location ** testing if installed package keeps a record of temporary installation path * DONE (Spectra)
Spectra.Rcheck/tests/testthat.Rout
R version 4.4.1 (2024-06-14) -- "Race for Your Life"
Copyright (C) 2024 The R Foundation for Statistical Computing
Platform: aarch64-unknown-linux-gnu
R is free software and comes with ABSOLUTELY NO WARRANTY.
You are welcome to redistribute it under certain conditions.
Type 'license()' or 'licence()' for distribution details.
R is a collaborative project with many contributors.
Type 'contributors()' for more information and
'citation()' on how to cite R or R packages in publications.
Type 'demo()' for some demos, 'help()' for on-line help, or
'help.start()' for an HTML browser interface to help.
Type 'q()' to quit R.
> library("testthat")
> library("patrick")
> library("Spectra")
Loading required package: S4Vectors
Loading required package: stats4
Loading required package: BiocGenerics
Attaching package: 'BiocGenerics'
The following objects are masked from 'package:stats':
IQR, mad, sd, var, xtabs
The following objects are masked from 'package:base':
Filter, Find, Map, Position, Reduce, anyDuplicated, aperm, append,
as.data.frame, basename, cbind, colnames, dirname, do.call,
duplicated, eval, evalq, get, grep, grepl, intersect, is.unsorted,
lapply, mapply, match, mget, order, paste, pmax, pmax.int, pmin,
pmin.int, rank, rbind, rownames, sapply, saveRDS, setdiff, table,
tapply, union, unique, unsplit, which.max, which.min
Attaching package: 'S4Vectors'
The following object is masked from 'package:utils':
findMatches
The following objects are masked from 'package:base':
I, expand.grid, unname
Loading required package: BiocParallel
>
> register(SerialParam())
>
> sciex_file <- normalizePath(
+ dir(system.file("sciex", package = "msdata"), full.names = TRUE))
> cdf_file <- normalizePath(
+ dir(system.file("cdf", package = "msdata"), full.names = TRUE))
>
> sciex_mzr <- backendInitialize(MsBackendMzR(), files = sciex_file)
> sciex_pks <- peaksData(sciex_mzr)
> fl <- normalizePath(
+ dir(system.file("proteomics", package = "msdata"), full.names = TRUE))
> tmt_mzr <- backendInitialize(MsBackendMzR(), files = fl[5])
>
> fl <- system.file("TripleTOF-SWATH", "PestMix1_SWATH.mzML",
+ package = "msdata")
> sps_dia <- Spectra(fl)
>
> fl <- system.file("TripleTOF-SWATH", "PestMix1_DDA.mzML",
+ package = "msdata")
> sps_dda <- Spectra(fl)
>
> sciex_hd5 <- backendInitialize(MsBackendHdf5Peaks(),
+ data = spectraData(sciex_mzr),
+ hdf5path = tempdir())
>
> test_suite <- system.file("test_backends", "test_MsBackend",
+ package = "Spectra")
> be <- sciex_mzr[1:10]
> test_dir(test_suite, stop_on_failure = TRUE)
✔ | F W S OK | Context
⠏ | 0 | peaks_variables
⠸ | 4 | peaks_variables
✔ | 4 | peaks_variables
⠏ | 0 | spectra_subsetting
⠇ | 9 | spectra_subsetting
⠇ | 19 | spectra_subsetting
⠋ | 31 | spectra_subsetting
⠼ | 35 | spectra_subsetting
⠴ | 36 | spectra_subsetting
⠧ | 38 | spectra_subsetting
⠇ | 39 | spectra_subsetting
⠋ | 41 | spectra_subsetting
⠙ | 42 | spectra_subsetting
⠹ | 43 | spectra_subsetting
⠸ | 44 | spectra_subsetting
⠦ | 47 | spectra_subsetting
⠇ | 49 | spectra_subsetting
⠧ | 58 | spectra_subsetting
⠹ | 63 | spectra_subsetting
⠧ | 68 | spectra_subsetting
✔ | 68 | spectra_subsetting [2.1s]
⠏ | 0 | spectra_variables
⠹ | 13 | spectra_variables
⠼ | 25 | spectra_variables
⠼ | 35 | spectra_variables
⠸ | 54 | spectra_variables
✔ | 1 62 | spectra_variables
══ Results ═════════════════════════════════════════════════════════════════════
Duration: 2.7 s
── Skipped tests (1) ───────────────────────────────────────────────────────────
• empty test (1): 'test_spectra_variables.R:262:1'
[ FAIL 0 | WARN 0 | SKIP 1 | PASS 134 ]
>
> be <- backendInitialize(MsBackendDataFrame(), spectraData(be))
> test_dir(test_suite, stop_on_failure = TRUE)
✔ | F W S OK | Context
⠏ | 0 | peaks_variables
✔ | 4 | peaks_variables
⠏ | 0 | spectra_subsetting
⠦ | 7 | spectra_subsetting
⠴ | 16 | spectra_subsetting
⠼ | 25 | spectra_subsetting
⠸ | 34 | spectra_subsetting
⠧ | 38 | spectra_subsetting
⠸ | 44 | spectra_subsetting
⠙ | 52 | spectra_subsetting
⠴ | 56 | spectra_subsetting
⠙ | 62 | spectra_subsetting
⠧ | 68 | spectra_subsetting
✔ | 68 | spectra_subsetting [1.1s]
⠏ | 0 | spectra_variables
⠴ | 6 | spectra_variables
⠋ | 11 | spectra_variables
⠏ | 20 | spectra_variables
⠧ | 28 | spectra_variables
⠸ | 34 | spectra_variables
⠧ | 38 | spectra_variables
⠙ | 52 | spectra_variables
⠇ | 59 | spectra_variables
⠼ | 65 | spectra_variables
⠏ | 70 | spectra_variables
✔ | 78 | spectra_variables [1.2s]
══ Results ═════════════════════════════════════════════════════════════════════
Duration: 2.4 s
[ FAIL 0 | WARN 0 | SKIP 0 | PASS 150 ]
>
> be <- backendInitialize(MsBackendMemory(), spectraData(be))
> test_dir(test_suite, stop_on_failure = TRUE)
✔ | F W S OK | Context
⠏ | 0 | peaks_variables
✔ | 4 | peaks_variables
⠏ | 0 | spectra_subsetting
⠙ | 22 | spectra_subsetting
⠴ | 36 | spectra_subsetting
⠏ | 40 | spectra_subsetting
⠸ | 44 | spectra_subsetting
⠼ | 55 | spectra_subsetting
⠸ | 64 | spectra_subsetting
✔ | 68 | spectra_subsetting
⠏ | 0 | spectra_variables
⠦ | 17 | spectra_variables
⠦ | 37 | spectra_variables
⠙ | 52 | spectra_variables
⠧ | 68 | spectra_variables
⠏ | 70 | spectra_variables
✔ | 80 | spectra_variables
══ Results ═════════════════════════════════════════════════════════════════════
Duration: 1.4 s
[ FAIL 0 | WARN 0 | SKIP 0 | PASS 152 ]
>
> ## be <- sciex_hd5[1:10]
> ## test_dir(test_suite, stop_on_failure = TRUE)
>
> test_check("Spectra")
Error in .h5_read_bare(fid, "/header/modcount") :
HDF5. Dataset. Can't open object.
Error in try(.Call("_H5Fopen", x, 0L, fapl@ID, PACKAGE = "rhdf5")) :
HDF5. File accessibility. Unable to open file.
Error in try(.Call("_H5Fopen", x, 0L, fapl@ID, PACKAGE = "rhdf5")) :
HDF5. File accessibility. Unable to open file.
Error in try(.Call("_H5Fopen", x, 0L, fapl@ID, PACKAGE = "rhdf5")) :
HDF5. File accessibility. Unable to open file.
Error in try(.Call("_H5Fopen", x, 0L, fapl@ID, PACKAGE = "rhdf5")) :
HDF5. File accessibility. Unable to open file.
MsBackendHdf5Peaks with 3 spectra
msLevel rtime scanIndex
<integer> <numeric> <integer>
1 1 NA 1
2 2 NA 1
3 2 NA 2
... 16 more variables/columns.
file(s):
c
d
MsBackendMzR with 0 spectra
MsBackendMzR with 1862 spectra
msLevel rtime scanIndex
<integer> <numeric> <integer>
1 1 0.280 1
2 1 0.559 2
3 1 0.838 3
4 1 1.117 4
5 1 1.396 5
... ... ... ...
1858 1 258.636 927
1859 1 258.915 928
1860 1 259.194 929
1861 1 259.473 930
1862 1 259.752 931
... 33 more variables/columns.
file(s):
20171016_POOL_POS_1_105-134.mzML
20171016_POOL_POS_3_105-134.mzML
MSn data (Spectra) with 0 spectra in a MsBackendMemory backend:
Lazy evaluation queue: 2 processing step(s)
MSn data (Spectra) with 1862 spectra in a MsBackendMzR backend:
msLevel rtime scanIndex
<integer> <numeric> <integer>
1 1 0.280 1
2 1 0.559 2
3 1 0.838 3
4 1 1.117 4
5 1 1.396 5
... ... ... ...
1858 1 258.636 927
1859 1 258.915 928
1860 1 259.194 929
1861 1 259.473 930
1862 1 259.752 931
... 33 more variables/columns.
file(s):
20171016_POOL_POS_1_105-134.mzML
20171016_POOL_POS_3_105-134.mzML
NULL
[ FAIL 0 | WARN 10 | SKIP 7 | PASS 2794 ]
══ Skipped tests (7) ═══════════════════════════════════════════════════════════
• On CRAN (6): 'test_plotMzDelta.R:30:5', 'test_plotting-functions.R:17:5',
'test_plotting-functions.R:50:5', 'test_plotting-functions.R:69:5',
'test_plotting-functions.R:99:5', 'test_plotting-functions.R:144:5'
• empty test (1): 'test_MsBackendMzR.R:464:1'
[ FAIL 0 | WARN 10 | SKIP 7 | PASS 2794 ]
Deleting unused snapshots:
• plotting-functions/plot-single-spectrum-labels-ass.svg
• plotting-functions/plot-single-spectrum-labels.svg
• plotting-functions/plot-single-spectrum-xlim.svg
• plotting-functions/plotspectra-asp05.svg
• plotting-functions/plotspectra-asp2.svg
• plotting-functions/plotspectra-color-peaks-label-labelcol.svg
• plotting-functions/plotspectra-color-peaks-label.svg
• plotting-functions/plotspectra-color-peaks.svg
• plotting-functions/plotspectramirror-match-color-labelcol.svg
• plotting-functions/plotspectramirror-match-color.svg
• plotting-functions/plotspectramirror-same.svg
• plotting-functions/plotspectraoverlay-no-axes.svg
• plotting-functions/plotspectraoverlay-xlim.svg
>
> proc.time()
user system elapsed
375.157 8.949 384.847
Spectra.Rcheck/Spectra-Ex.timings
| name | user | system | elapsed | |
| MsBackend | 0.419 | 0.003 | 0.425 | |
| Spectra | 6.778 | 1.408 | 5.662 | |
| addProcessing | 20.205 | 0.881 | 20.976 | |
| chunkapply | 0.638 | 0.208 | 0.850 | |
| combinePeaks | 17.244 | 1.744 | 10.677 | |
| combinePeaksData | 1.777 | 0.317 | 0.046 | |
| combineSpectra | 2.422 | 0.207 | 2.475 | |
| compareSpectra | 9.660 | 0.511 | 10.142 | |
| countIdentifications | 0.024 | 0.024 | 0.094 | |
| estimatePrecursorIntensity | 4.539 | 0.798 | 5.200 | |
| estimatePrecursorMz | 129.171 | 2.353 | 131.727 | |
| filterFourierTransformArtefacts | 0.101 | 0.016 | 0.117 | |
| filterMsLevel | 10.098 | 0.930 | 10.916 | |
| filterPeaksRanges | 0.067 | 0.008 | 0.075 | |
| joinPeaks | 0.004 | 0.000 | 0.004 | |
| neutralLoss | 0.251 | 0.004 | 0.256 | |
| plotMzDelta | 11.289 | 1.022 | 11.599 | |
| spectra-plotting | 0.326 | 0.067 | 0.395 | |
| spectraData | 4.891 | 1.245 | 3.278 | |