| Back to Multiple platform build/check report for BioC 3.20: simplified long | 
 | 
This page was generated on 2024-11-20 12:02 -0500 (Wed, 20 Nov 2024).
| Hostname | OS | Arch (*) | R version | Installed pkgs | 
|---|---|---|---|---|
| teran2 | Linux (Ubuntu 24.04.1 LTS) | x86_64 | 4.4.2 (2024-10-31) -- "Pile of Leaves" | 4481 | 
| nebbiolo2 | Linux (Ubuntu 24.04.1 LTS) | x86_64 | 4.4.2 (2024-10-31) -- "Pile of Leaves" | 4479 | 
| palomino8 | Windows Server 2022 Datacenter | x64 | 4.4.2 (2024-10-31 ucrt) -- "Pile of Leaves" | 4359 | 
| lconway | macOS 12.7.1 Monterey | x86_64 | 4.4.1 (2024-06-14) -- "Race for Your Life" | 4539 | 
| kunpeng2 | Linux (openEuler 22.03 LTS-SP1) | aarch64 | 4.4.1 (2024-06-14) -- "Race for Your Life" | 4493 | 
| Click on any hostname to see more info about the system (e.g. compilers) (*) as reported by 'uname -p', except on Windows and Mac OS X | ||||
| Package 2017/2289 | Hostname | OS / Arch | INSTALL | BUILD | CHECK | BUILD BIN | ||||||||
| SpatialDecon 1.16.0  (landing page) Maddy Griswold 
 | teran2 | Linux (Ubuntu 24.04.1 LTS) / x86_64 | OK | OK | OK |  | ||||||||
| nebbiolo2 | Linux (Ubuntu 24.04.1 LTS) / x86_64 | OK | OK | OK | ||||||||||
| palomino8 | Windows Server 2022 Datacenter / x64 | ERROR | ERROR | skipped | skipped | |||||||||
| lconway | macOS 12.7.1 Monterey / x86_64 | OK | OK | OK | OK |  | ||||||||
| kunpeng2 | Linux (openEuler 22.03 LTS-SP1) / aarch64 | OK | OK | OK | ||||||||||
| To the developers/maintainers of the SpatialDecon package: - Allow up to 24 hours (and sometimes 48 hours) for your latest push to git@git.bioconductor.org:packages/SpatialDecon.git to reflect on this report. See Troubleshooting Build Report for more information. - Use the following Renviron settings to reproduce errors and warnings. - If 'R CMD check' started to fail recently on the Linux builder(s) over a missing dependency, add the missing dependency to 'Suggests:' in your DESCRIPTION file. See Renviron.bioc for more information. | 
| Package: SpatialDecon | 
| Version: 1.16.0 | 
| Command: /home/biocbuild/bbs-3.20-bioc/R/bin/R CMD check --install=check:SpatialDecon.install-out.txt --library=/home/biocbuild/bbs-3.20-bioc/R/site-library --timings SpatialDecon_1.16.0.tar.gz | 
| StartedAt: 2024-11-20 10:02:49 -0500 (Wed, 20 Nov 2024) | 
| EndedAt: 2024-11-20 10:11:14 -0500 (Wed, 20 Nov 2024) | 
| EllapsedTime: 505.1 seconds | 
| RetCode: 0 | 
| Status: OK | 
| CheckDir: SpatialDecon.Rcheck | 
| Warnings: 0 | 
##############################################################################
##############################################################################
###
### Running command:
###
###   /home/biocbuild/bbs-3.20-bioc/R/bin/R CMD check --install=check:SpatialDecon.install-out.txt --library=/home/biocbuild/bbs-3.20-bioc/R/site-library --timings SpatialDecon_1.16.0.tar.gz
###
##############################################################################
##############################################################################
* using log directory ‘/media/volume/teran2_disk/biocbuild/bbs-3.20-bioc/meat/SpatialDecon.Rcheck’
* using R version 4.4.2 (2024-10-31)
* using platform: x86_64-pc-linux-gnu
* R was compiled by
    gcc (Ubuntu 13.2.0-23ubuntu4) 13.2.0
    GNU Fortran (Ubuntu 13.2.0-23ubuntu4) 13.2.0
* running under: Ubuntu 24.04.1 LTS
* using session charset: UTF-8
* checking for file ‘SpatialDecon/DESCRIPTION’ ... OK
* this is package ‘SpatialDecon’ version ‘1.16.0’
* package encoding: UTF-8
* checking package namespace information ... OK
* checking package dependencies ... OK
* checking if this is a source package ... OK
* checking if there is a namespace ... OK
* checking for hidden files and directories ... OK
* checking for portable file names ... OK
* checking for sufficient/correct file permissions ... OK
* checking whether package ‘SpatialDecon’ can be installed ... OK
* checking installed package size ... OK
* checking package directory ... OK
* checking ‘build’ directory ... OK
* checking DESCRIPTION meta-information ... NOTE
License stub is invalid DCF.
* checking top-level files ... OK
* checking for left-over files ... OK
* checking index information ... OK
* checking package subdirectories ... OK
* checking code files for non-ASCII characters ... OK
* checking R files for syntax errors ... OK
* checking whether the package can be loaded ... OK
* checking whether the package can be loaded with stated dependencies ... OK
* checking whether the package can be unloaded cleanly ... OK
* checking whether the namespace can be loaded with stated dependencies ... OK
* checking whether the namespace can be unloaded cleanly ... OK
* checking loading without being on the library search path ... OK
* checking dependencies in R code ... OK
* checking S3 generic/method consistency ... OK
* checking replacement functions ... OK
* checking foreign function calls ... OK
* checking R code for possible problems ... NOTE
download_profile_matrix: no visible binding for global variable
  ‘profile_matrix’
Undefined global functions or variables:
  profile_matrix
* checking Rd files ... OK
* checking Rd metadata ... OK
* checking Rd cross-references ... OK
* checking for missing documentation entries ... OK
* checking for code/documentation mismatches ... OK
* checking Rd \usage sections ... OK
* checking Rd contents ... OK
* checking for unstated dependencies in examples ... OK
* checking contents of ‘data’ directory ... OK
* checking data for non-ASCII characters ... OK
* checking LazyData ... OK
* checking data for ASCII and uncompressed saves ... OK
* checking files in ‘vignettes’ ... OK
* checking examples ... OK
Examples with CPU (user + system) or elapsed time > 5s
                       user system elapsed
runCollapseCellTypes 54.915  0.084  55.749
runReverseDecon      52.092  0.017  52.129
runspatialdecon      32.376  1.044  34.112
runErrorModel        10.686  0.030  10.719
runMergeTumorIntoX   10.081  0.003  10.085
reverseDecon          5.057  0.121   5.283
* checking for unstated dependencies in ‘tests’ ... OK
* checking tests ...
  Running ‘testthat.R’
 OK
* checking for unstated dependencies in vignettes ... OK
* checking package vignettes ... OK
* checking re-building of vignette outputs ... OK
* checking PDF version of manual ... OK
* DONE
Status: 2 NOTEs
See
  ‘/media/volume/teran2_disk/biocbuild/bbs-3.20-bioc/meat/SpatialDecon.Rcheck/00check.log’
for details.
SpatialDecon.Rcheck/00install.out
############################################################################## ############################################################################## ### ### Running command: ### ### /home/biocbuild/bbs-3.20-bioc/R/bin/R CMD INSTALL SpatialDecon ### ############################################################################## ############################################################################## * installing to library ‘/media/volume/teran2_disk/biocbuild/bbs-3.20-bioc/R/site-library’ * installing *source* package ‘SpatialDecon’ ... ** using staged installation ** R ** data *** moving datasets to lazyload DB ** byte-compile and prepare package for lazy loading ** help *** installing help indices ** building package indices ** installing vignettes ** testing if installed package can be loaded from temporary location ** testing if installed package can be loaded from final location ** testing if installed package keeps a record of temporary installation path * DONE (SpatialDecon)
SpatialDecon.Rcheck/tests/testthat.Rout
R version 4.4.2 (2024-10-31) -- "Pile of Leaves"
Copyright (C) 2024 The R Foundation for Statistical Computing
Platform: x86_64-pc-linux-gnu
R is free software and comes with ABSOLUTELY NO WARRANTY.
You are welcome to redistribute it under certain conditions.
Type 'license()' or 'licence()' for distribution details.
R is a collaborative project with many contributors.
Type 'contributors()' for more information and
'citation()' on how to cite R or R packages in publications.
Type 'demo()' for some demos, 'help()' for on-line help, or
'help.start()' for an HTML browser interface to help.
Type 'q()' to quit R.
> library(testthat)
> library(SpatialDecon)
> 
> test_check("SpatialDecon")
[1] "Creating Atlas"
[1] "1 / 4 : B"
[1] "2 / 4 : C"
[1] "3 / 4 : A"
[1] "4 / 4 : D"
[ FAIL 0 | WARN 0 | SKIP 0 | PASS 96 ]
> 
> proc.time()
   user  system elapsed 
104.799   0.628 106.092 
SpatialDecon.Rcheck/SpatialDecon-Ex.timings
| name | user | system | elapsed | |
| SpatialDecon-package | 3.218 | 0.024 | 3.253 | |
| TIL_barplot | 0.748 | 0.003 | 0.751 | |
| collapseCellTypes | 0.742 | 0.001 | 0.742 | |
| create_profile_matrix | 0.577 | 0.031 | 0.608 | |
| derive_GeoMx_background | 0.001 | 0.001 | 0.002 | |
| download_profile_matrix | 0.740 | 0.176 | 1.891 | |
| florets | 0.762 | 0.010 | 0.772 | |
| mergeTumorIntoX | 0.005 | 0.002 | 0.008 | |
| reverseDecon | 5.057 | 0.121 | 5.283 | |
| runCollapseCellTypes | 54.915 | 0.084 | 55.749 | |
| runErrorModel | 10.686 | 0.030 | 10.719 | |
| runMergeTumorIntoX | 10.081 | 0.003 | 10.085 | |
| runReverseDecon | 52.092 | 0.017 | 52.129 | |
| runspatialdecon | 32.376 | 1.044 | 34.112 | |
| spatialdecon | 2.655 | 0.231 | 2.888 | |