| Back to Multiple platform build/check report for BioC 3.20: simplified long |
|
This page was generated on 2025-04-02 19:34 -0400 (Wed, 02 Apr 2025).
| Hostname | OS | Arch (*) | R version | Installed pkgs |
|---|---|---|---|---|
| nebbiolo2 | Linux (Ubuntu 24.04.1 LTS) | x86_64 | 4.4.3 (2025-02-28) -- "Trophy Case" | 4764 |
| palomino8 | Windows Server 2022 Datacenter | x64 | 4.4.3 (2025-02-28 ucrt) -- "Trophy Case" | 4495 |
| merida1 | macOS 12.7.5 Monterey | x86_64 | 4.4.3 (2025-02-28) -- "Trophy Case" | 4522 |
| kjohnson1 | macOS 13.6.6 Ventura | arm64 | 4.4.3 (2025-02-28) -- "Trophy Case" | 4449 |
| taishan | Linux (openEuler 24.03 LTS) | aarch64 | 4.4.3 (2025-02-28) -- "Trophy Case" | 4426 |
| Click on any hostname to see more info about the system (e.g. compilers) (*) as reported by 'uname -p', except on Windows and Mac OS X | ||||
| Package 1978/2289 | Hostname | OS / Arch | INSTALL | BUILD | CHECK | BUILD BIN | ||||||||
| SingleMoleculeFootprinting 2.0.0 (landing page) Guido Barzaghi
| nebbiolo2 | Linux (Ubuntu 24.04.1 LTS) / x86_64 | OK | OK | WARNINGS | |||||||||
| palomino8 | Windows Server 2022 Datacenter / x64 | OK | OK | WARNINGS | OK | |||||||||
| merida1 | macOS 12.7.5 Monterey / x86_64 | OK | OK | WARNINGS | OK | |||||||||
| kjohnson1 | macOS 13.6.6 Ventura / arm64 | OK | OK | WARNINGS | OK | |||||||||
| taishan | Linux (openEuler 24.03 LTS) / aarch64 | OK | OK | WARNINGS | ||||||||||
|
To the developers/maintainers of the SingleMoleculeFootprinting package: - Allow up to 24 hours (and sometimes 48 hours) for your latest push to git@git.bioconductor.org:packages/SingleMoleculeFootprinting.git to reflect on this report. See Troubleshooting Build Report for more information. - Use the following Renviron settings to reproduce errors and warnings. - If 'R CMD check' started to fail recently on the Linux builder(s) over a missing dependency, add the missing dependency to 'Suggests:' in your DESCRIPTION file. See Renviron.bioc for more information. |
| Package: SingleMoleculeFootprinting |
| Version: 2.0.0 |
| Command: rm -rf SingleMoleculeFootprinting.buildbin-libdir && mkdir SingleMoleculeFootprinting.buildbin-libdir && /Users/biocbuild/BBS/utils/build-universal.sh SingleMoleculeFootprinting_2.0.0.tar.gz /Library/Frameworks/R.framework/Resources/bin/R SingleMoleculeFootprinting.buildbin-libdir |
| StartedAt: 2025-04-02 16:23:50 -0400 (Wed, 02 Apr 2025) |
| EndedAt: 2025-04-02 16:24:56 -0400 (Wed, 02 Apr 2025) |
| EllapsedTime: 66.0 seconds |
| RetCode: 0 |
| Status: OK |
| PackageFile: SingleMoleculeFootprinting_2.0.0.tgz |
| PackageFileSize: 4.26 MiB |
############################################################################## ############################################################################## ### ### Running command: ### ### rm -rf SingleMoleculeFootprinting.buildbin-libdir && mkdir SingleMoleculeFootprinting.buildbin-libdir && /Users/biocbuild/BBS/utils/build-universal.sh SingleMoleculeFootprinting_2.0.0.tar.gz /Library/Frameworks/R.framework/Resources/bin/R SingleMoleculeFootprinting.buildbin-libdir ### ############################################################################## ############################################################################## >>>>>>> >>>>>>> INSTALLATION WITH 'R CMD INSTALL --preclean --no-multiarch --library=SingleMoleculeFootprinting.buildbin-libdir SingleMoleculeFootprinting_2.0.0.tar.gz' >>>>>>> * installing *source* package ‘SingleMoleculeFootprinting’ ... ** using staged installation ** R ** inst ** byte-compile and prepare package for lazy loading Warning: replacing previous import ‘Biostrings::setequal’ by ‘dplyr::setequal’ when loading ‘SingleMoleculeFootprinting’ Warning: replacing previous import ‘GenomicRanges::intersect’ by ‘dplyr::intersect’ when loading ‘SingleMoleculeFootprinting’ Warning: replacing previous import ‘GenomicRanges::union’ by ‘dplyr::union’ when loading ‘SingleMoleculeFootprinting’ Warning: replacing previous import ‘BiocGenerics::combine’ by ‘dplyr::combine’ when loading ‘SingleMoleculeFootprinting’ Warning: replacing previous import ‘Biostrings::collapse’ by ‘dplyr::collapse’ when loading ‘SingleMoleculeFootprinting’ Warning: replacing previous import ‘GenomicRanges::setdiff’ by ‘dplyr::setdiff’ when loading ‘SingleMoleculeFootprinting’ Warning: replacing previous import ‘BiocGenerics::Position’ by ‘ggplot2::Position’ when loading ‘SingleMoleculeFootprinting’ Warning: replacing previous import ‘BiocGenerics::boxplot’ by ‘graphics::boxplot’ when loading ‘SingleMoleculeFootprinting’ Warning: replacing previous import ‘Matrix::image’ by ‘graphics::image’ when loading ‘SingleMoleculeFootprinting’ Warning: replacing previous import ‘dplyr::between’ by ‘plyranges::between’ when loading ‘SingleMoleculeFootprinting’ Warning: replacing previous import ‘dplyr::n_distinct’ by ‘plyranges::n_distinct’ when loading ‘SingleMoleculeFootprinting’ Warning: replacing previous import ‘dplyr::n’ by ‘plyranges::n’ when loading ‘SingleMoleculeFootprinting’ ** help *** installing help indices ** building package indices ** installing vignettes ** testing if installed package can be loaded from temporary location Warning: replacing previous import ‘Biostrings::setequal’ by ‘dplyr::setequal’ when loading ‘SingleMoleculeFootprinting’ Warning: replacing previous import ‘GenomicRanges::intersect’ by ‘dplyr::intersect’ when loading ‘SingleMoleculeFootprinting’ Warning: replacing previous import ‘GenomicRanges::union’ by ‘dplyr::union’ when loading ‘SingleMoleculeFootprinting’ Warning: replacing previous import ‘BiocGenerics::combine’ by ‘dplyr::combine’ when loading ‘SingleMoleculeFootprinting’ Warning: replacing previous import ‘Biostrings::collapse’ by ‘dplyr::collapse’ when loading ‘SingleMoleculeFootprinting’ Warning: replacing previous import ‘GenomicRanges::setdiff’ by ‘dplyr::setdiff’ when loading ‘SingleMoleculeFootprinting’ Warning: replacing previous import ‘BiocGenerics::Position’ by ‘ggplot2::Position’ when loading ‘SingleMoleculeFootprinting’ Warning: replacing previous import ‘BiocGenerics::boxplot’ by ‘graphics::boxplot’ when loading ‘SingleMoleculeFootprinting’ Warning: replacing previous import ‘Matrix::image’ by ‘graphics::image’ when loading ‘SingleMoleculeFootprinting’ Warning: replacing previous import ‘dplyr::between’ by ‘plyranges::between’ when loading ‘SingleMoleculeFootprinting’ Warning: replacing previous import ‘dplyr::n_distinct’ by ‘plyranges::n_distinct’ when loading ‘SingleMoleculeFootprinting’ Warning: replacing previous import ‘dplyr::n’ by ‘plyranges::n’ when loading ‘SingleMoleculeFootprinting’ ** testing if installed package can be loaded from final location Warning: replacing previous import ‘Biostrings::setequal’ by ‘dplyr::setequal’ when loading ‘SingleMoleculeFootprinting’ Warning: replacing previous import ‘GenomicRanges::intersect’ by ‘dplyr::intersect’ when loading ‘SingleMoleculeFootprinting’ Warning: replacing previous import ‘GenomicRanges::union’ by ‘dplyr::union’ when loading ‘SingleMoleculeFootprinting’ Warning: replacing previous import ‘BiocGenerics::combine’ by ‘dplyr::combine’ when loading ‘SingleMoleculeFootprinting’ Warning: replacing previous import ‘Biostrings::collapse’ by ‘dplyr::collapse’ when loading ‘SingleMoleculeFootprinting’ Warning: replacing previous import ‘GenomicRanges::setdiff’ by ‘dplyr::setdiff’ when loading ‘SingleMoleculeFootprinting’ Warning: replacing previous import ‘BiocGenerics::Position’ by ‘ggplot2::Position’ when loading ‘SingleMoleculeFootprinting’ Warning: replacing previous import ‘BiocGenerics::boxplot’ by ‘graphics::boxplot’ when loading ‘SingleMoleculeFootprinting’ Warning: replacing previous import ‘Matrix::image’ by ‘graphics::image’ when loading ‘SingleMoleculeFootprinting’ Warning: replacing previous import ‘dplyr::between’ by ‘plyranges::between’ when loading ‘SingleMoleculeFootprinting’ Warning: replacing previous import ‘dplyr::n_distinct’ by ‘plyranges::n_distinct’ when loading ‘SingleMoleculeFootprinting’ Warning: replacing previous import ‘dplyr::n’ by ‘plyranges::n’ when loading ‘SingleMoleculeFootprinting’ ** testing if installed package keeps a record of temporary installation path * DONE (SingleMoleculeFootprinting)