| Back to Multiple platform build/check report for BioC 3.20: simplified long | 
 | 
This page was generated on 2024-11-09 21:31 -0500 (Sat, 09 Nov 2024).
| Hostname | OS | Arch (*) | R version | Installed pkgs | 
|---|---|---|---|---|
| teran2 | Linux (Ubuntu 24.04.1 LTS) | x86_64 | 4.4.1 (2024-06-14) -- "Race for Your Life" | 4505 | 
| palomino8 | Windows Server 2022 Datacenter | x64 | 4.4.1 (2024-06-14 ucrt) -- "Race for Your Life" | 4506 | 
| lconway | macOS 12.7.1 Monterey | x86_64 | 4.4.1 (2024-06-14) -- "Race for Your Life" | 4538 | 
| kjohnson3 | macOS 13.6.5 Ventura | arm64 | 4.4.1 (2024-06-14) -- "Race for Your Life" | 4486 | 
| kunpeng2 | Linux (openEuler 22.03 LTS-SP1) | aarch64 | 4.4.1 (2024-06-14) -- "Race for Your Life" | 4493 | 
| Click on any hostname to see more info about the system (e.g. compilers) (*) as reported by 'uname -p', except on Windows and Mac OS X | ||||
| Package 1902/2289 | Hostname | OS / Arch | INSTALL | BUILD | CHECK | BUILD BIN | ||||||||
| ScreenR 1.8.0  (landing page) Emanuel Michele Soda 
 | teran2 | Linux (Ubuntu 24.04.1 LTS) / x86_64 | OK | OK | OK |  | ||||||||
| palomino8 | Windows Server 2022 Datacenter / x64 | OK | OK | OK | OK |  | ||||||||
| lconway | macOS 12.7.1 Monterey / x86_64 | OK | OK | OK | OK |  | ||||||||
| kjohnson3 | macOS 13.6.5 Ventura / arm64 | OK | OK | OK | OK |  | ||||||||
| kunpeng2 | Linux (openEuler 22.03 LTS-SP1) / aarch64 | OK | OK | OK | ||||||||||
| To the developers/maintainers of the ScreenR package: - Allow up to 24 hours (and sometimes 48 hours) for your latest push to git@git.bioconductor.org:packages/ScreenR.git to reflect on this report. See Troubleshooting Build Report for more information. - Use the following Renviron settings to reproduce errors and warnings. - If 'R CMD check' started to fail recently on the Linux builder(s) over a missing dependency, add the missing dependency to 'Suggests:' in your DESCRIPTION file. See Renviron.bioc for more information. | 
| Package: ScreenR | 
| Version: 1.8.0 | 
| Command: /Library/Frameworks/R.framework/Resources/bin/R CMD check --install=check:ScreenR.install-out.txt --library=/Library/Frameworks/R.framework/Resources/library --no-vignettes --timings ScreenR_1.8.0.tar.gz | 
| StartedAt: 2024-11-09 12:53:59 -0500 (Sat, 09 Nov 2024) | 
| EndedAt: 2024-11-09 12:59:02 -0500 (Sat, 09 Nov 2024) | 
| EllapsedTime: 303.0 seconds | 
| RetCode: 0 | 
| Status: OK | 
| CheckDir: ScreenR.Rcheck | 
| Warnings: 0 | 
##############################################################################
##############################################################################
###
### Running command:
###
###   /Library/Frameworks/R.framework/Resources/bin/R CMD check --install=check:ScreenR.install-out.txt --library=/Library/Frameworks/R.framework/Resources/library --no-vignettes --timings ScreenR_1.8.0.tar.gz
###
##############################################################################
##############################################################################
* using log directory ‘/Users/biocbuild/bbs-3.20-bioc/meat/ScreenR.Rcheck’
* using R version 4.4.1 (2024-06-14)
* using platform: aarch64-apple-darwin20
* R was compiled by
    Apple clang version 14.0.0 (clang-1400.0.29.202)
    GNU Fortran (GCC) 12.2.0
* running under: macOS Ventura 13.6.7
* using session charset: UTF-8
* using option ‘--no-vignettes’
* checking for file ‘ScreenR/DESCRIPTION’ ... OK
* checking extension type ... Package
* this is package ‘ScreenR’ version ‘1.8.0’
* package encoding: UTF-8
* checking package namespace information ... OK
* checking package dependencies ...Warning: unable to access index for repository https://CRAN.R-project.org/src/contrib:
  cannot open URL 'https://CRAN.R-project.org/src/contrib/PACKAGES'
 OK
* checking if this is a source package ... OK
* checking if there is a namespace ... OK
* checking for hidden files and directories ... OK
* checking for portable file names ... OK
* checking for sufficient/correct file permissions ... OK
* checking whether package ‘ScreenR’ can be installed ... OK
* checking installed package size ... OK
* checking package directory ... OK
* checking ‘build’ directory ... OK
* checking DESCRIPTION meta-information ... OK
* checking top-level files ... OK
* checking for left-over files ... OK
* checking index information ... OK
* checking package subdirectories ... OK
* checking code files for non-ASCII characters ... OK
* checking R files for syntax errors ... OK
* checking whether the package can be loaded ... OK
* checking whether the package can be loaded with stated dependencies ... OK
* checking whether the package can be unloaded cleanly ... OK
* checking whether the namespace can be loaded with stated dependencies ... OK
* checking whether the namespace can be unloaded cleanly ... OK
* checking whether startup messages can be suppressed ... OK
* checking dependencies in R code ... OK
* checking S3 generic/method consistency ... OK
* checking replacement functions ... OK
* checking foreign function calls ... OK
* checking R code for possible problems ... OK
* checking Rd files ... NOTE
checkRd: (-1) annotation_table.Rd:25: Lost braces
    25 |                  \url{https://cellecta.com/}{cellecta}}
       |                                             ^
* checking Rd metadata ... OK
* checking Rd cross-references ... OK
* checking for missing documentation entries ... OK
* checking for code/documentation mismatches ... OK
* checking Rd \usage sections ... NOTE
Documented arguments not in \usage in Rd file 'compute_camera.Rd':
  ‘...’
Documented arguments not in \usage in Rd file 'select_number_barcode.Rd':
  ‘...’
Documented arguments not in \usage in Rd file 'unique_gene_symbols.Rd':
  ‘...’
Functions with \usage entries need to have the appropriate \alias
entries, and all their arguments documented.
The \usage entries must correspond to syntactically valid R code.
See chapter ‘Writing R documentation files’ in the ‘Writing R
Extensions’ manual.
* checking Rd contents ... OK
* checking for unstated dependencies in examples ... OK
* checking contents of ‘data’ directory ... OK
* checking data for non-ASCII characters ... OK
* checking data for ASCII and uncompressed saves ... OK
* checking R/sysdata.rda ... OK
* checking files in ‘vignettes’ ... OK
* checking examples ... OK
Examples with CPU (user + system) or elapsed time > 5s
                           user system elapsed
plot_barcode_trend       12.564  2.156  14.720
plot_zscore_distribution 12.430  2.171  14.602
compute_metrics           7.212  0.473   7.685
find_robust_zscore_hit    5.905  0.997   6.901
find_zscore_hit           5.956  0.820   6.776
* checking for unstated dependencies in ‘tests’ ... OK
* checking tests ...
  Running ‘testthat.R’
 OK
* checking for unstated dependencies in vignettes ... OK
* checking package vignettes ... OK
* checking running R code from vignettes ... SKIPPED
* checking re-building of vignette outputs ... SKIPPED
* checking PDF version of manual ... OK
* DONE
Status: 2 NOTEs
See
  ‘/Users/biocbuild/bbs-3.20-bioc/meat/ScreenR.Rcheck/00check.log’
for details.
ScreenR.Rcheck/00install.out
############################################################################## ############################################################################## ### ### Running command: ### ### /Library/Frameworks/R.framework/Resources/bin/R CMD INSTALL ScreenR ### ############################################################################## ############################################################################## * installing to library ‘/Library/Frameworks/R.framework/Versions/4.4-arm64/Resources/library’ * installing *source* package ‘ScreenR’ ... ** using staged installation ** R ** data ** inst ** byte-compile and prepare package for lazy loading ** help *** installing help indices *** copying figures ** building package indices ** installing vignettes ** testing if installed package can be loaded from temporary location ** testing if installed package can be loaded from final location ** testing if installed package keeps a record of temporary installation path * DONE (ScreenR)
ScreenR.Rcheck/tests/testthat.Rout
R version 4.4.1 (2024-06-14) -- "Race for Your Life"
Copyright (C) 2024 The R Foundation for Statistical Computing
Platform: aarch64-apple-darwin20
R is free software and comes with ABSOLUTELY NO WARRANTY.
You are welcome to redistribute it under certain conditions.
Type 'license()' or 'licence()' for distribution details.
R is a collaborative project with many contributors.
Type 'contributors()' for more information and
'citation()' on how to cite R or R packages in publications.
Type 'demo()' for some demos, 'help()' for on-line help, or
'help.start()' for an HTML browser interface to help.
Type 'q()' to quit R.
> library(testthat)
> library(ScreenR)
Welcome to ScreenR
--------------------------
See ?ScreenR for a list of
available functions.
Enjoy!
> 
> test_check("ScreenR")
ScreenR count table containing:
 5320 rows
 15 columns
ScreenR annotation table containing:
 5320 rows
 5 columns
ScreenR normalized count table containing:
 5320 rows
 15 columns
ScreenR normalized data table containing:
 74480 rows
 9 columns
ScreenR annotation table containing:
 5320 rows
 5 columns
ScreenR annotation table containing:
 5320 rows
 5 columns
ScreenR count table containing:
 5320 rows
 15 columns
ScreenR count table containing:
 5320 rows
 15 columns
ScreenR normalized count table containing:
 5320 rows
 15 columns
ScreenR normalized count table containing:
 5320 rows
 15 columns
ScreenR normalized data table containing:
 74480 rows
 9 columns
ScreenR normalized data table containing:
 74480 rows
 9 columns
Using classic mode.
[ FAIL 0 | WARN 253 | SKIP 0 | PASS 64 ]
[ FAIL 0 | WARN 253 | SKIP 0 | PASS 64 ]
> 
> proc.time()
   user  system elapsed 
  7.470   0.223   7.692 
ScreenR.Rcheck/ScreenR-Ex.timings
| name | user | system | elapsed | |
| barcode_lost | 0.059 | 0.007 | 0.065 | |
| compute_data_table | 0.089 | 0.003 | 0.090 | |
| compute_explained_variance | 0.008 | 0.000 | 0.008 | |
| compute_metrics | 7.212 | 0.473 | 7.685 | |
| compute_slope | 0.010 | 0.000 | 0.011 | |
| count_mapped_reads | 0.016 | 0.004 | 0.018 | |
| create_edger_obj | 0.006 | 0.000 | 0.006 | |
| create_screenr_object | 0.010 | 0.000 | 0.009 | |
| filter_by_slope | 0.028 | 0.000 | 0.028 | |
| filter_by_variance | 0.377 | 0.003 | 0.380 | |
| find_camera_hit | 0.406 | 0.007 | 0.413 | |
| find_common_hit | 0.006 | 0.000 | 0.007 | |
| find_roast_hit | 0.548 | 0.015 | 0.562 | |
| find_robust_zscore_hit | 5.905 | 0.997 | 6.901 | |
| find_zscore_hit | 5.956 | 0.820 | 6.776 | |
| get_annotation_table | 0.003 | 0.000 | 0.003 | |
| get_count_table | 0.025 | 0.000 | 0.026 | |
| get_data_table | 0.006 | 0.000 | 0.006 | |
| get_groups | 0.000 | 0.001 | 0.000 | |
| get_normalized_count_table | 0.011 | 0.000 | 0.010 | |
| get_replicates | 0 | 0 | 0 | |
| mapped_reads | 0.019 | 0.003 | 0.022 | |
| normalize_data | 0.009 | 0.000 | 0.010 | |
| plot_barcode_hit | 0.543 | 0.237 | 0.780 | |
| plot_barcode_lost | 0.108 | 0.008 | 0.116 | |
| plot_barcode_lost_for_gene | 0.342 | 0.002 | 0.345 | |
| plot_barcode_trend | 12.564 | 2.156 | 14.720 | |
| plot_boxplot | 0.081 | 0.001 | 0.082 | |
| plot_common_hit | 0.047 | 0.001 | 0.048 | |
| plot_explained_variance | 0.083 | 0.000 | 0.084 | |
| plot_mapped_reads | 0.047 | 0.003 | 0.050 | |
| plot_mapped_reads_distribution | 0.435 | 0.015 | 0.451 | |
| plot_mds | 0.083 | 0.001 | 0.084 | |
| plot_trend | 0.479 | 0.187 | 0.667 | |
| plot_zscore_distribution | 12.430 | 2.171 | 14.602 | |
| remove_all_zero_row | 0.004 | 0.000 | 0.004 | |
| set_annotation_table | 0.034 | 0.001 | 0.034 | |
| set_count_table | 0.034 | 0.000 | 0.034 | |
| set_data_table | 0.033 | 0.000 | 0.034 | |
| set_groups | 0.033 | 0.000 | 0.034 | |
| set_normalized_count_table | 0.046 | 0.000 | 0.046 | |
| set_replicates | 0.032 | 0.000 | 0.031 | |