| Back to Multiple platform build/check report for BioC 3.20: simplified long |
|
This page was generated on 2025-04-02 19:36 -0400 (Wed, 02 Apr 2025).
| Hostname | OS | Arch (*) | R version | Installed pkgs |
|---|---|---|---|---|
| nebbiolo2 | Linux (Ubuntu 24.04.1 LTS) | x86_64 | 4.4.3 (2025-02-28) -- "Trophy Case" | 4764 |
| palomino8 | Windows Server 2022 Datacenter | x64 | 4.4.3 (2025-02-28 ucrt) -- "Trophy Case" | 4495 |
| merida1 | macOS 12.7.5 Monterey | x86_64 | 4.4.3 (2025-02-28) -- "Trophy Case" | 4522 |
| kjohnson1 | macOS 13.6.6 Ventura | arm64 | 4.4.3 (2025-02-28) -- "Trophy Case" | 4449 |
| taishan | Linux (openEuler 24.03 LTS) | aarch64 | 4.4.3 (2025-02-28) -- "Trophy Case" | 4426 |
| Click on any hostname to see more info about the system (e.g. compilers) (*) as reported by 'uname -p', except on Windows and Mac OS X | ||||
| Package 2098/2289 | Hostname | OS / Arch | INSTALL | BUILD | CHECK | BUILD BIN | ||||||||
| SWATH2stats 1.36.0 (landing page) Peter Blattmann
| nebbiolo2 | Linux (Ubuntu 24.04.1 LTS) / x86_64 | OK | OK | OK | |||||||||
| palomino8 | Windows Server 2022 Datacenter / x64 | OK | OK | OK | OK | |||||||||
| merida1 | macOS 12.7.5 Monterey / x86_64 | OK | OK | OK | OK | |||||||||
| kjohnson1 | macOS 13.6.6 Ventura / arm64 | OK | OK | ERROR | OK | |||||||||
| taishan | Linux (openEuler 24.03 LTS) / aarch64 | OK | OK | OK | ||||||||||
|
To the developers/maintainers of the SWATH2stats package: - Allow up to 24 hours (and sometimes 48 hours) for your latest push to git@git.bioconductor.org:packages/SWATH2stats.git to reflect on this report. See Troubleshooting Build Report for more information. - Use the following Renviron settings to reproduce errors and warnings. - If 'R CMD check' started to fail recently on the Linux builder(s) over a missing dependency, add the missing dependency to 'Suggests:' in your DESCRIPTION file. See Renviron.bioc for more information. - See Martin Grigorov's blog post for how to debug Linux ARM64 related issues on a x86_64 host. |
| Package: SWATH2stats |
| Version: 1.36.0 |
| Command: /home/biocbuild/R/R/bin/R CMD check --install=check:SWATH2stats.install-out.txt --library=/home/biocbuild/R/R/site-library --no-vignettes --timings SWATH2stats_1.36.0.tar.gz |
| StartedAt: 2025-04-01 11:11:30 -0000 (Tue, 01 Apr 2025) |
| EndedAt: 2025-04-01 11:14:17 -0000 (Tue, 01 Apr 2025) |
| EllapsedTime: 166.3 seconds |
| RetCode: 0 |
| Status: OK |
| CheckDir: SWATH2stats.Rcheck |
| Warnings: 0 |
##############################################################################
##############################################################################
###
### Running command:
###
### /home/biocbuild/R/R/bin/R CMD check --install=check:SWATH2stats.install-out.txt --library=/home/biocbuild/R/R/site-library --no-vignettes --timings SWATH2stats_1.36.0.tar.gz
###
##############################################################################
##############################################################################
* using log directory ‘/home/biocbuild/bbs-3.20-bioc/meat/SWATH2stats.Rcheck’
* using R version 4.4.3 (2025-02-28)
* using platform: aarch64-unknown-linux-gnu
* R was compiled by
aarch64-unknown-linux-gnu-gcc (GCC) 14.2.0
GNU Fortran (GCC) 14.2.0
* running under: openEuler 24.03 (LTS)
* using session charset: UTF-8
* using option ‘--no-vignettes’
* checking for file ‘SWATH2stats/DESCRIPTION’ ... OK
* checking extension type ... Package
* this is package ‘SWATH2stats’ version ‘1.36.0’
* package encoding: UTF-8
* checking package namespace information ... OK
* checking package dependencies ... NOTE
Package which this enhances but not available for checking: ‘aLFQ’
* checking if this is a source package ... OK
* checking if there is a namespace ... OK
* checking for hidden files and directories ... OK
* checking for portable file names ... OK
* checking for sufficient/correct file permissions ... OK
* checking whether package ‘SWATH2stats’ can be installed ... OK
* checking installed package size ... OK
* checking package directory ... OK
* checking ‘build’ directory ... OK
* checking DESCRIPTION meta-information ... OK
* checking top-level files ... OK
* checking for left-over files ... OK
* checking index information ... OK
* checking package subdirectories ... OK
* checking code files for non-ASCII characters ... OK
* checking R files for syntax errors ... OK
* checking whether the package can be loaded ... OK
* checking whether the package can be loaded with stated dependencies ... OK
* checking whether the package can be unloaded cleanly ... OK
* checking whether the namespace can be loaded with stated dependencies ... OK
* checking whether the namespace can be unloaded cleanly ... OK
* checking loading without being on the library search path ... OK
* checking dependencies in R code ... OK
* checking S3 generic/method consistency ... OK
* checking replacement functions ... OK
* checking foreign function calls ... OK
* checking R code for possible problems ... OK
* checking Rd files ... OK
* checking Rd metadata ... OK
* checking Rd cross-references ... OK
* checking for missing documentation entries ... OK
* checking for code/documentation mismatches ... OK
* checking Rd \usage sections ... OK
* checking Rd contents ... OK
* checking for unstated dependencies in examples ... OK
* checking contents of ‘data’ directory ... OK
* checking data for non-ASCII characters ... OK
* checking data for ASCII and uncompressed saves ... OK
* checking files in ‘vignettes’ ... OK
* checking examples ... OK
Examples with CPU (user + system) or elapsed time > 5s
user system elapsed
load_mart 1.597 0.139 6.551
* checking for unstated dependencies in ‘tests’ ... OK
* checking tests ...
Running ‘test-all.R’
OK
* checking for unstated dependencies in vignettes ... OK
* checking package vignettes ... OK
* checking running R code from vignettes ... SKIPPED
* checking re-building of vignette outputs ... SKIPPED
* checking PDF version of manual ... OK
* DONE
Status: 1 NOTE
See
‘/home/biocbuild/bbs-3.20-bioc/meat/SWATH2stats.Rcheck/00check.log’
for details.
SWATH2stats.Rcheck/00install.out
############################################################################## ############################################################################## ### ### Running command: ### ### /home/biocbuild/R/R/bin/R CMD INSTALL SWATH2stats ### ############################################################################## ############################################################################## * installing to library ‘/home/biocbuild/R/R-4.4.3/site-library’ * installing *source* package ‘SWATH2stats’ ... ** using staged installation ** R ** data ** inst ** byte-compile and prepare package for lazy loading ** help *** installing help indices ** building package indices ** installing vignettes ** testing if installed package can be loaded from temporary location ** testing if installed package can be loaded from final location ** testing if installed package keeps a record of temporary installation path * DONE (SWATH2stats)
SWATH2stats.Rcheck/tests/test-all.Rout
R version 4.4.3 (2025-02-28) -- "Trophy Case"
Copyright (C) 2025 The R Foundation for Statistical Computing
Platform: aarch64-unknown-linux-gnu
R is free software and comes with ABSOLUTELY NO WARRANTY.
You are welcome to redistribute it under certain conditions.
Type 'license()' or 'licence()' for distribution details.
R is a collaborative project with many contributors.
Type 'contributors()' for more information and
'citation()' on how to cite R or R packages in publications.
Type 'demo()' for some demos, 'help()' for on-line help, or
'help.start()' for an HTML browser interface to help.
Type 'q()' to quit R.
> library(testthat)
> test_check("SWATH2stats")
Loading required package: SWATH2stats
[1] "peterb_J131223_054"
[1] "peterb_L150425_011_SW"
[1] "peterb_L150514_002_SW"
[ FAIL 0 | WARN 74 | SKIP 0 | PASS 113 ]
[ FAIL 0 | WARN 74 | SKIP 0 | PASS 113 ]
>
> proc.time()
user system elapsed
16.609 0.646 20.754
SWATH2stats.Rcheck/SWATH2stats-Ex.timings
| name | user | system | elapsed | |
| JPP_update | 0.136 | 0.004 | 0.140 | |
| add_genesymbol | 0.008 | 0.000 | 0.007 | |
| assess_decoy_rate | 0.127 | 0.004 | 0.132 | |
| assess_fdr_byrun | 0.233 | 0.000 | 0.234 | |
| assess_fdr_overall | 0.182 | 0.004 | 0.186 | |
| convert4MSstats | 0.591 | 0.036 | 0.628 | |
| convert4PECA | 0.174 | 0.004 | 0.178 | |
| convert4aLFQ | 0.594 | 0.008 | 0.604 | |
| convert4mapDIA | 0.448 | 0.012 | 0.461 | |
| convert4pythonscript | 0.148 | 0.004 | 0.152 | |
| convert_protein_ids | 0 | 0 | 0 | |
| count_analytes | 0.162 | 0.004 | 0.166 | |
| disaggregate | 0.237 | 0.012 | 0.250 | |
| filter_all_peptides | 0.157 | 0.000 | 0.157 | |
| filter_mscore | 0.196 | 0.000 | 0.195 | |
| filter_mscore_condition | 0.194 | 0.004 | 0.197 | |
| filter_mscore_fdr | 0.442 | 0.004 | 0.447 | |
| filter_mscore_freqobs | 0.183 | 0.000 | 0.183 | |
| filter_on_max_peptides | 0.188 | 0.004 | 0.192 | |
| filter_on_min_peptides | 0.173 | 0.000 | 0.172 | |
| filter_proteotypic_peptides | 0.15 | 0.00 | 0.15 | |
| import_data | 0.457 | 0.004 | 0.461 | |
| load_mart | 1.597 | 0.139 | 6.551 | |
| mscore4assayfdr | 0.411 | 0.032 | 0.443 | |
| mscore4pepfdr | 0.321 | 0.000 | 0.321 | |
| mscore4protfdr | 0.271 | 0.004 | 0.276 | |
| plot.fdr_cube | 0.178 | 0.000 | 0.179 | |
| plot.fdr_table | 0.194 | 0.004 | 0.198 | |
| plot_correlation_between_samples | 0.547 | 0.012 | 0.561 | |
| plot_variation | 0.570 | 0.000 | 0.571 | |
| plot_variation_vs_total | 0.470 | 0.000 | 0.471 | |
| reduce_OpenSWATH_output | 0.169 | 0.003 | 0.172 | |
| removeDecoyProteins | 0.147 | 0.000 | 0.147 | |
| sample_annotation | 0.188 | 0.000 | 0.188 | |
| transform_MSstats_OpenSWATH | 0.004 | 0.000 | 0.004 | |
| unifyProteinGroupLabels | 0.17 | 0.00 | 0.17 | |
| validate_columns | 0.000 | 0.000 | 0.001 | |
| write_matrix_peptides | 0.148 | 0.012 | 0.161 | |
| write_matrix_proteins | 0.152 | 0.000 | 0.152 | |