| Back to Multiple platform build/check report for BioC 3.20: simplified long |
|
This page was generated on 2024-11-09 21:31 -0500 (Sat, 09 Nov 2024).
| Hostname | OS | Arch (*) | R version | Installed pkgs |
|---|---|---|---|---|
| teran2 | Linux (Ubuntu 24.04.1 LTS) | x86_64 | 4.4.1 (2024-06-14) -- "Race for Your Life" | 4505 |
| palomino8 | Windows Server 2022 Datacenter | x64 | 4.4.1 (2024-06-14 ucrt) -- "Race for Your Life" | 4506 |
| lconway | macOS 12.7.1 Monterey | x86_64 | 4.4.1 (2024-06-14) -- "Race for Your Life" | 4538 |
| kjohnson3 | macOS 13.6.5 Ventura | arm64 | 4.4.1 (2024-06-14) -- "Race for Your Life" | 4486 |
| kunpeng2 | Linux (openEuler 22.03 LTS-SP1) | aarch64 | 4.4.1 (2024-06-14) -- "Race for Your Life" | 4493 |
| Click on any hostname to see more info about the system (e.g. compilers) (*) as reported by 'uname -p', except on Windows and Mac OS X | ||||
| Package 2098/2289 | Hostname | OS / Arch | INSTALL | BUILD | CHECK | BUILD BIN | ||||||||
| SWATH2stats 1.36.0 (landing page) Peter Blattmann
| teran2 | Linux (Ubuntu 24.04.1 LTS) / x86_64 | OK | OK | OK | |||||||||
| palomino8 | Windows Server 2022 Datacenter / x64 | OK | OK | OK | OK | |||||||||
| lconway | macOS 12.7.1 Monterey / x86_64 | OK | OK | OK | OK | |||||||||
| kjohnson3 | macOS 13.6.5 Ventura / arm64 | OK | OK | ERROR | OK | |||||||||
| kunpeng2 | Linux (openEuler 22.03 LTS-SP1) / aarch64 | OK | OK | OK | ||||||||||
|
To the developers/maintainers of the SWATH2stats package: - Allow up to 24 hours (and sometimes 48 hours) for your latest push to git@git.bioconductor.org:packages/SWATH2stats.git to reflect on this report. See Troubleshooting Build Report for more information. - Use the following Renviron settings to reproduce errors and warnings. - If 'R CMD check' started to fail recently on the Linux builder(s) over a missing dependency, add the missing dependency to 'Suggests:' in your DESCRIPTION file. See Renviron.bioc for more information. |
| Package: SWATH2stats |
| Version: 1.36.0 |
| Command: /Library/Frameworks/R.framework/Resources/bin/R CMD check --install=check:SWATH2stats.install-out.txt --library=/Library/Frameworks/R.framework/Resources/library --no-vignettes --timings SWATH2stats_1.36.0.tar.gz |
| StartedAt: 2024-11-09 14:45:07 -0500 (Sat, 09 Nov 2024) |
| EndedAt: 2024-11-09 14:49:46 -0500 (Sat, 09 Nov 2024) |
| EllapsedTime: 278.7 seconds |
| RetCode: 1 |
| Status: ERROR |
| CheckDir: SWATH2stats.Rcheck |
| Warnings: NA |
##############################################################################
##############################################################################
###
### Running command:
###
### /Library/Frameworks/R.framework/Resources/bin/R CMD check --install=check:SWATH2stats.install-out.txt --library=/Library/Frameworks/R.framework/Resources/library --no-vignettes --timings SWATH2stats_1.36.0.tar.gz
###
##############################################################################
##############################################################################
* using log directory ‘/Users/biocbuild/bbs-3.20-bioc/meat/SWATH2stats.Rcheck’
* using R version 4.4.1 (2024-06-14)
* using platform: aarch64-apple-darwin20
* R was compiled by
Apple clang version 14.0.0 (clang-1400.0.29.202)
GNU Fortran (GCC) 12.2.0
* running under: macOS Ventura 13.6.7
* using session charset: UTF-8
* using option ‘--no-vignettes’
* checking for file ‘SWATH2stats/DESCRIPTION’ ... OK
* checking extension type ... Package
* this is package ‘SWATH2stats’ version ‘1.36.0’
* package encoding: UTF-8
* checking package namespace information ... OK
* checking package dependencies ...Warning: unable to access index for repository https://CRAN.R-project.org/src/contrib:
cannot open URL 'https://CRAN.R-project.org/src/contrib/PACKAGES'
NOTE
Package which this enhances but not available for checking: ‘aLFQ’
* checking if this is a source package ... OK
* checking if there is a namespace ... OK
* checking for hidden files and directories ... OK
* checking for portable file names ... OK
* checking for sufficient/correct file permissions ... OK
* checking whether package ‘SWATH2stats’ can be installed ... OK
* checking installed package size ... OK
* checking package directory ... OK
* checking ‘build’ directory ... OK
* checking DESCRIPTION meta-information ... OK
* checking top-level files ... OK
* checking for left-over files ... OK
* checking index information ... OK
* checking package subdirectories ... OK
* checking code files for non-ASCII characters ... OK
* checking R files for syntax errors ... OK
* checking whether the package can be loaded ... OK
* checking whether the package can be loaded with stated dependencies ... OK
* checking whether the package can be unloaded cleanly ... OK
* checking whether the namespace can be loaded with stated dependencies ... OK
* checking whether the namespace can be unloaded cleanly ... OK
* checking dependencies in R code ... OK
* checking S3 generic/method consistency ... OK
* checking replacement functions ... OK
* checking foreign function calls ... OK
* checking R code for possible problems ... OK
* checking Rd files ... OK
* checking Rd metadata ... OK
* checking Rd cross-references ... OK
* checking for missing documentation entries ... OK
* checking for code/documentation mismatches ... OK
* checking Rd \usage sections ... OK
* checking Rd contents ... OK
* checking for unstated dependencies in examples ... OK
* checking contents of ‘data’ directory ... OK
* checking data for non-ASCII characters ... OK
* checking data for ASCII and uncompressed saves ... OK
* checking sizes of PDF files under ‘inst/doc’ ... OK
* checking files in ‘vignettes’ ... OK
* checking examples ... OK
* checking for unstated dependencies in ‘tests’ ... OK
* checking tests ...
Running ‘test-all.R’
ERROR
Running the tests in ‘tests/test-all.R’ failed.
Last 13 lines of output:
[1] "peterb_J131223_054"
[1] "peterb_L150425_011_SW"
[1] "peterb_L150514_002_SW"
[ FAIL 1 | WARN 74 | SKIP 0 | PASS 112 ]
══ Failed tests ════════════════════════════════════════════════════════════════
── Failure ('test_plots.R:85:3'): variation plot vs total ──────────────────────
cv.val1.total == as.numeric(test1.total[, "cv"]) is not TRUE
`actual`: FALSE
`expected`: TRUE
[ FAIL 1 | WARN 74 | SKIP 0 | PASS 112 ]
Error: Test failures
Execution halted
* checking for unstated dependencies in vignettes ... OK
* checking package vignettes ... OK
* checking running R code from vignettes ... SKIPPED
* checking re-building of vignette outputs ... SKIPPED
* checking PDF version of manual ... OK
* DONE
Status: 1 ERROR, 1 NOTE
See
‘/Users/biocbuild/bbs-3.20-bioc/meat/SWATH2stats.Rcheck/00check.log’
for details.
SWATH2stats.Rcheck/00install.out
############################################################################## ############################################################################## ### ### Running command: ### ### /Library/Frameworks/R.framework/Resources/bin/R CMD INSTALL SWATH2stats ### ############################################################################## ############################################################################## * installing to library ‘/Library/Frameworks/R.framework/Versions/4.4-arm64/Resources/library’ * installing *source* package ‘SWATH2stats’ ... ** using staged installation ** R ** data ** inst ** byte-compile and prepare package for lazy loading ** help *** installing help indices ** building package indices ** installing vignettes ** testing if installed package can be loaded from temporary location ** testing if installed package can be loaded from final location ** testing if installed package keeps a record of temporary installation path * DONE (SWATH2stats)
SWATH2stats.Rcheck/tests/test-all.Rout.fail
R version 4.4.1 (2024-06-14) -- "Race for Your Life"
Copyright (C) 2024 The R Foundation for Statistical Computing
Platform: aarch64-apple-darwin20
R is free software and comes with ABSOLUTELY NO WARRANTY.
You are welcome to redistribute it under certain conditions.
Type 'license()' or 'licence()' for distribution details.
R is a collaborative project with many contributors.
Type 'contributors()' for more information and
'citation()' on how to cite R or R packages in publications.
Type 'demo()' for some demos, 'help()' for on-line help, or
'help.start()' for an HTML browser interface to help.
Type 'q()' to quit R.
> library(testthat)
> test_check("SWATH2stats")
Loading required package: SWATH2stats
[1] "peterb_J131223_054"
[1] "peterb_L150425_011_SW"
[1] "peterb_L150514_002_SW"
[ FAIL 1 | WARN 74 | SKIP 0 | PASS 112 ]
══ Failed tests ════════════════════════════════════════════════════════════════
── Failure ('test_plots.R:85:3'): variation plot vs total ──────────────────────
cv.val1.total == as.numeric(test1.total[, "cv"]) is not TRUE
`actual`: FALSE
`expected`: TRUE
[ FAIL 1 | WARN 74 | SKIP 0 | PASS 112 ]
Error: Test failures
Execution halted
SWATH2stats.Rcheck/SWATH2stats-Ex.timings
| name | user | system | elapsed | |
| JPP_update | 0.041 | 0.002 | 0.043 | |
| add_genesymbol | 0.002 | 0.000 | 0.002 | |
| assess_decoy_rate | 0.044 | 0.001 | 0.045 | |
| assess_fdr_byrun | 0.057 | 0.003 | 0.059 | |
| assess_fdr_overall | 0.215 | 0.003 | 0.219 | |
| convert4MSstats | 0.239 | 0.005 | 0.243 | |
| convert4PECA | 0.052 | 0.001 | 0.053 | |
| convert4aLFQ | 0.233 | 0.005 | 0.239 | |
| convert4mapDIA | 0.120 | 0.006 | 0.126 | |
| convert4pythonscript | 0.044 | 0.001 | 0.045 | |
| convert_protein_ids | 0 | 0 | 0 | |
| count_analytes | 0.046 | 0.003 | 0.048 | |
| disaggregate | 0.069 | 0.003 | 0.073 | |
| filter_all_peptides | 0.040 | 0.002 | 0.041 | |
| filter_mscore | 0.058 | 0.003 | 0.062 | |
| filter_mscore_condition | 0.049 | 0.002 | 0.052 | |
| filter_mscore_fdr | 0.112 | 0.009 | 0.121 | |
| filter_mscore_freqobs | 0.056 | 0.002 | 0.059 | |
| filter_on_max_peptides | 0.049 | 0.002 | 0.051 | |
| filter_on_min_peptides | 0.053 | 0.004 | 0.057 | |
| filter_proteotypic_peptides | 0.043 | 0.001 | 0.044 | |
| import_data | 0.186 | 0.005 | 0.190 | |
| load_mart | 0.348 | 0.033 | 3.603 | |
| mscore4assayfdr | 0.103 | 0.011 | 0.118 | |
| mscore4pepfdr | 0.091 | 0.011 | 0.102 | |
| mscore4protfdr | 0.068 | 0.006 | 0.074 | |
| plot.fdr_cube | 0.058 | 0.004 | 0.062 | |
| plot.fdr_table | 0.052 | 0.003 | 0.056 | |
| plot_correlation_between_samples | 0.149 | 0.005 | 0.154 | |
| plot_variation | 0.128 | 0.007 | 0.135 | |
| plot_variation_vs_total | 0.116 | 0.002 | 0.119 | |
| reduce_OpenSWATH_output | 0.043 | 0.001 | 0.044 | |
| removeDecoyProteins | 0.048 | 0.001 | 0.049 | |
| sample_annotation | 0.050 | 0.001 | 0.052 | |
| transform_MSstats_OpenSWATH | 0.001 | 0.001 | 0.001 | |
| unifyProteinGroupLabels | 0.043 | 0.001 | 0.044 | |
| validate_columns | 0 | 0 | 0 | |
| write_matrix_peptides | 0.050 | 0.001 | 0.051 | |
| write_matrix_proteins | 0.043 | 0.001 | 0.043 | |