| Back to Multiple platform build/check report for BioC 3.20: simplified long |
|
This page was generated on 2024-07-03 11:44 -0400 (Wed, 03 Jul 2024).
| Hostname | OS | Arch (*) | R version | Installed pkgs |
|---|---|---|---|---|
| nebbiolo2 | Linux (Ubuntu 22.04.3 LTS) | x86_64 | 4.4.0 RC (2024-04-16 r86468) -- "Puppy Cup" | 4693 |
| palomino6 | Windows Server 2022 Datacenter | x64 | 4.4.1 (2024-06-14 ucrt) -- "Race for Your Life" | 4413 |
| lconway | macOS 12.7.1 Monterey | x86_64 | 4.4.1 RC (2024-06-06 r86719) -- "Race for Your Life" | 4407 |
| kjohnson3 | macOS 13.6.5 Ventura | arm64 | 4.4.1 RC (2024-06-06 r86719) -- "Race for Your Life" | 4356 |
| kunpeng2 | Linux (openEuler 22.03 LTS-SP1) | aarch64 | 4.4.0 (2024-04-24) -- "Puppy Cup" | 4407 |
| Click on any hostname to see more info about the system (e.g. compilers) (*) as reported by 'uname -p', except on Windows and Mac OS X | ||||
| Package 2030/2243 | Hostname | OS / Arch | INSTALL | BUILD | CHECK | BUILD BIN | ||||||||
| STdeconvolve 1.9.0 (landing page) Brendan Miller
| nebbiolo2 | Linux (Ubuntu 22.04.3 LTS) / x86_64 | OK | OK | OK | |||||||||
| palomino6 | Windows Server 2022 Datacenter / x64 | ERROR | ERROR | skipped | skipped | |||||||||
| lconway | macOS 12.7.1 Monterey / x86_64 | OK | OK | OK | OK | |||||||||
| kjohnson3 | macOS 13.6.5 Ventura / arm64 | OK | OK | OK | OK | |||||||||
| kunpeng2 | Linux (openEuler 22.03 LTS-SP1) / aarch64 | OK | OK | OK | ||||||||||
|
To the developers/maintainers of the STdeconvolve package: - Allow up to 24 hours (and sometimes 48 hours) for your latest push to git@git.bioconductor.org:packages/STdeconvolve.git to reflect on this report. See Troubleshooting Build Report for more information. - Use the following Renviron settings to reproduce errors and warnings. - If 'R CMD check' started to fail recently on the Linux builder(s) over a missing dependency, add the missing dependency to 'Suggests:' in your DESCRIPTION file. See Renviron.bioc for more information. |
| Package: STdeconvolve |
| Version: 1.9.0 |
| Command: /Library/Frameworks/R.framework/Resources/bin/R CMD check --install=check:STdeconvolve.install-out.txt --library=/Library/Frameworks/R.framework/Resources/library --no-vignettes --timings STdeconvolve_1.9.0.tar.gz |
| StartedAt: 2024-07-03 02:50:16 -0400 (Wed, 03 Jul 2024) |
| EndedAt: 2024-07-03 02:52:04 -0400 (Wed, 03 Jul 2024) |
| EllapsedTime: 108.3 seconds |
| RetCode: 0 |
| Status: OK |
| CheckDir: STdeconvolve.Rcheck |
| Warnings: 0 |
##############################################################################
##############################################################################
###
### Running command:
###
### /Library/Frameworks/R.framework/Resources/bin/R CMD check --install=check:STdeconvolve.install-out.txt --library=/Library/Frameworks/R.framework/Resources/library --no-vignettes --timings STdeconvolve_1.9.0.tar.gz
###
##############################################################################
##############################################################################
* using log directory ‘/Users/biocbuild/bbs-3.20-bioc/meat/STdeconvolve.Rcheck’
* using R version 4.4.1 RC (2024-06-06 r86719)
* using platform: aarch64-apple-darwin20
* R was compiled by
Apple clang version 14.0.0 (clang-1400.0.29.202)
GNU Fortran (GCC) 12.2.0
* running under: macOS Ventura 13.6.5
* using session charset: UTF-8
* using option ‘--no-vignettes’
* checking for file ‘STdeconvolve/DESCRIPTION’ ... OK
* checking extension type ... Package
* this is package ‘STdeconvolve’ version ‘1.9.0’
* package encoding: UTF-8
* checking package namespace information ... OK
* checking package dependencies ... OK
* checking if this is a source package ... OK
* checking if there is a namespace ... OK
* checking for hidden files and directories ... OK
* checking for portable file names ... OK
* checking for sufficient/correct file permissions ... OK
* checking whether package ‘STdeconvolve’ can be installed ... OK
* checking installed package size ... OK
* checking package directory ... OK
* checking ‘build’ directory ... OK
* checking DESCRIPTION meta-information ... OK
* checking top-level files ... OK
* checking for left-over files ... OK
* checking index information ... OK
* checking package subdirectories ... OK
* checking code files for non-ASCII characters ... OK
* checking R files for syntax errors ... OK
* checking whether the package can be loaded ... OK
* checking whether the package can be loaded with stated dependencies ... OK
* checking whether the package can be unloaded cleanly ... OK
* checking whether the namespace can be loaded with stated dependencies ... OK
* checking whether the namespace can be unloaded cleanly ... OK
* checking dependencies in R code ... OK
* checking S3 generic/method consistency ... OK
* checking replacement functions ... OK
* checking foreign function calls ... OK
* checking R code for possible problems ... NOTE
correlationPlot: no visible binding for global variable ‘Var1’
correlationPlot: no visible binding for global variable ‘Var2’
correlationPlot: no visible binding for global variable ‘value’
fitLDA: no visible binding for global variable ‘rareCtsAdj’
fitLDA: no visible binding for global variable ‘K’
fitLDA: no visible binding for global variable ‘perplexAdj’
fitLDA: no visible binding for global variable ‘alphaBool’
perplexityPlot: no visible binding for global variable ‘rareCtsAdj’
perplexityPlot: no visible binding for global variable ‘K’
perplexityPlot: no visible binding for global variable ‘perplexAdj’
perplexityPlot: no visible binding for global variable ‘alphaBool’
vizAllTopics: no visible binding for global variable ‘x’
vizAllTopics: no visible binding for global variable ‘y’
vizAllTopics: no visible binding for global variable ‘Row.names’
vizAllTopics: no visible binding for global variable ‘Pixel.Groups’
vizGeneCounts: no visible binding for global variable ‘x’
vizGeneCounts: no visible binding for global variable ‘y’
vizTopic: no visible binding for global variable ‘x’
vizTopic: no visible binding for global variable ‘y’
Undefined global functions or variables:
K Pixel.Groups Row.names Var1 Var2 alphaBool perplexAdj rareCtsAdj
value x y
* checking Rd files ... OK
* checking Rd metadata ... OK
* checking Rd cross-references ... OK
* checking for missing documentation entries ... OK
* checking for code/documentation mismatches ... OK
* checking Rd \usage sections ... OK
* checking Rd contents ... OK
* checking for unstated dependencies in examples ... OK
* checking contents of ‘data’ directory ... OK
* checking data for non-ASCII characters ... OK
* checking data for ASCII and uncompressed saves ... OK
* checking files in ‘vignettes’ ... OK
* checking examples ... OK
Examples with CPU (user + system) or elapsed time > 5s
user system elapsed
perplexityPlot 11.825 0.108 12.261
fitLDA 1.455 0.066 6.861
topGenes 1.315 0.101 7.229
getBetaTheta 1.329 0.070 6.567
optimalModel 1.190 0.106 9.442
* checking for unstated dependencies in ‘tests’ ... OK
* checking tests ...
Running ‘testthat.R’
OK
* checking for unstated dependencies in vignettes ... OK
* checking package vignettes ... OK
* checking running R code from vignettes ... SKIPPED
* checking re-building of vignette outputs ... SKIPPED
* checking PDF version of manual ... OK
* DONE
Status: 1 NOTE
See
‘/Users/biocbuild/bbs-3.20-bioc/meat/STdeconvolve.Rcheck/00check.log’
for details.
STdeconvolve.Rcheck/00install.out
############################################################################## ############################################################################## ### ### Running command: ### ### /Library/Frameworks/R.framework/Resources/bin/R CMD INSTALL STdeconvolve ### ############################################################################## ############################################################################## * installing to library ‘/Library/Frameworks/R.framework/Versions/4.4-arm64/Resources/library’ * installing *source* package ‘STdeconvolve’ ... ** using staged installation ** R ** data ** byte-compile and prepare package for lazy loading ** help *** installing help indices ** building package indices ** installing vignettes ** testing if installed package can be loaded from temporary location ** testing if installed package can be loaded from final location ** testing if installed package keeps a record of temporary installation path * DONE (STdeconvolve)
STdeconvolve.Rcheck/tests/testthat.Rout
R version 4.4.1 RC (2024-06-06 r86719) -- "Race for Your Life"
Copyright (C) 2024 The R Foundation for Statistical Computing
Platform: aarch64-apple-darwin20
R is free software and comes with ABSOLUTELY NO WARRANTY.
You are welcome to redistribute it under certain conditions.
Type 'license()' or 'licence()' for distribution details.
R is a collaborative project with many contributors.
Type 'contributors()' for more information and
'citation()' on how to cite R or R packages in publications.
Type 'demo()' for some demos, 'help()' for on-line help, or
'help.start()' for an HTML browser interface to help.
Type 'q()' to quit R.
> library(testthat)
> library(STdeconvolve)
>
> test_check("STdeconvolve")
A 260x232 simple triplet matrix.
A 260x10 simple triplet matrix.
now fitting LDA model with K = 2
now fitting LDA model with K = 3
now fitting LDA model with K = 4
now fitting LDA model with K = 5
computing perplexity for LDA model with K = 2
computing perplexity for LDA model with K = 3
computing perplexity for LDA model with K = 4
computing perplexity for LDA model with K = 5
initial: [1e+02 - 3] [1e+03 - 3] [1e+04 - 2] done
initial: [1e+02 - 3] [1e+03 - 2] [1e+04 - 2] done
initial: [1e+02 - 4] [1e+03 - 4] [1e+04 - 3] done
initial: [1e+02 - 4] [1e+03 - 4] [1e+04 - 4] done
initial: [1e+02 - 4] [1e+03 - 4] [1e+04 - 4] done
[ FAIL 0 | WARN 0 | SKIP 0 | PASS 26 ]
>
> proc.time()
user system elapsed
16.982 0.344 18.164
STdeconvolve.Rcheck/STdeconvolve-Ex.timings
| name | user | system | elapsed | |
| cleanCounts | 0.292 | 0.014 | 0.352 | |
| correlationPlot | 3.447 | 0.083 | 3.766 | |
| fitLDA | 1.455 | 0.066 | 6.861 | |
| getBetaTheta | 1.329 | 0.070 | 6.567 | |
| getCorrMtx | 2.549 | 0.051 | 2.736 | |
| getOverdispersedGenes | 0.641 | 0.075 | 0.752 | |
| lsatPairs | 2.771 | 0.062 | 3.655 | |
| optimalModel | 1.190 | 0.106 | 9.442 | |
| perplexityPlot | 11.825 | 0.108 | 12.261 | |
| preprocess | 0.737 | 0.078 | 0.921 | |
| restrictCorpus | 0.549 | 0.157 | 0.792 | |
| topGenes | 1.315 | 0.101 | 7.229 | |
| vizAllTopics | 3.311 | 0.096 | 3.648 | |
| vizGeneCounts | 0.599 | 0.045 | 0.718 | |
| vizTopic | 3.068 | 0.093 | 3.418 | |