Back to Multiple platform build/check report for BioC 3.20:   simplified   long
ABCDEFGHIJKLMNOPQR[S]TUVWXYZ

This page was generated on 2025-01-30 12:12 -0500 (Thu, 30 Jan 2025).

HostnameOSArch (*)R versionInstalled pkgs
nebbiolo2Linux (Ubuntu 24.04.1 LTS)x86_644.4.2 (2024-10-31) -- "Pile of Leaves" 4746
palomino8Windows Server 2022 Datacenterx644.4.2 (2024-10-31 ucrt) -- "Pile of Leaves" 4494
merida1macOS 12.7.5 Montereyx86_644.4.2 (2024-10-31) -- "Pile of Leaves" 4517
kjohnson1macOS 13.6.6 Venturaarm644.4.2 (2024-10-31) -- "Pile of Leaves" 4469
taishanLinux (openEuler 24.03 LTS)aarch644.4.2 (2024-10-31) -- "Pile of Leaves" 4400
Click on any hostname to see more info about the system (e.g. compilers)      (*) as reported by 'uname -p', except on Windows and Mac OS X

Package 1999/2289HostnameOS / ArchINSTALLBUILDCHECKBUILD BIN
SNPhood 1.36.0  (landing page)
Christian Arnold
Snapshot Date: 2025-01-27 13:00 -0500 (Mon, 27 Jan 2025)
git_url: https://git.bioconductor.org/packages/SNPhood
git_branch: RELEASE_3_20
git_last_commit: 4e570b5
git_last_commit_date: 2024-10-29 10:04:42 -0500 (Tue, 29 Oct 2024)
nebbiolo2Linux (Ubuntu 24.04.1 LTS) / x86_64  OK    OK    OK  UNNEEDED, same version is already published
palomino8Windows Server 2022 Datacenter / x64  OK    OK    OK    OK  UNNEEDED, same version is already published
merida1macOS 12.7.5 Monterey / x86_64  OK    OK    OK    OK  UNNEEDED, same version is already published
kjohnson1macOS 13.6.6 Ventura / arm64  OK    OK    OK    OK  UNNEEDED, same version is already published
taishanLinux (openEuler 24.03 LTS) / aarch64  OK    OK    OK  


CHECK results for SNPhood on taishan

To the developers/maintainers of the SNPhood package:
- Allow up to 24 hours (and sometimes 48 hours) for your latest push to git@git.bioconductor.org:packages/SNPhood.git to reflect on this report. See Troubleshooting Build Report for more information.
- Use the following Renviron settings to reproduce errors and warnings.
- If 'R CMD check' started to fail recently on the Linux builder(s) over a missing dependency, add the missing dependency to 'Suggests:' in your DESCRIPTION file. See Renviron.bioc for more information.
- See Martin Grigorov's blog post for how to debug Linux ARM64 related issues on a x86_64 host.

raw results


Summary

Package: SNPhood
Version: 1.36.0
Command: /home/biocbuild/R/R/bin/R CMD check --install=check:SNPhood.install-out.txt --library=/home/biocbuild/R/R/site-library --no-vignettes --timings SNPhood_1.36.0.tar.gz
StartedAt: 2025-01-28 11:26:43 -0000 (Tue, 28 Jan 2025)
EndedAt: 2025-01-28 11:38:21 -0000 (Tue, 28 Jan 2025)
EllapsedTime: 697.7 seconds
RetCode: 0
Status:   OK  
CheckDir: SNPhood.Rcheck
Warnings: 0

Command output

##############################################################################
##############################################################################
###
### Running command:
###
###   /home/biocbuild/R/R/bin/R CMD check --install=check:SNPhood.install-out.txt --library=/home/biocbuild/R/R/site-library --no-vignettes --timings SNPhood_1.36.0.tar.gz
###
##############################################################################
##############################################################################


* using log directory ‘/home/biocbuild/bbs-3.20-bioc/meat/SNPhood.Rcheck’
* using R version 4.4.2 (2024-10-31)
* using platform: aarch64-unknown-linux-gnu
* R was compiled by
    aarch64-unknown-linux-gnu-gcc (GCC) 14.2.0
    GNU Fortran (GCC) 12.3.1 (openEuler 12.3.1-36.oe2403)
* running under: openEuler 24.03 (LTS)
* using session charset: UTF-8
* using option ‘--no-vignettes’
* checking for file ‘SNPhood/DESCRIPTION’ ... OK
* this is package ‘SNPhood’ version ‘1.36.0’
* checking package namespace information ... OK
* checking package dependencies ... OK
* checking if this is a source package ... OK
* checking if there is a namespace ... OK
* checking for hidden files and directories ... OK
* checking for portable file names ... OK
* checking for sufficient/correct file permissions ... OK
* checking whether package ‘SNPhood’ can be installed ... OK
* checking installed package size ... OK
* checking package directory ... OK
* checking ‘build’ directory ... OK
* checking DESCRIPTION meta-information ... NOTE
BugReports field is not a suitable URL but contains an email address:
   use the Contact field instead
* checking top-level files ... OK
* checking for left-over files ... OK
* checking index information ... OK
* checking package subdirectories ... OK
* checking code files for non-ASCII characters ... OK
* checking R files for syntax errors ... OK
* checking whether the package can be loaded ... OK
* checking whether the package can be loaded with stated dependencies ... OK
* checking whether the package can be unloaded cleanly ... OK
* checking whether the namespace can be loaded with stated dependencies ... OK
* checking whether the namespace can be unloaded cleanly ... OK
* checking loading without being on the library search path ... OK
* checking whether startup messages can be suppressed ... OK
* checking dependencies in R code ... OK
* checking S3 generic/method consistency ... OK
* checking replacement functions ... OK
* checking foreign function calls ... OK
* checking R code for possible problems ... NOTE
.calcBinomTestVector: no visible binding for global variable ‘pp’
Undefined global functions or variables:
  pp
* checking Rd files ... OK
* checking Rd metadata ... OK
* checking Rd cross-references ... OK
* checking for missing documentation entries ... OK
* checking for code/documentation mismatches ... OK
* checking Rd \usage sections ... OK
* checking Rd contents ... OK
* checking for unstated dependencies in examples ... OK
* checking contents of ‘data’ directory ... OK
* checking data for non-ASCII characters ... OK
* checking LazyData ... OK
* checking data for ASCII and uncompressed saves ... OK
* checking files in ‘vignettes’ ... OK
* checking examples ... OK
Examples with CPU (user + system) or elapsed time > 5s
                                   user system elapsed
analyzeSNPhood                  122.300  1.845 125.704
plotAllelicBiasResults           38.053  0.143  38.206
plotFDRResults                   35.994  0.147  36.133
plotAndSummarizeAllelicBiasTest  34.737  0.116  34.856
testForAllelicBiases             34.464  0.115  34.567
annotationBins2                  10.312  0.024  10.364
associateGenotypes                8.110  0.032   8.164
* checking for unstated dependencies in vignettes ... OK
* checking package vignettes ... OK
* checking running R code from vignettes ... SKIPPED
* checking re-building of vignette outputs ... SKIPPED
* checking PDF version of manual ... OK
* DONE

Status: 2 NOTEs
See
  ‘/home/biocbuild/bbs-3.20-bioc/meat/SNPhood.Rcheck/00check.log’
for details.


Installation output

SNPhood.Rcheck/00install.out

##############################################################################
##############################################################################
###
### Running command:
###
###   /home/biocbuild/R/R/bin/R CMD INSTALL SNPhood
###
##############################################################################
##############################################################################


* installing to library ‘/home/biocbuild/R/R-4.4.2/site-library’
* installing *source* package ‘SNPhood’ ...
** using staged installation
** R
** data
*** moving datasets to lazyload DB
** byte-compile and prepare package for lazy loading
** help
*** installing help indices
** building package indices
** installing vignettes
** testing if installed package can be loaded from temporary location
** testing if installed package can be loaded from final location
** testing if installed package keeps a record of temporary installation path
* DONE (SNPhood)

Tests output


Example timings

SNPhood.Rcheck/SNPhood-Ex.timings

nameusersystemelapsed
analyzeSNPhood122.300 1.845125.704
annotation-methods0.3190.0160.335
annotationBins0.2150.0000.215
annotationBins210.312 0.02410.364
annotationDatasets0.1900.0000.191
annotationReadGroups1.1300.0081.142
annotationRegions0.220.000.22
associateGenotypes8.1100.0328.164
bins-methods0.1830.0000.184
changeObjectIntegrityChecking0.220.000.22
collectFiles0.0380.0000.038
convertToAllelicFractions0.2480.0000.249
counts-method0.320.000.32
datasets-methods1.0680.0001.071
deleteDatasets0.2140.0080.223
deleteReadGroups0.2230.0000.224
deleteRegions0.2490.0000.250
enrichment-methods0.2170.0000.217
getDefaultParameterList000
mergeReadGroups0.2740.0000.275
parameters-methods0.2030.0000.204
plotAllelicBiasResults38.053 0.14338.206
plotAllelicBiasResultsOverview1.3650.0321.401
plotAndCalculateCorrelationDatasets1.4290.0601.493
plotAndCalculateWeakAndStrongGenotype0.9050.0200.927
plotAndClusterMatrix0.7490.0160.768
plotAndSummarizeAllelicBiasTest34.737 0.11634.856
plotBinCounts1.7910.0281.824
plotClusterAverage0.7140.0080.725
plotFDRResults35.994 0.14736.133
plotGenotypesPerCluster0.6210.0160.638
plotGenotypesPerSNP0.5230.0120.537
plotRegionCounts3.5530.0243.586
readGroups-methods0.1790.0000.180
regions-methods0.2010.0120.213
renameBins0.1970.0000.197
renameDatasets0.2000.0040.204
renameReadGroups0.2050.0000.206
renameRegions3.2040.0003.213
results1.7261.4103.142
testForAllelicBiases34.464 0.11534.567