Back to Multiple platform build/check report for BioC 3.20: simplified long |
|
This page was generated on 2025-02-06 12:09 -0500 (Thu, 06 Feb 2025).
Hostname | OS | Arch (*) | R version | Installed pkgs |
---|---|---|---|---|
nebbiolo2 | Linux (Ubuntu 24.04.1 LTS) | x86_64 | 4.4.2 (2024-10-31) -- "Pile of Leaves" | 4753 |
palomino8 | Windows Server 2022 Datacenter | x64 | 4.4.2 (2024-10-31 ucrt) -- "Pile of Leaves" | 4501 |
merida1 | macOS 12.7.5 Monterey | x86_64 | 4.4.2 (2024-10-31) -- "Pile of Leaves" | 4524 |
kjohnson1 | macOS 13.6.6 Ventura | arm64 | 4.4.2 (2024-10-31) -- "Pile of Leaves" | 4476 |
taishan | Linux (openEuler 24.03 LTS) | aarch64 | 4.4.2 (2024-10-31) -- "Pile of Leaves" | 4407 |
Click on any hostname to see more info about the system (e.g. compilers) (*) as reported by 'uname -p', except on Windows and Mac OS X |
Package 1992/2289 | Hostname | OS / Arch | INSTALL | BUILD | CHECK | BUILD BIN | ||||||||
SMITE 1.34.0 (landing page) Neil Ari Wijetunga
| nebbiolo2 | Linux (Ubuntu 24.04.1 LTS) / x86_64 | OK | OK | OK | ![]() | ||||||||
palomino8 | Windows Server 2022 Datacenter / x64 | OK | OK | OK | OK | ![]() | ||||||||
merida1 | macOS 12.7.5 Monterey / x86_64 | OK | OK | OK | NA | |||||||||
kjohnson1 | macOS 13.6.6 Ventura / arm64 | OK | OK | OK | OK | ![]() | ||||||||
taishan | Linux (openEuler 24.03 LTS) / aarch64 | OK | OK | OK | ||||||||||
To the developers/maintainers of the SMITE package: - Allow up to 24 hours (and sometimes 48 hours) for your latest push to git@git.bioconductor.org:packages/SMITE.git to reflect on this report. See Troubleshooting Build Report for more information. - Use the following Renviron settings to reproduce errors and warnings. - If 'R CMD check' started to fail recently on the Linux builder(s) over a missing dependency, add the missing dependency to 'Suggests:' in your DESCRIPTION file. See Renviron.bioc for more information. |
Package: SMITE |
Version: 1.34.0 |
Command: /Library/Frameworks/R.framework/Resources/bin/R CMD check --install=check:SMITE.install-out.txt --library=/Library/Frameworks/R.framework/Resources/library --no-vignettes --timings SMITE_1.34.0.tar.gz |
StartedAt: 2025-02-04 10:23:21 -0500 (Tue, 04 Feb 2025) |
EndedAt: 2025-02-04 10:33:27 -0500 (Tue, 04 Feb 2025) |
EllapsedTime: 606.2 seconds |
RetCode: 0 |
Status: OK |
CheckDir: SMITE.Rcheck |
Warnings: 0 |
############################################################################## ############################################################################## ### ### Running command: ### ### /Library/Frameworks/R.framework/Resources/bin/R CMD check --install=check:SMITE.install-out.txt --library=/Library/Frameworks/R.framework/Resources/library --no-vignettes --timings SMITE_1.34.0.tar.gz ### ############################################################################## ############################################################################## * using log directory ‘/Users/biocbuild/bbs-3.20-bioc/meat/SMITE.Rcheck’ * using R version 4.4.2 (2024-10-31) * using platform: x86_64-apple-darwin20 * R was compiled by Apple clang version 14.0.0 (clang-1400.0.29.202) GNU Fortran (GCC) 12.2.0 * running under: macOS Monterey 12.7.6 * using session charset: UTF-8 * using option ‘--no-vignettes’ * checking for file ‘SMITE/DESCRIPTION’ ... OK * checking extension type ... Package * this is package ‘SMITE’ version ‘1.34.0’ * checking package namespace information ... OK * checking package dependencies ... OK * checking if this is a source package ... OK * checking if there is a namespace ... OK * checking for hidden files and directories ... OK * checking for portable file names ... OK * checking for sufficient/correct file permissions ... OK * checking whether package ‘SMITE’ can be installed ... OK * checking installed package size ... OK * checking package directory ... OK * checking ‘build’ directory ... OK * checking DESCRIPTION meta-information ... OK * checking top-level files ... OK * checking for left-over files ... OK * checking index information ... OK * checking package subdirectories ... OK * checking code files for non-ASCII characters ... OK * checking R files for syntax errors ... OK * checking whether the package can be loaded ... OK * checking whether the package can be loaded with stated dependencies ... OK * checking whether the package can be unloaded cleanly ... OK * checking whether the namespace can be loaded with stated dependencies ... OK * checking whether the namespace can be unloaded cleanly ... OK * checking dependencies in R code ... OK * checking S3 generic/method consistency ... OK * checking replacement functions ... OK * checking foreign function calls ... OK * checking R code for possible problems ... OK * checking Rd files ... OK * checking Rd metadata ... OK * checking Rd cross-references ... OK * checking for missing documentation entries ... OK * checking for code/documentation mismatches ... OK * checking Rd \usage sections ... OK * checking Rd contents ... OK * checking for unstated dependencies in examples ... OK * checking contents of ‘data’ directory ... OK * checking data for non-ASCII characters ... OK * checking data for ASCII and uncompressed saves ... OK * checking sizes of PDF files under ‘inst/doc’ ... OK * checking files in ‘vignettes’ ... OK * checking examples ... OK Examples with CPU (user + system) or elapsed time > 5s user system elapsed convertGeneIds 6.362 0.603 8.111 * checking for unstated dependencies in vignettes ... OK * checking package vignettes ... OK * checking running R code from vignettes ... SKIPPED * checking re-building of vignette outputs ... SKIPPED * checking PDF version of manual ... OK * DONE Status: OK
SMITE.Rcheck/00install.out
############################################################################## ############################################################################## ### ### Running command: ### ### /Library/Frameworks/R.framework/Resources/bin/R CMD INSTALL SMITE ### ############################################################################## ############################################################################## * installing to library ‘/Library/Frameworks/R.framework/Versions/4.4-x86_64/Resources/library’ * installing *source* package ‘SMITE’ ... ** using staged installation ** R ** data ** inst ** byte-compile and prepare package for lazy loading ** help *** installing help indices ** building package indices ** installing vignettes ** testing if installed package can be loaded from temporary location ** testing if installed package can be loaded from final location ** testing if installed package keeps a record of temporary installation path * DONE (SMITE)
SMITE.Rcheck/SMITE-Ex.timings
name | user | system | elapsed | |
Reactome.Symbol.Igraph | 0.244 | 0.025 | 0.284 | |
SMITE-package | 0.685 | 0.031 | 0.900 | |
addShadowText | 0.004 | 0.001 | 0.005 | |
annotateExpression | 0.363 | 0.010 | 0.399 | |
annotateModification | 0.000 | 0.001 | 0.002 | |
convertGeneIds | 6.362 | 0.603 | 8.111 | |
curated_expression | 0.069 | 0.004 | 0.074 | |
extractExpression | 0.372 | 0.010 | 0.383 | |
extractGOseq | 0.128 | 0.006 | 0.134 | |
extractModification | 1.685 | 0.035 | 1.741 | |
extractModules | 0.121 | 0.006 | 0.127 | |
extractScores | 0.124 | 0.007 | 0.132 | |
genes_for_conversiontest | 2.485 | 0.027 | 2.553 | |
hg19_gene_bed | 0.229 | 0.005 | 0.247 | |
highScores | 0.130 | 0.007 | 0.144 | |
histone_h3k4me1 | 0.117 | 0.007 | 0.132 | |
makePvalueAnnotation | 1.404 | 0.033 | 1.532 | |
makePvalueObject | 0.096 | 0.007 | 0.115 | |
methylationdata | 0.091 | 0.005 | 0.106 | |
normalizePval | 0.130 | 0.005 | 0.150 | |
plotCompareScores | 1.010 | 0.039 | 1.157 | |
plotDensityPval | 0.198 | 0.010 | 0.224 | |
plotModule | 0.128 | 0.005 | 0.144 | |
removeModification | 0.098 | 0.006 | 0.106 | |
runBioNet | 0.128 | 0.005 | 0.135 | |
runGOseq | 0.130 | 0.006 | 0.140 | |
runSpinglass | 1.168 | 0.041 | 1.269 | |
scorePval | 0.127 | 0.005 | 0.135 | |
stoufferTest | 0.003 | 0.000 | 0.005 | |
test_annotation_score_data | 0.181 | 0.008 | 0.216 | |