| Back to Multiple platform build/check report for BioC 3.20: simplified long |
|
This page was generated on 2024-11-20 12:02 -0500 (Wed, 20 Nov 2024).
| Hostname | OS | Arch (*) | R version | Installed pkgs |
|---|---|---|---|---|
| teran2 | Linux (Ubuntu 24.04.1 LTS) | x86_64 | 4.4.2 (2024-10-31) -- "Pile of Leaves" | 4481 |
| nebbiolo2 | Linux (Ubuntu 24.04.1 LTS) | x86_64 | 4.4.2 (2024-10-31) -- "Pile of Leaves" | 4479 |
| palomino8 | Windows Server 2022 Datacenter | x64 | 4.4.2 (2024-10-31 ucrt) -- "Pile of Leaves" | 4359 |
| lconway | macOS 12.7.1 Monterey | x86_64 | 4.4.1 (2024-06-14) -- "Race for Your Life" | 4539 |
| kunpeng2 | Linux (openEuler 22.03 LTS-SP1) | aarch64 | 4.4.1 (2024-06-14) -- "Race for Your Life" | 4493 |
| Click on any hostname to see more info about the system (e.g. compilers) (*) as reported by 'uname -p', except on Windows and Mac OS X | ||||
| Package 1847/2289 | Hostname | OS / Arch | INSTALL | BUILD | CHECK | BUILD BIN | ||||||||
| SC3 1.34.0 (landing page) Vladimir Kiselev
| teran2 | Linux (Ubuntu 24.04.1 LTS) / x86_64 | OK | OK | OK | |||||||||
| nebbiolo2 | Linux (Ubuntu 24.04.1 LTS) / x86_64 | OK | OK | OK | ||||||||||
| palomino8 | Windows Server 2022 Datacenter / x64 | OK | OK | OK | OK | |||||||||
| lconway | macOS 12.7.1 Monterey / x86_64 | OK | OK | OK | OK | |||||||||
| kunpeng2 | Linux (openEuler 22.03 LTS-SP1) / aarch64 | OK | OK | OK | ||||||||||
|
To the developers/maintainers of the SC3 package: - Allow up to 24 hours (and sometimes 48 hours) for your latest push to git@git.bioconductor.org:packages/SC3.git to reflect on this report. See Troubleshooting Build Report for more information. - Use the following Renviron settings to reproduce errors and warnings. - If 'R CMD check' started to fail recently on the Linux builder(s) over a missing dependency, add the missing dependency to 'Suggests:' in your DESCRIPTION file. See Renviron.bioc for more information. |
| Package: SC3 |
| Version: 1.34.0 |
| Command: /home/biocbuild/bbs-3.20-bioc/R/bin/R CMD INSTALL SC3 |
| StartedAt: 2024-11-19 16:25:04 -0500 (Tue, 19 Nov 2024) |
| EndedAt: 2024-11-19 16:25:40 -0500 (Tue, 19 Nov 2024) |
| EllapsedTime: 36.8 seconds |
| RetCode: 0 |
| Status: OK |
##############################################################################
##############################################################################
###
### Running command:
###
### /home/biocbuild/bbs-3.20-bioc/R/bin/R CMD INSTALL SC3
###
##############################################################################
##############################################################################
* installing to library ‘/media/volume/teran2_disk/biocbuild/bbs-3.20-bioc/R/site-library’
* installing *source* package ‘SC3’ ...
** using staged installation
** libs
using C++ compiler: ‘g++ (Ubuntu 13.2.0-23ubuntu4) 13.2.0’
g++ -std=gnu++17 -I"/home/biocbuild/bbs-3.20-bioc/R/include" -DNDEBUG -I'/media/volume/teran2_disk/biocbuild/bbs-3.20-bioc/R/site-library/Rcpp/include' -I'/media/volume/teran2_disk/biocbuild/bbs-3.20-bioc/R/site-library/RcppArmadillo/include' -I/usr/local/include -fpic -g -O2 -Wall -c RcppExports.cpp -o RcppExports.o
g++ -std=gnu++17 -I"/home/biocbuild/bbs-3.20-bioc/R/include" -DNDEBUG -I'/media/volume/teran2_disk/biocbuild/bbs-3.20-bioc/R/site-library/Rcpp/include' -I'/media/volume/teran2_disk/biocbuild/bbs-3.20-bioc/R/site-library/RcppArmadillo/include' -I/usr/local/include -fpic -g -O2 -Wall -c cppFunctions.cpp -o cppFunctions.o
cppFunctions.cpp: In function ‘arma::mat consmx(arma::mat)’:
cppFunctions.cpp:63:23: warning: comparison of integer expressions of different signedness: ‘int’ and ‘const arma::uword’ {aka ‘const unsigned int’} [-Wsign-compare]
63 | for (j = 0; j < dat.n_cols; j++) {
| ~~^~~~~~~~~~~~
cppFunctions.cpp:64:31: warning: comparison of integer expressions of different signedness: ‘int’ and ‘const arma::uword’ {aka ‘const unsigned int’} [-Wsign-compare]
64 | for (i = 0; i < dat.n_rows; i++) {
| ~~^~~~~~~~~~~~
cppFunctions.cpp:65:43: warning: comparison of integer expressions of different signedness: ‘int’ and ‘const arma::uword’ {aka ‘const unsigned int’} [-Wsign-compare]
65 | for (k = i + 1; k < dat.n_rows; k++) {
| ~~^~~~~~~~~~~~
g++ -std=gnu++17 -shared -L/home/biocbuild/bbs-3.20-bioc/R/lib -L/usr/local/lib -o SC3.so RcppExports.o cppFunctions.o -llapack -L/home/biocbuild/bbs-3.20-bioc/R/lib -lRblas -lgfortran -lm -lquadmath -L/home/biocbuild/bbs-3.20-bioc/R/lib -lR
installing to /media/volume/teran2_disk/biocbuild/bbs-3.20-bioc/R/site-library/00LOCK-SC3/00new/SC3/libs
** R
** data
*** moving datasets to lazyload DB
** inst
** byte-compile and prepare package for lazy loading
** help
*** installing help indices
** building package indices
** installing vignettes
** testing if installed package can be loaded from temporary location
** checking absolute paths in shared objects and dynamic libraries
** testing if installed package can be loaded from final location
** testing if installed package keeps a record of temporary installation path
* DONE (SC3)