| Back to Multiple platform build/check report for BioC 3.20: simplified long |
|
This page was generated on 2025-04-02 19:29 -0400 (Wed, 02 Apr 2025).
| Hostname | OS | Arch (*) | R version | Installed pkgs |
|---|---|---|---|---|
| nebbiolo2 | Linux (Ubuntu 24.04.1 LTS) | x86_64 | 4.4.3 (2025-02-28) -- "Trophy Case" | 4764 |
| palomino8 | Windows Server 2022 Datacenter | x64 | 4.4.3 (2025-02-28 ucrt) -- "Trophy Case" | 4495 |
| merida1 | macOS 12.7.5 Monterey | x86_64 | 4.4.3 (2025-02-28) -- "Trophy Case" | 4522 |
| kjohnson1 | macOS 13.6.6 Ventura | arm64 | 4.4.3 (2025-02-28) -- "Trophy Case" | 4449 |
| taishan | Linux (openEuler 24.03 LTS) | aarch64 | 4.4.3 (2025-02-28) -- "Trophy Case" | 4426 |
| Click on any hostname to see more info about the system (e.g. compilers) (*) as reported by 'uname -p', except on Windows and Mac OS X | ||||
| Package 1683/2289 | Hostname | OS / Arch | INSTALL | BUILD | CHECK | BUILD BIN | ||||||||
| RcisTarget 1.26.0 (landing page) Gert Hulselmans
| nebbiolo2 | Linux (Ubuntu 24.04.1 LTS) / x86_64 | OK | OK | OK | |||||||||
| palomino8 | Windows Server 2022 Datacenter / x64 | OK | OK | OK | OK | |||||||||
| merida1 | macOS 12.7.5 Monterey / x86_64 | OK | OK | OK | OK | |||||||||
| kjohnson1 | macOS 13.6.6 Ventura / arm64 | OK | OK | OK | OK | |||||||||
| taishan | Linux (openEuler 24.03 LTS) / aarch64 | OK | OK | OK | ||||||||||
|
To the developers/maintainers of the RcisTarget package: - Allow up to 24 hours (and sometimes 48 hours) for your latest push to git@git.bioconductor.org:packages/RcisTarget.git to reflect on this report. See Troubleshooting Build Report for more information. - Use the following Renviron settings to reproduce errors and warnings. - If 'R CMD check' started to fail recently on the Linux builder(s) over a missing dependency, add the missing dependency to 'Suggests:' in your DESCRIPTION file. See Renviron.bioc for more information. |
| Package: RcisTarget |
| Version: 1.26.0 |
| Command: /home/biocbuild/bbs-3.20-bioc/R/bin/R CMD check --install=check:RcisTarget.install-out.txt --library=/home/biocbuild/bbs-3.20-bioc/R/site-library --timings RcisTarget_1.26.0.tar.gz |
| StartedAt: 2025-04-01 01:22:00 -0400 (Tue, 01 Apr 2025) |
| EndedAt: 2025-04-01 01:28:50 -0400 (Tue, 01 Apr 2025) |
| EllapsedTime: 409.5 seconds |
| RetCode: 0 |
| Status: OK |
| CheckDir: RcisTarget.Rcheck |
| Warnings: 0 |
##############################################################################
##############################################################################
###
### Running command:
###
### /home/biocbuild/bbs-3.20-bioc/R/bin/R CMD check --install=check:RcisTarget.install-out.txt --library=/home/biocbuild/bbs-3.20-bioc/R/site-library --timings RcisTarget_1.26.0.tar.gz
###
##############################################################################
##############################################################################
* using log directory ‘/home/biocbuild/bbs-3.20-bioc/meat/RcisTarget.Rcheck’
* using R version 4.4.3 (2025-02-28)
* using platform: x86_64-pc-linux-gnu
* R was compiled by
gcc (Ubuntu 13.3.0-6ubuntu2~24.04) 13.3.0
GNU Fortran (Ubuntu 13.3.0-6ubuntu2~24.04) 13.3.0
* running under: Ubuntu 24.04.2 LTS
* using session charset: UTF-8
* checking for file ‘RcisTarget/DESCRIPTION’ ... OK
* checking extension type ... Package
* this is package ‘RcisTarget’ version ‘1.26.0’
* checking package namespace information ... OK
* checking package dependencies ... OK
* checking if this is a source package ... OK
* checking if there is a namespace ... OK
* checking for hidden files and directories ... OK
* checking for portable file names ... OK
* checking for sufficient/correct file permissions ... OK
* checking whether package ‘RcisTarget’ can be installed ... OK
* checking installed package size ... NOTE
installed size is 12.0Mb
sub-directories of 1Mb or more:
data 11.4Mb
* checking package directory ... OK
* checking ‘build’ directory ... OK
* checking DESCRIPTION meta-information ... OK
* checking top-level files ... OK
* checking for left-over files ... OK
* checking index information ... OK
* checking package subdirectories ... OK
* checking code files for non-ASCII characters ... OK
* checking R files for syntax errors ... OK
* checking whether the package can be loaded ... OK
* checking whether the package can be loaded with stated dependencies ... OK
* checking whether the package can be unloaded cleanly ... OK
* checking whether the namespace can be loaded with stated dependencies ... OK
* checking whether the namespace can be unloaded cleanly ... OK
* checking loading without being on the library search path ... OK
* checking dependencies in R code ... OK
* checking S3 generic/method consistency ... OK
* checking replacement functions ... OK
* checking foreign function calls ... OK
* checking R code for possible problems ... OK
* checking Rd files ... NOTE
checkRd: (-1) dbRegionsLoc.Rd:11-14: Lost braces in \itemize; meant \describe ?
checkRd: (-1) dbRegionsLoc.Rd:16-19: Lost braces in \itemize; meant \describe ?
checkRd: (-1) importAnnotations.Rd:44: Lost braces in \itemize; meant \describe ?
checkRd: (-1) importAnnotations.Rd:45: Lost braces in \itemize; meant \describe ?
checkRd: (-1) importAnnotations.Rd:46: Lost braces in \itemize; meant \describe ?
checkRd: (-1) importAnnotations.Rd:48-51: Lost braces in \itemize; meant \describe ?
checkRd: (-1) importAnnotations.Rd:24: Lost braces in \itemize; \value handles \item{}{} directly
checkRd: (-1) importAnnotations.Rd:25: Lost braces in \itemize; \value handles \item{}{} directly
checkRd: (-1) importAnnotations.Rd:27-31: Lost braces in \itemize; \value handles \item{}{} directly
checkRd: (-1) importAnnotations.Rd:32: Lost braces in \itemize; \value handles \item{}{} directly
checkRd: (-1) importAnnotations.Rd:33-36: Lost braces in \itemize; \value handles \item{}{} directly
checkRd: (-1) motifAnnotations.Rd:18-20: Lost braces in \itemize; meant \describe ?
checkRd: (-1) motifAnnotations.Rd:22-24: Lost braces in \itemize; meant \describe ?
checkRd: (-1) motifAnnotations.Rd:26-28: Lost braces in \itemize; meant \describe ?
checkRd: (-1) motifAnnotations.Rd:54: Lost braces in \itemize; meant \describe ?
checkRd: (-1) motifAnnotations.Rd:55: Lost braces in \itemize; meant \describe ?
checkRd: (-1) motifAnnotations.Rd:58-61: Lost braces in \itemize; meant \describe ?
checkRd: (-1) motifAnnotations.Rd:62: Lost braces in \itemize; meant \describe ?
checkRd: (-1) motifAnnotations.Rd:63-66: Lost braces in \itemize; meant \describe ?
* checking Rd metadata ... OK
* checking Rd cross-references ... OK
* checking for missing documentation entries ... OK
* checking for code/documentation mismatches ... OK
* checking Rd \usage sections ... OK
* checking Rd contents ... OK
* checking for unstated dependencies in examples ... OK
* checking contents of ‘data’ directory ... OK
* checking data for non-ASCII characters ... OK
* checking data for ASCII and uncompressed saves ... OK
* checking files in ‘vignettes’ ... OK
* checking examples ... OK
Examples with CPU (user + system) or elapsed time > 5s
user system elapsed
addMotifAnnotation 19.041 0.950 19.938
addSignificantGenes 16.153 1.067 17.199
getMotifAnnotation 8.979 0.219 9.158
aucScores-class 8.727 0.341 9.069
reRank 7.596 0.070 7.666
rankingRcisTarget-class 7.152 0.160 7.313
* checking for unstated dependencies in ‘tests’ ... OK
* checking tests ...
Running ‘testthat.R’
OK
* checking for unstated dependencies in vignettes ... OK
* checking package vignettes ... OK
* checking re-building of vignette outputs ... OK
* checking PDF version of manual ... OK
* DONE
Status: 2 NOTEs
See
‘/home/biocbuild/bbs-3.20-bioc/meat/RcisTarget.Rcheck/00check.log’
for details.
RcisTarget.Rcheck/00install.out
############################################################################## ############################################################################## ### ### Running command: ### ### /home/biocbuild/bbs-3.20-bioc/R/bin/R CMD INSTALL RcisTarget ### ############################################################################## ############################################################################## * installing to library ‘/home/biocbuild/bbs-3.20-bioc/R/site-library’ * installing *source* package ‘RcisTarget’ ... ** using staged installation ** R ** data ** inst ** byte-compile and prepare package for lazy loading ** help *** installing help indices ** building package indices ** installing vignettes ** testing if installed package can be loaded from temporary location ** testing if installed package can be loaded from final location ** testing if installed package keeps a record of temporary installation path * DONE (RcisTarget)
RcisTarget.Rcheck/tests/testthat.Rout
R version 4.4.3 (2025-02-28) -- "Trophy Case"
Copyright (C) 2025 The R Foundation for Statistical Computing
Platform: x86_64-pc-linux-gnu
R is free software and comes with ABSOLUTELY NO WARRANTY.
You are welcome to redistribute it under certain conditions.
Type 'license()' or 'licence()' for distribution details.
R is a collaborative project with many contributors.
Type 'contributors()' for more information and
'citation()' on how to cite R or R packages in publications.
Type 'demo()' for some demos, 'help()' for on-line help, or
'help.start()' for an HTML browser interface to help.
Type 'q()' to quit R.
> library(testthat)
> library(RcisTarget)
>
> test_check("RcisTarget")
[ FAIL 0 | WARN 0 | SKIP 0 | PASS 58 ]
>
> proc.time()
user system elapsed
38.566 5.956 43.847
RcisTarget.Rcheck/RcisTarget-Ex.timings
| name | user | system | elapsed | |
| RcisTarget | 0.904 | 0.081 | 0.987 | |
| addLogo | 0.107 | 0.011 | 0.118 | |
| addMotifAnnotation | 19.041 | 0.950 | 19.938 | |
| addSignificantGenes | 16.153 | 1.067 | 17.199 | |
| aucScores-class | 8.727 | 0.341 | 9.069 | |
| calcAUC | 0.000 | 0.000 | 0.001 | |
| convertToTargetRegions | 0 | 0 | 0 | |
| getDbRegionsLoc | 0.000 | 0.000 | 0.001 | |
| getMotifAnnotation | 8.979 | 0.219 | 9.158 | |
| importAnnotations | 0.791 | 0.004 | 0.795 | |
| importRankings | 0.653 | 0.004 | 0.657 | |
| rankingRcisTarget-class | 7.152 | 0.160 | 7.313 | |
| reRank | 7.596 | 0.070 | 7.666 | |
| showLogo | 0.038 | 0.002 | 0.041 | |