| Back to Multiple platform build/check report for BioC 3.20: simplified long |
|
This page was generated on 2024-11-20 12:06 -0500 (Wed, 20 Nov 2024).
| Hostname | OS | Arch (*) | R version | Installed pkgs |
|---|---|---|---|---|
| teran2 | Linux (Ubuntu 24.04.1 LTS) | x86_64 | 4.4.2 (2024-10-31) -- "Pile of Leaves" | 4481 |
| nebbiolo2 | Linux (Ubuntu 24.04.1 LTS) | x86_64 | 4.4.2 (2024-10-31) -- "Pile of Leaves" | 4479 |
| palomino8 | Windows Server 2022 Datacenter | x64 | 4.4.2 (2024-10-31 ucrt) -- "Pile of Leaves" | 4359 |
| lconway | macOS 12.7.1 Monterey | x86_64 | 4.4.1 (2024-06-14) -- "Race for Your Life" | 4539 |
| kunpeng2 | Linux (openEuler 22.03 LTS-SP1) | aarch64 | 4.4.1 (2024-06-14) -- "Race for Your Life" | 4493 |
| Click on any hostname to see more info about the system (e.g. compilers) (*) as reported by 'uname -p', except on Windows and Mac OS X | ||||
| Package 1818/2289 | Hostname | OS / Arch | INSTALL | BUILD | CHECK | BUILD BIN | ||||||||
| RTopper 1.52.0 (landing page) Luigi Marchionni
| teran2 | Linux (Ubuntu 24.04.1 LTS) / x86_64 | OK | OK | OK | |||||||||
| nebbiolo2 | Linux (Ubuntu 24.04.1 LTS) / x86_64 | OK | OK | OK | ||||||||||
| palomino8 | Windows Server 2022 Datacenter / x64 | OK | OK | OK | OK | |||||||||
| lconway | macOS 12.7.1 Monterey / x86_64 | OK | OK | OK | OK | |||||||||
| kunpeng2 | Linux (openEuler 22.03 LTS-SP1) / aarch64 | OK | OK | OK | ||||||||||
|
To the developers/maintainers of the RTopper package: - Allow up to 24 hours (and sometimes 48 hours) for your latest push to git@git.bioconductor.org:packages/RTopper.git to reflect on this report. See Troubleshooting Build Report for more information. - Use the following Renviron settings to reproduce errors and warnings. - If 'R CMD check' started to fail recently on the Linux builder(s) over a missing dependency, add the missing dependency to 'Suggests:' in your DESCRIPTION file. See Renviron.bioc for more information. |
| Package: RTopper |
| Version: 1.52.0 |
| Command: /Library/Frameworks/R.framework/Resources/bin/R CMD check --install=check:RTopper.install-out.txt --library=/Library/Frameworks/R.framework/Resources/library --no-vignettes --timings RTopper_1.52.0.tar.gz |
| StartedAt: 2024-11-20 02:09:26 -0500 (Wed, 20 Nov 2024) |
| EndedAt: 2024-11-20 02:14:11 -0500 (Wed, 20 Nov 2024) |
| EllapsedTime: 285.3 seconds |
| RetCode: 0 |
| Status: OK |
| CheckDir: RTopper.Rcheck |
| Warnings: 0 |
##############################################################################
##############################################################################
###
### Running command:
###
### /Library/Frameworks/R.framework/Resources/bin/R CMD check --install=check:RTopper.install-out.txt --library=/Library/Frameworks/R.framework/Resources/library --no-vignettes --timings RTopper_1.52.0.tar.gz
###
##############################################################################
##############################################################################
* using log directory ‘/Users/biocbuild/bbs-3.20-bioc/meat/RTopper.Rcheck’
* using R version 4.4.1 (2024-06-14)
* using platform: x86_64-apple-darwin20
* R was compiled by
Apple clang version 14.0.0 (clang-1400.0.29.202)
GNU Fortran (GCC) 12.2.0
* running under: macOS Monterey 12.7.6
* using session charset: UTF-8
* using option ‘--no-vignettes’
* checking for file ‘RTopper/DESCRIPTION’ ... OK
* checking extension type ... Package
* this is package ‘RTopper’ version ‘1.52.0’
* checking package namespace information ... OK
* checking package dependencies ...Warning: unable to access index for repository https://CRAN.R-project.org/src/contrib:
cannot open URL 'https://CRAN.R-project.org/src/contrib/PACKAGES'
OK
* checking if this is a source package ... OK
* checking if there is a namespace ... OK
* checking for hidden files and directories ... OK
* checking for portable file names ... OK
* checking for sufficient/correct file permissions ... OK
* checking whether package ‘RTopper’ can be installed ... OK
* checking installed package size ... OK
* checking package directory ... OK
* checking ‘build’ directory ... OK
* checking DESCRIPTION meta-information ... OK
* checking top-level files ... OK
* checking for left-over files ... OK
* checking index information ... OK
* checking package subdirectories ... OK
* checking code files for non-ASCII characters ... OK
* checking R files for syntax errors ... OK
* checking whether the package can be loaded ... OK
* checking whether the package can be loaded with stated dependencies ... OK
* checking whether the package can be unloaded cleanly ... OK
* checking whether the namespace can be loaded with stated dependencies ... OK
* checking whether the namespace can be unloaded cleanly ... OK
* checking dependencies in R code ... OK
* checking S3 generic/method consistency ... OK
* checking replacement functions ... OK
* checking foreign function calls ... OK
* checking R code for possible problems ... OK
* checking Rd files ... NOTE
checkRd: (-1) adjustPvalGSE.Rd:25: Lost braces
25 | \code{"SidakSS"}, code{"SidakSD"}, \code{"BH"} (the default),
| ^
checkRd: (-1) computeDrStat.Rd:39: Lost braces
39 | \code{"dev"}{: this approach computes the score as the difference of deviances;}
| ^
checkRd: (-1) computeDrStat.Rd:41-42: Lost braces
41 | \code{"aic"}{: this approach computes the score as the Akaike
| ^
checkRd: (-1) computeDrStat.Rd:44: Lost braces
44 | \code{"bic"}{: this approach computes the score as the penalized likelihood ratio;}
| ^
checkRd: (-1) dat.Rd:31: Lost braces
31 | \code{"dat.affy"}{: DGE obtained using Affymetrix microarrays;}
| ^
checkRd: (-1) dat.Rd:33: Lost braces
33 | \code{"dat.agilent"}{: DGE obtained using Agilent microarrays;}
| ^
checkRd: (-1) dat.Rd:35: Lost braces
35 | \code{"dat.cnvHarvard"}{: CNV data obtained at Harvard;}
| ^
checkRd: (-1) dat.Rd:37: Lost braces
37 | \code{"dat.cnvMskcc"}{: CNV data obtained at Memorial Sloan Ketterng Cancer Center;}
| ^
checkRd: (-1) fgsList.Rd:25-27: Lost braces
25 | \code{"go"}{: this is a \code{list} of 5 \code{character} vectors,
| ^
checkRd: (-1) fgsList.Rd:29-31: Lost braces
29 | \code{"kegg"}{: this is a \code{list} of 5 \code{character} vectors,
| ^
checkRd: (-1) gseResultsSep.Rd:30-36: Lost braces
30 | \code{"dat.affy"}{: a \code{list} of legnth two:
| ^
checkRd: (-1) gseResultsSep.Rd:38-44: Lost braces
38 | \code{"dat.agilent"}{: a \code{list} of legnth two:
| ^
checkRd: (-1) gseResultsSep.Rd:46-52: Lost braces
46 | \code{"dat.cnvHarvard"}{: a \code{list} of legnth two:
| ^
checkRd: (-1) gseResultsSep.Rd:54-60: Lost braces
54 | \code{"dat.cnvMskcc"}{: a \code{list} of legnth two:
| ^
checkRd: (-1) intScores.Rd:27-29: Lost braces
27 | \code{"integrated"}{: a \code{numeric} vector of length 500,
| ^
checkRd: (-1) pheno.Rd:24: Lost braces
24 | \code{"Sample"}{: the first column contains the patients identifiers;}
| ^
checkRd: (-1) pheno.Rd:26-27: Lost braces
26 | \code{"Class"}{: the second columns contain a numeric indicator
| ^
checkRd: (-1) runBatchGSE.Rd:43-45: Lost braces
43 | \code{absolute}{ logical, this specifies whether the absolute values of
| ^
checkRd: (-1) runBatchGSE.Rd:47-54: Lost braces
47 | \code{gseFunc}{ a function to perform GSE analysis. If not specified
| ^
checkRd: (-1) runBatchGSE.Rd:58-61: Lost braces
58 | \code{type}{ character, specifies the type of statistics used to rank
| ^
checkRd: (-1) runBatchGSE.Rd:63-66: Lost braces
63 | \code{alternative}{ character, defines the alternative with the
| ^
checkRd: (-1) runBatchGSE.Rd:68-69: Lost braces
68 | \code{ranks.only}{ logical, if \code{TRUE} (default) only ranks will be
| ^
checkRd: (-1) runBatchGSE.Rd:71-72: Lost braces
71 | \code{nsim}{ numeric, the number of randomly selected sets of genes to
| ^
checkRd: (-1) sepScores.Rd:28-30: Lost braces
28 | \code{"dat.affy"}{: a \code{numeric} vector of length 500,
| ^
checkRd: (-1) sepScores.Rd:32-34: Lost braces
32 | \code{"dat.agilent"}{: a \code{numeric} vector of length 500,
| ^
checkRd: (-1) sepScores.Rd:36-38: Lost braces
36 | \code{"dat.cnvHarvard"}{: a \code{numeric} vector of length 500,
| ^
checkRd: (-1) sepScores.Rd:40-42: Lost braces
40 | \code{"dat.cnvMskcc"}{: a \code{numeric} vector of length 500,
| ^
* checking Rd metadata ... OK
* checking Rd cross-references ... OK
* checking for missing documentation entries ... OK
* checking for code/documentation mismatches ... OK
* checking Rd \usage sections ... OK
* checking Rd contents ... OK
* checking for unstated dependencies in examples ... OK
* checking contents of ‘data’ directory ... OK
* checking data for non-ASCII characters ... OK
* checking data for ASCII and uncompressed saves ... OK
* checking sizes of PDF files under ‘inst/doc’ ... OK
* checking files in ‘vignettes’ ... OK
* checking examples ... OK
Examples with CPU (user + system) or elapsed time > 5s
user system elapsed
computeDrStat 8.855 0.361 9.247
* checking for unstated dependencies in vignettes ... OK
* checking package vignettes ... OK
* checking running R code from vignettes ... SKIPPED
* checking re-building of vignette outputs ... SKIPPED
* checking PDF version of manual ... OK
* DONE
Status: 1 NOTE
See
‘/Users/biocbuild/bbs-3.20-bioc/meat/RTopper.Rcheck/00check.log’
for details.
RTopper.Rcheck/00install.out
############################################################################## ############################################################################## ### ### Running command: ### ### /Library/Frameworks/R.framework/Resources/bin/R CMD INSTALL RTopper ### ############################################################################## ############################################################################## * installing to library ‘/Library/Frameworks/R.framework/Versions/4.4-x86_64/Resources/library’ * installing *source* package ‘RTopper’ ... ** using staged installation ** R ** data ** inst ** byte-compile and prepare package for lazy loading ** help *** installing help indices ** building package indices ** installing vignettes ** testing if installed package can be loaded from temporary location ** testing if installed package can be loaded from final location ** testing if installed package keeps a record of temporary installation path * DONE (RTopper)
RTopper.Rcheck/RTopper-Ex.timings
| name | user | system | elapsed | |
| adjustPvalGSE | 0.015 | 0.005 | 0.021 | |
| combineGSE | 0.005 | 0.001 | 0.007 | |
| computeDrStat | 8.855 | 0.361 | 9.247 | |
| convertToDr | 2.742 | 0.019 | 2.779 | |
| dat | 0.075 | 0.002 | 0.078 | |
| fgsList | 0.007 | 0.001 | 0.009 | |
| gseResultsSep | 0.009 | 0.001 | 0.010 | |
| intScores | 0.002 | 0.001 | 0.003 | |
| pheno | 0.075 | 0.002 | 0.078 | |
| runBatchGSE | 0.045 | 0.005 | 0.050 | |
| sepScores | 0.005 | 0.002 | 0.007 | |