Back to Multiple platform build/check report for BioC 3.20:   simplified   long
ABCDEFGHIJKLMNOPQ[R]STUVWXYZ

This page was generated on 2025-02-06 12:10 -0500 (Thu, 06 Feb 2025).

HostnameOSArch (*)R versionInstalled pkgs
nebbiolo2Linux (Ubuntu 24.04.1 LTS)x86_644.4.2 (2024-10-31) -- "Pile of Leaves" 4753
palomino8Windows Server 2022 Datacenterx644.4.2 (2024-10-31 ucrt) -- "Pile of Leaves" 4501
merida1macOS 12.7.5 Montereyx86_644.4.2 (2024-10-31) -- "Pile of Leaves" 4524
kjohnson1macOS 13.6.6 Venturaarm644.4.2 (2024-10-31) -- "Pile of Leaves" 4476
taishanLinux (openEuler 24.03 LTS)aarch644.4.2 (2024-10-31) -- "Pile of Leaves" 4407
Click on any hostname to see more info about the system (e.g. compilers)      (*) as reported by 'uname -p', except on Windows and Mac OS X

Package 1691/2289HostnameOS / ArchINSTALLBUILDCHECKBUILD BIN
RCy3 2.26.0  (landing page)
Alex Pico
Snapshot Date: 2025-02-03 13:00 -0500 (Mon, 03 Feb 2025)
git_url: https://git.bioconductor.org/packages/RCy3
git_branch: RELEASE_3_20
git_last_commit: c3be18a
git_last_commit_date: 2024-10-29 10:04:47 -0500 (Tue, 29 Oct 2024)
nebbiolo2Linux (Ubuntu 24.04.1 LTS) / x86_64  OK    OK    OK  UNNEEDED, same version is already published
palomino8Windows Server 2022 Datacenter / x64  OK    OK    OK    OK  UNNEEDED, same version is already published
merida1macOS 12.7.5 Monterey / x86_64  OK    OK    OK    OK  UNNEEDED, same version is already published
kjohnson1macOS 13.6.6 Ventura / arm64  OK    OK    OK    OK  UNNEEDED, same version is already published
taishanLinux (openEuler 24.03 LTS) / aarch64  OK    OK    OK  


CHECK results for RCy3 on kjohnson1

To the developers/maintainers of the RCy3 package:
- Allow up to 24 hours (and sometimes 48 hours) for your latest push to git@git.bioconductor.org:packages/RCy3.git to reflect on this report. See Troubleshooting Build Report for more information.
- Use the following Renviron settings to reproduce errors and warnings.
- If 'R CMD check' started to fail recently on the Linux builder(s) over a missing dependency, add the missing dependency to 'Suggests:' in your DESCRIPTION file. See Renviron.bioc for more information.

raw results


Summary

Package: RCy3
Version: 2.26.0
Command: /Library/Frameworks/R.framework/Resources/bin/R CMD check --install=check:RCy3.install-out.txt --library=/Library/Frameworks/R.framework/Resources/library --no-vignettes --timings RCy3_2.26.0.tar.gz
StartedAt: 2025-02-05 06:54:32 -0500 (Wed, 05 Feb 2025)
EndedAt: 2025-02-05 06:55:59 -0500 (Wed, 05 Feb 2025)
EllapsedTime: 86.6 seconds
RetCode: 0
Status:   OK  
CheckDir: RCy3.Rcheck
Warnings: 0

Command output

##############################################################################
##############################################################################
###
### Running command:
###
###   /Library/Frameworks/R.framework/Resources/bin/R CMD check --install=check:RCy3.install-out.txt --library=/Library/Frameworks/R.framework/Resources/library --no-vignettes --timings RCy3_2.26.0.tar.gz
###
##############################################################################
##############################################################################


* using log directory ‘/Users/biocbuild/bbs-3.20-bioc/meat/RCy3.Rcheck’
* using R version 4.4.2 (2024-10-31)
* using platform: aarch64-apple-darwin20
* R was compiled by
    Apple clang version 14.0.0 (clang-1400.0.29.202)
    GNU Fortran (GCC) 12.2.0
* running under: macOS Ventura 13.7.1
* using session charset: UTF-8
* using option ‘--no-vignettes’
* checking for file ‘RCy3/DESCRIPTION’ ... OK
* checking extension type ... Package
* this is package ‘RCy3’ version ‘2.26.0’
* package encoding: UTF-8
* checking package namespace information ... OK
* checking package dependencies ... OK
* checking if this is a source package ... OK
* checking if there is a namespace ... OK
* checking for hidden files and directories ... NOTE
Found the following hidden files and directories:
  .travis.yml
These were most likely included in error. See section ‘Package
structure’ in the ‘Writing R Extensions’ manual.
* checking for portable file names ... OK
* checking for sufficient/correct file permissions ... OK
* checking whether package ‘RCy3’ can be installed ... OK
* checking installed package size ... OK
* checking package directory ... OK
* checking ‘build’ directory ... OK
* checking DESCRIPTION meta-information ... NOTE
License stub is invalid DCF.
* checking top-level files ... OK
* checking for left-over files ... OK
* checking index information ... OK
* checking package subdirectories ... OK
* checking code files for non-ASCII characters ... OK
* checking R files for syntax errors ... OK
* checking whether the package can be loaded ... OK
* checking whether the package can be loaded with stated dependencies ... OK
* checking whether the package can be unloaded cleanly ... OK
* checking whether the namespace can be loaded with stated dependencies ... OK
* checking whether the namespace can be unloaded cleanly ... OK
* checking dependencies in R code ... OK
* checking S3 generic/method consistency ... OK
* checking replacement functions ... OK
* checking foreign function calls ... OK
* checking R code for possible problems ... NOTE
.checkHexColor: no visible global function definition for ‘colors’
.edgeNameToEdgeSUID: no visible binding for global variable ‘SUID’
.nodeNameToNodeSUID: no visible binding for global variable ‘SUID’
createNetworkFromDataFrames: no visible binding for global variable
  ‘SUID’
Undefined global functions or variables:
  SUID colors
Consider adding
  importFrom("grDevices", "colors")
to your NAMESPACE file.
* checking Rd files ... NOTE
checkRd: (-1) importFileFromUrl.Rd:24: Lost braces; missing escapes or markup?
    24 | dict: {'filePath': <new file's absolute path in Cytoscape workstation>, 'fileByteCount': number of bytes read}
       |       ^
checkRd: (-1) sandboxGetFileInfo.Rd:17: Lost braces; missing escapes or markup?
    17 | dict: {'filePath': <full path on Cytoscape workstation>, 'modifiedTime': <last changed time, '' if file doesn't exist>, 'isFile': <True if file, False if directory>}
       |       ^
checkRd: (-1) sandboxRemove.Rd:15: Lost braces; missing escapes or markup?
    15 | dict: {'sandboxPath': <directory on Cytoscape workstation>, 'existed': <True if sandbox existed>}
       |       ^
checkRd: (-1) sandboxRemoveFile.Rd:17: Lost braces; missing escapes or markup?
    17 | dict: {'filePath': <file's absolute path in Cytoscape workstation>, 'existed': True if file existed before being deleted}
       |       ^
checkRd: (-1) sandboxUrlTo.Rd:27: Lost braces; missing escapes or markup?
    27 | dict: {'filePath': <new file's absolute path in Cytoscape workstation>, 'fileByteCount': number of bytes read}
       |       ^
* checking Rd metadata ... OK
* checking Rd cross-references ... OK
* checking for missing documentation entries ... OK
* checking for code/documentation mismatches ... OK
* checking Rd \usage sections ... OK
* checking Rd contents ... OK
* checking for unstated dependencies in examples ... OK
* checking files in ‘vignettes’ ... OK
* checking examples ... OK
* checking for unstated dependencies in ‘tests’ ... OK
* checking tests ...
  Running ‘runTests.R’
 OK
* checking for unstated dependencies in vignettes ... OK
* checking package vignettes ... OK
* checking running R code from vignettes ... SKIPPED
* checking re-building of vignette outputs ... SKIPPED
* checking PDF version of manual ... OK
* DONE

Status: 4 NOTEs
See
  ‘/Users/biocbuild/bbs-3.20-bioc/meat/RCy3.Rcheck/00check.log’
for details.


Installation output

RCy3.Rcheck/00install.out

##############################################################################
##############################################################################
###
### Running command:
###
###   /Library/Frameworks/R.framework/Resources/bin/R CMD INSTALL RCy3
###
##############################################################################
##############################################################################


* installing to library ‘/Library/Frameworks/R.framework/Versions/4.4-arm64/Resources/library’
* installing *source* package ‘RCy3’ ...
** using staged installation
** R
** inst
** byte-compile and prepare package for lazy loading
** help
*** installing help indices
** building package indices
** installing vignettes
** testing if installed package can be loaded from temporary location
** testing if installed package can be loaded from final location
** testing if installed package keeps a record of temporary installation path
* DONE (RCy3)

Tests output

RCy3.Rcheck/tests/runTests.Rout


R version 4.4.2 (2024-10-31) -- "Pile of Leaves"
Copyright (C) 2024 The R Foundation for Statistical Computing
Platform: aarch64-apple-darwin20

R is free software and comes with ABSOLUTELY NO WARRANTY.
You are welcome to redistribute it under certain conditions.
Type 'license()' or 'licence()' for distribution details.

R is a collaborative project with many contributors.
Type 'contributors()' for more information and
'citation()' on how to cite R or R packages in publications.

Type 'demo()' for some demos, 'help()' for on-line help, or
'help.start()' for an HTML browser interface to help.
Type 'q()' to quit R.

> # tests disabled as the Bioconductor build system no longer supports interactive sessions
> #require(RCy3) || stop("unable to load RCy3")
> #BiocGenerics:::testPackage('RCy3')
> 
> proc.time()
   user  system elapsed 
  0.206   0.053   0.246 

Example timings

RCy3.Rcheck/RCy3-Ex.timings

nameusersystemelapsed
AddToGroup0.0010.0000.000
RemoveFromGroup000
UpdateAnnotationBoundedText000
addAnnotationBoundedText000
addAnnotationImage000
addAnnotationShape0.0000.0010.000
addAnnotationText000
addCyEdges0.0000.0000.001
addCyNodes000
analyzeNetwork000
applyFilter000
bundleEdges000
checkNotebookIsRunning0.0010.0000.000
checkRunningRemote000
clearEdgeBends0.0000.0000.001
clearEdgePropertyBypass000
clearNetworkCenterBypass000
clearNetworkPropertyBypass000
clearNetworkZoomBypass000
clearNodeOpacityBypass0.0000.0000.001
clearNodePropertyBypass000
clearSelection000
cloneNetwork0.0000.0010.000
closeSession000
collapseGroup0.0000.0000.001
commandEcho000
commandOpenDialog0.0010.0000.000
commandPause000
commandQuit000
commandRunFile0.0000.0010.001
commandSleep000
commandsAPI000
commandsGET000
commandsHelp000
commandsPOST0.0000.0000.001
commandsRun000
copyVisualStyle000
createColumnFilter0.0000.0000.001
createCompositeFilter000
createCytoscapejsFromNetwork000
createDegreeFilter000
createGraphFromNetwork000
createGroup0.0000.0010.000
createGroupByColumn000
createIgraphFromNetwork000
createNetworkFromCytoscapejs0.0000.0010.000
createNetworkFromDataFrames000
createNetworkFromGraph000
createNetworkFromIgraph000
createSubnetwork0.0000.0010.000
createView000
createVisualStyle000
cybrowserClose0.0000.0000.001
cybrowserDialog000
cybrowserHide000
cybrowserList0.0000.0000.001
cybrowserSend0.0010.0000.000
cybrowserShow000
cybrowserVersion000
cyrestAPI000
cyrestDELETE000
cyrestGET000
cyrestPOST000
cyrestPUT000
cytoscapeApiVersions000
cytoscapeFreeMemory000
cytoscapeMemoryStatus000
cytoscapeNumberOfCores0.0000.0000.001
cytoscapePing000
cytoscapeVersionInfo0.0000.0010.000
deleteAllNetworks000
deleteAllVisualStyle000
deleteAnnotation000
deleteDuplicateEdges000
deleteGroup000
deleteNetwork000
deleteSelectedEdges0.0000.0010.001
deleteSelectedNodes000
deleteSelfLoops000
deleteStyleMapping0.0010.0000.000
deleteTableColumn0.0000.0000.001
deleteVisualStyle0.0000.0000.001
diffusionAdvanced000
diffusionBasic000
disableApp000
doInitializeSandbox000
doRequestRemote000
doSetSandbox000
dockPanel000
dot-exportShowImage0.0000.0000.001
dot-getDefaultSandbox000
dot-getRequester000
enableApp000
expandGroup0.0000.0000.001
exportFilters000
exportImage000
exportJPG000
exportNetwork000
exportNetworkToNDEx000
exportPDF000
exportPNG000
exportPS000
exportSVG0.0010.0000.001
exportVisualStyles000
findRemoteCytoscape0.0000.0010.000
fitContent000
floatPanel000
getAbsSandboxPath0.0000.0000.001
getAllEdges000
getAllNodes0.0000.0010.000
getAllStyleMappings000
getAnnotationList000
getAppInformation000
getAppStatus000
getAppUpdates000
getArrowShapes000
getAvailableApps000
getBackgroundColorDefault0.0000.0000.001
getBrowserClientChannel000
getBrowserClientJs000
getCollectionList0.0000.0010.000
getCollectionName000
getCollectionNetworks000
getCollectionSuid0.0000.0010.000
getCurrentSandbox000
getCurrentSandboxName000
getCurrentSandboxPath000
getCurrentStyle0.0000.0000.001
getDefaultSandbox000
getDefaultSandboxPath000
getDisabledApps0.0000.0000.001
getEdgeColor000
getEdgeCount000
getEdgeInfo0.0000.0000.001
getEdgeLineStyle000
getEdgeLineWidth0.0000.0010.000
getEdgeProperty0.0000.0000.001
getEdgeSelectionColorDefault0.0010.0000.000
getEdgeTargetArrowShape0.0000.0010.000
getFilterList0.0000.0000.001
getFirstNeighbors0.0010.0000.000
getGroupInfo0.0000.0010.000
getInstalledApps0.0000.0000.001
getJupyterBridgeURL000
getLayoutNameMapping0.0000.0010.000
getLayoutNames000
getLayoutPropertyNames000
getLayoutPropertyType000
getLayoutPropertyValue000
getLineStyles0.0000.0000.001
getNetworkCenter000
getNetworkCount000
getNetworkList0.0000.0010.000
getNetworkNDExId000
getNetworkName000
getNetworkProperty000
getNetworkSuid000
getNetworkViewSuid000
getNetworkViews000
getNetworkZoom000
getNodeColor000
getNodeCount000
getNodeHeight000
getNodeLabelPosition000
getNodeLabelPositionDefault000
getNodePosition0.0000.0010.000
getNodeProperty0.0010.0000.000
getNodeSelectionColorDefault0.0000.0000.001
getNodeShapes000
getNodeSize0.0010.0000.000
getNodeWidth000
getNotebookIsRunning000
getSandboxReinitialize000
getSelectedEdgeCount000
getSelectedEdges0.0000.0000.001
getSelectedNodeCount000
getSelectedNodes0.0000.0010.000
getStyleDependencies0.0000.0000.001
getStyleMapping000
getTableColumnNames000
getTableColumnTypes000
getTableColumns000
getTableValue000
getUninstalledApps000
getVisualPropertyDefault0.0000.0000.001
getVisualPropertyNames000
getVisualStyleJSON000
getVisualStyleNames000
groupAnnotation000
hideAllPanels000
hideEdges000
hideNodes000
hidePanel000
hideSelectedEdges000
hideSelectedNodes000
importFileFromUrl000
importFilters0.0000.0010.000
importNetworkFromFile000
importNetworkFromNDEx0.0010.0000.000
importVisualStyles0.0000.0010.000
installApp0.0000.0000.001
invertEdgeSelection000
invertNodeSelection0.0000.0010.000
layoutCopycat000
layoutNetwork000
listGroups000
lockNodeDimensions000
makeSimpleGraph0.0580.0010.059
makeSimpleIgraph0.1400.0080.148
mapTableColumn000
mapVisualProperty000
matchArrowColorToEdge0.0000.0010.001
mergeNetworks000
notebookExportShowImage000
notebookShowImage000
openAppStore0.0000.0000.001
openSession000
paletteColorBrewerAccent0.0050.0000.005
paletteColorBrewerBlues0.0000.0010.000
paletteColorBrewerBrBG000
paletteColorBrewerBuGn000
paletteColorBrewerBuPu0.0010.0000.000
paletteColorBrewerDark2000
paletteColorBrewerGnBu0.0010.0000.001
paletteColorBrewerGreens0.0000.0000.001
paletteColorBrewerGreys0.0000.0010.001
paletteColorBrewerOrRd000
paletteColorBrewerOranges000
paletteColorBrewerPRGn000
paletteColorBrewerPaired000
paletteColorBrewerPastel10.0010.0010.001
paletteColorBrewerPastel20.0000.0000.001
paletteColorBrewerPiYG0.0010.0000.000
paletteColorBrewerPuBu000
paletteColorBrewerPuBuGn000
paletteColorBrewerPuOr000
paletteColorBrewerPuRd0.0000.0000.001
paletteColorBrewerPurples0.0000.0000.001
paletteColorBrewerRdBu000
paletteColorBrewerRdPu000
paletteColorBrewerRdYlBu000
paletteColorBrewerReds0.0010.0000.000
paletteColorBrewerSet10.0000.0000.001
paletteColorBrewerSet20.0000.0010.001
paletteColorBrewerSet3000
paletteColorBrewerYlGn000
paletteColorBrewerYlGnBu000
paletteColorBrewerYlOrBr000
paletteColorBrewerYlOrRd0.0010.0010.001
paletteColorRandom0.0000.0000.001
paletteColorVirdis000
removeNodeCustomGraphics0.0000.0000.001
renameNetwork000
renameTableColumn000
resetDefaultSandbox000
rotateLayout000
runningRemoteCheck000
sandboxGetFileInfo000
sandboxGetFrom0.0000.0000.001
sandboxInitializer0.0000.0010.000
sandboxRemove000
sandboxRemoveFile000
sandboxSendTo000
sandboxSet0.0010.0000.000
sandboxUrlTo000
saveSession000
scaleLayout0.0010.0000.000
selectAll000
selectAllEdges0.0000.0000.001
selectAllNodes000
selectEdges000
selectEdgesAdjacentToNodes000
selectEdgesAdjacentToSelectedNodes000
selectEdgesConnectingSelectedNodes0.0000.0010.000
selectFirstNeighbors000
selectNodes0.0000.0000.001
selectNodesConnectedBySelectedEdges0.0000.0010.000
setBackgroundColorDefault000
setCatchupFilterSecs000
setCatchupNetworkSecs0.0010.0000.000
setCurrentNetwork000
setCurrentSandbox0.0000.0010.000
setCurrentView000
setDefaultSandbox000
setDefaultSandboxPath000
setEdgeColorBypass000
setEdgeColorDefault0.0000.0000.001
setEdgeColorMapping000
setEdgeFontFaceBypass0.0000.0010.000
setEdgeFontFaceDefault000
setEdgeFontFaceMapping000
setEdgeFontSizeBypass000
setEdgeFontSizeDefault000
setEdgeFontSizeMapping000
setEdgeLabelBypass000
setEdgeLabelColorBypass0.0000.0010.001
setEdgeLabelColorDefault000
setEdgeLabelColorMapping000
setEdgeLabelDefault0.0010.0000.000
setEdgeLabelMapping0.0000.0000.001
setEdgeLabelOpacityBypass000
setEdgeLabelOpacityDefault000
setEdgeLabelOpacityMapping000
setEdgeLineStyleBypass000
setEdgeLineStyleDefault000
setEdgeLineStyleMapping000
setEdgeLineWidthBypass000
setEdgeLineWidthDefault000
setEdgeLineWidthMapping000
setEdgeOpacityBypass000
setEdgeOpacityDefault000
setEdgeOpacityMapping0.0000.0000.001
setEdgePropertyBypass000
setEdgeSelectionColorDefault000
setEdgeSourceArrowColorBypass000
setEdgeSourceArrowColorDefault000
setEdgeSourceArrowColorMapping000
setEdgeSourceArrowMapping0.0010.0010.001
setEdgeSourceArrowShapeBypass000
setEdgeSourceArrowShapeDefault0.0000.0000.001
setEdgeSourceArrowShapeMapping000
setEdgeTargetArrowColorBypass000
setEdgeTargetArrowColorDefault000
setEdgeTargetArrowColorMapping000
setEdgeTargetArrowMapping000
setEdgeTargetArrowShapeBypass000
setEdgeTargetArrowShapeDefault0.0000.0000.001
setEdgeTargetArrowShapeMapping0.0000.0010.000
setEdgeTooltipBypass000
setEdgeTooltipDefault000
setEdgeTooltipMapping0.0000.0000.001
setLayoutProperties000
setModelPropagationSecs0.0000.0010.000
setNetworkCenterBypass000
setNetworkPropertyBypass0.0000.0000.001
setNetworkZoomBypass000
setNodeBorderColorBypass000
setNodeBorderColorDefault000
setNodeBorderColorMapping000
setNodeBorderOpacityBypass000
setNodeBorderOpacityDefault000
setNodeBorderOpacityMapping0.0000.0000.001
setNodeBorderWidthBypass000
setNodeBorderWidthDefault0.0000.0010.000
setNodeBorderWidthMapping000
setNodeColorBypass000
setNodeColorDefault000
setNodeColorMapping000
setNodeComboOpacityMapping0.0000.0010.000
setNodeCustomBarChart000
setNodeCustomBoxChart000
setNodeCustomHeatMapChart000
setNodeCustomLineChart0.0000.0000.001
setNodeCustomLinearGradient000
setNodeCustomPieChart0.0010.0000.000
setNodeCustomPosition000
setNodeCustomRadialGradient0.0000.0000.001
setNodeCustomRingChart000
setNodeFillOpacityBypass000
setNodeFillOpacityDefault0.0000.0000.001
setNodeFillOpacityMapping000
setNodeFontFaceBypass000
setNodeFontFaceDefault000
setNodeFontFaceMapping0.0000.0000.001
setNodeFontSizeBypass000
setNodeFontSizeDefault0.0000.0010.000
setNodeFontSizeMapping0.0000.0000.001
setNodeHeightBypass000
setNodeHeightDefault000
setNodeHeightMapping000
setNodeLabelBypass000
setNodeLabelColorBypass0.0010.0000.000
setNodeLabelColorDefault000
setNodeLabelColorMapping000
setNodeLabelDefault000
setNodeLabelMapping000
setNodeLabelOpacityBypass000
setNodeLabelOpacityDefault000
setNodeLabelOpacityMapping000
setNodeLabelPositionBypass000
setNodeLabelPositionDefault000
setNodeOpacityBypass000
setNodePositionBypass000
setNodePropertyBypass000
setNodeSelectionColorDefault000
setNodeShapeBypass000
setNodeShapeDefault000
setNodeShapeMapping000
setNodeSizeBypass0.0010.0000.000
setNodeSizeDefault000
setNodeSizeMapping0.0000.0000.001
setNodeTooltipBypass000
setNodeTooltipDefault000
setNodeTooltipMapping0.0000.0000.001
setNodeWidthBypass0.0000.0010.000
setNodeWidthDefault000
setNodeWidthMapping000
setNotebookIsRunning0.0000.0000.001
setSandboxReinitialize000
setStyleDependencies000
setVisualPropertyDefault000
setVisualStyle000
syncNodeCustomGraphicsSize000
toggleGraphicsDetails000
ungroupAnnotation000
unhideAll000
unhideEdges000
unhideNodes0.0000.0000.001
uninstallApp0.0010.0010.000
updateAnnotationImage000
updateAnnotationShape000
updateAnnotationText0.0000.0010.000
updateApp000
updateGroupAnnotation000
updateNetworkInNDEx000
updateStyleDefaults000
updateStyleMapping000