| Back to Multiple platform build/check report for BioC 3.20: simplified long |
|
This page was generated on 2025-04-02 19:29 -0400 (Wed, 02 Apr 2025).
| Hostname | OS | Arch (*) | R version | Installed pkgs |
|---|---|---|---|---|
| nebbiolo2 | Linux (Ubuntu 24.04.1 LTS) | x86_64 | 4.4.3 (2025-02-28) -- "Trophy Case" | 4764 |
| palomino8 | Windows Server 2022 Datacenter | x64 | 4.4.3 (2025-02-28 ucrt) -- "Trophy Case" | 4495 |
| merida1 | macOS 12.7.5 Monterey | x86_64 | 4.4.3 (2025-02-28) -- "Trophy Case" | 4522 |
| kjohnson1 | macOS 13.6.6 Ventura | arm64 | 4.4.3 (2025-02-28) -- "Trophy Case" | 4449 |
| taishan | Linux (openEuler 24.03 LTS) | aarch64 | 4.4.3 (2025-02-28) -- "Trophy Case" | 4426 |
| Click on any hostname to see more info about the system (e.g. compilers) (*) as reported by 'uname -p', except on Windows and Mac OS X | ||||
| Package 1690/2289 | Hostname | OS / Arch | INSTALL | BUILD | CHECK | BUILD BIN | ||||||||
| RCX 1.10.0 (landing page) Florian Auer
| nebbiolo2 | Linux (Ubuntu 24.04.1 LTS) / x86_64 | OK | OK | OK | |||||||||
| palomino8 | Windows Server 2022 Datacenter / x64 | OK | OK | OK | OK | |||||||||
| merida1 | macOS 12.7.5 Monterey / x86_64 | OK | OK | OK | OK | |||||||||
| kjohnson1 | macOS 13.6.6 Ventura / arm64 | OK | OK | OK | OK | |||||||||
| taishan | Linux (openEuler 24.03 LTS) / aarch64 | OK | OK | OK | ||||||||||
|
To the developers/maintainers of the RCX package: - Allow up to 24 hours (and sometimes 48 hours) for your latest push to git@git.bioconductor.org:packages/RCX.git to reflect on this report. See Troubleshooting Build Report for more information. - Use the following Renviron settings to reproduce errors and warnings. - If 'R CMD check' started to fail recently on the Linux builder(s) over a missing dependency, add the missing dependency to 'Suggests:' in your DESCRIPTION file. See Renviron.bioc for more information. |
| Package: RCX |
| Version: 1.10.0 |
| Command: /home/biocbuild/bbs-3.20-bioc/R/bin/R CMD check --install=check:RCX.install-out.txt --library=/home/biocbuild/bbs-3.20-bioc/R/site-library --timings RCX_1.10.0.tar.gz |
| StartedAt: 2025-04-01 01:22:33 -0400 (Tue, 01 Apr 2025) |
| EndedAt: 2025-04-01 01:23:31 -0400 (Tue, 01 Apr 2025) |
| EllapsedTime: 57.1 seconds |
| RetCode: 0 |
| Status: OK |
| CheckDir: RCX.Rcheck |
| Warnings: 0 |
##############################################################################
##############################################################################
###
### Running command:
###
### /home/biocbuild/bbs-3.20-bioc/R/bin/R CMD check --install=check:RCX.install-out.txt --library=/home/biocbuild/bbs-3.20-bioc/R/site-library --timings RCX_1.10.0.tar.gz
###
##############################################################################
##############################################################################
* using log directory ‘/home/biocbuild/bbs-3.20-bioc/meat/RCX.Rcheck’
* using R version 4.4.3 (2025-02-28)
* using platform: x86_64-pc-linux-gnu
* R was compiled by
gcc (Ubuntu 13.3.0-6ubuntu2~24.04) 13.3.0
GNU Fortran (Ubuntu 13.3.0-6ubuntu2~24.04) 13.3.0
* running under: Ubuntu 24.04.2 LTS
* using session charset: UTF-8
* checking for file ‘RCX/DESCRIPTION’ ... OK
* checking extension type ... Package
* this is package ‘RCX’ version ‘1.10.0’
* package encoding: UTF-8
* checking package namespace information ... OK
* checking package dependencies ... OK
* checking if this is a source package ... OK
* checking if there is a namespace ... OK
* checking for hidden files and directories ... OK
* checking for portable file names ... OK
* checking for sufficient/correct file permissions ... OK
* checking whether package ‘RCX’ can be installed ... OK
* checking installed package size ... OK
* checking package directory ... OK
* checking ‘build’ directory ... OK
* checking DESCRIPTION meta-information ... NOTE
License stub is invalid DCF.
* checking top-level files ... OK
* checking for left-over files ... OK
* checking index information ... OK
* checking package subdirectories ... NOTE
Problems with news in ‘NEWS.md’:
No news entries found.
* checking code files for non-ASCII characters ... OK
* checking R files for syntax errors ... OK
* checking whether the package can be loaded ... OK
* checking whether the package can be loaded with stated dependencies ... OK
* checking whether the package can be unloaded cleanly ... OK
* checking whether the namespace can be loaded with stated dependencies ... OK
* checking whether the namespace can be unloaded cleanly ... OK
* checking loading without being on the library search path ... OK
* checking whether startup messages can be suppressed ... OK
* checking dependencies in R code ... OK
* checking S3 generic/method consistency ... OK
* checking replacement functions ... OK
* checking foreign function calls ... OK
* checking R code for possible problems ... OK
* checking Rd files ... OK
* checking Rd metadata ... OK
* checking Rd cross-references ... OK
* checking for missing documentation entries ... OK
* checking for code/documentation mismatches ... OK
* checking Rd \usage sections ... NOTE
Documented arguments not in \usage in Rd file 'dot-format.Rd':
‘.log’
Functions with \usage entries need to have the appropriate \alias
entries, and all their arguments documented.
The \usage entries must correspond to syntactically valid R code.
See chapter ‘Writing R documentation files’ in the ‘Writing R
Extensions’ manual.
* checking Rd contents ... OK
* checking for unstated dependencies in examples ... OK
* checking R/sysdata.rda ... OK
* checking files in ‘vignettes’ ... OK
* checking examples ... OK
* checking for unstated dependencies in ‘tests’ ... OK
* checking tests ...
Running ‘testthat.R’
OK
* checking for unstated dependencies in vignettes ... OK
* checking package vignettes ... OK
* checking re-building of vignette outputs ... OK
* checking PDF version of manual ... OK
* DONE
Status: 3 NOTEs
See
‘/home/biocbuild/bbs-3.20-bioc/meat/RCX.Rcheck/00check.log’
for details.
RCX.Rcheck/00install.out
############################################################################## ############################################################################## ### ### Running command: ### ### /home/biocbuild/bbs-3.20-bioc/R/bin/R CMD INSTALL RCX ### ############################################################################## ############################################################################## * installing to library ‘/home/biocbuild/bbs-3.20-bioc/R/site-library’ * installing *source* package ‘RCX’ ... ** using staged installation ** R ** inst ** byte-compile and prepare package for lazy loading ** help *** installing help indices ** building package indices ** installing vignettes ** testing if installed package can be loaded from temporary location ** testing if installed package can be loaded from final location ** testing if installed package keeps a record of temporary installation path * DONE (RCX)
RCX.Rcheck/tests/testthat.Rout
R version 4.4.3 (2025-02-28) -- "Trophy Case"
Copyright (C) 2025 The R Foundation for Statistical Computing
Platform: x86_64-pc-linux-gnu
R is free software and comes with ABSOLUTELY NO WARRANTY.
You are welcome to redistribute it under certain conditions.
Type 'license()' or 'licence()' for distribution details.
R is a collaborative project with many contributors.
Type 'contributors()' for more information and
'citation()' on how to cite R or R packages in publications.
Type 'demo()' for some demos, 'help()' for on-line help, or
'help.start()' for an HTML browser interface to help.
Type 'q()' to quit R.
> library(testthat)
> library(RCX)
>
> test_check("RCX")
[ FAIL 0 | WARN 0 | SKIP 0 | PASS 60 ]
>
> proc.time()
user system elapsed
2.293 0.098 2.379
RCX.Rcheck/RCX-Ex.timings
| name | user | system | elapsed | |
| CartesianLayout | 0.004 | 0.000 | 0.004 | |
| Convert-Names-and-Classes | 0 | 0 | 0 | |
| CyGroups | 0.004 | 0.000 | 0.003 | |
| CyHiddenAttributes | 0.113 | 0.001 | 0.114 | |
| CyNetworkRelations | 0.002 | 0.000 | 0.001 | |
| CySubNetworks | 0.002 | 0.000 | 0.002 | |
| CyTableColumn | 0.004 | 0.000 | 0.004 | |
| CyVisualProperties | 0.012 | 0.001 | 0.012 | |
| CyVisualProperty | 0.009 | 0.000 | 0.009 | |
| CyVisualPropertyDependencies | 0.001 | 0.000 | 0.003 | |
| CyVisualPropertyMappings | 0.006 | 0.000 | 0.006 | |
| CyVisualPropertyProperties | 0.003 | 0.000 | 0.002 | |
| EdgeAttributes | 0.012 | 0.000 | 0.012 | |
| Edges | 0.001 | 0.000 | 0.002 | |
| Igraph | 2.252 | 0.044 | 2.298 | |
| Meta-data | 0.022 | 0.000 | 0.023 | |
| NetworkAttributes | 0.009 | 0.000 | 0.009 | |
| NodeAttributes | 0.017 | 0.000 | 0.017 | |
| Nodes | 0.001 | 0.000 | 0.002 | |
| RCX-object | 0.2 | 0.0 | 0.2 | |
| aspectClasses | 0.001 | 0.000 | 0.000 | |
| checks | 0 | 0 | 0 | |
| convert-data-types-and-values | 0.002 | 0.000 | 0.001 | |
| convert2json | 0 | 0 | 0 | |
| countElements | 0.007 | 0.001 | 0.007 | |
| custom-print | 0.005 | 0.000 | 0.005 | |
| dot-addAspectNameToJson | 0.000 | 0.000 | 0.001 | |
| dot-addAttributeData | 0 | 0 | 0 | |
| dot-aspectClass | 0 | 0 | 0 | |
| dot-convertRawList | 0 | 0 | 0 | |
| dot-createAttributeAspect | 0 | 0 | 0 | |
| dot-createCyVpPorD | 0.000 | 0.001 | 0.000 | |
| dot-filterBy | 0 | 0 | 0 | |
| dot-format | 0 | 0 | 0 | |
| dot-infer | 0 | 0 | 0 | |
| dot-json2RDataType | 0.000 | 0.001 | 0.001 | |
| dot-jsonL | 0 | 0 | 0 | |
| dot-jsonV | 0.001 | 0.000 | 0.000 | |
| dot-log | 0 | 0 | 0 | |
| dot-mergeAttributesAspect | 0 | 0 | 0 | |
| dot-mergeIdAspect | 0 | 0 | 0 | |
| dot-modClass | 0 | 0 | 0 | |
| dot-pasteC | 0 | 0 | 0 | |
| dot-renameDF | 0.001 | 0.000 | 0.002 | |
| dot-stop | 0 | 0 | 0 | |
| dot-summaryAspect | 0.001 | 0.000 | 0.002 | |
| dot-transformListLength-set | 0.002 | 0.000 | 0.002 | |
| dot-transformVLD | 0.004 | 0.000 | 0.004 | |
| getCyVisualProperty | 0.008 | 0.000 | 0.008 | |
| graphNEL | 2.477 | 0.010 | 2.488 | |
| hasIds | 0.000 | 0.000 | 0.001 | |
| idProperty | 0 | 0 | 0 | |
| jsonToRCX | 0.001 | 0.001 | 0.002 | |
| markAttributeColumn | 0.001 | 0.000 | 0.001 | |
| markRefColumn | 0.001 | 0.000 | 0.000 | |
| maxId | 0.001 | 0.000 | 0.001 | |
| rcxToJson | 0.002 | 0.000 | 0.002 | |
| readCX | 0.603 | 0.018 | 0.621 | |
| referredBy | 0.006 | 0.001 | 0.007 | |
| refersTo | 0 | 0 | 0 | |
| setExtension | 0 | 0 | 0 | |
| summary | 0.01 | 0.00 | 0.01 | |
| toCX | 0.009 | 0.000 | 0.009 | |
| updateCartesianLayout | 0.038 | 0.001 | 0.038 | |
| updateCyGroups | 0.028 | 0.001 | 0.029 | |
| updateCyHiddenAttributes | 0.045 | 0.003 | 0.048 | |
| updateCyNetworkRelations | 0.030 | 0.001 | 0.031 | |
| updateCySubNetworks | 0.023 | 0.000 | 0.023 | |
| updateCyTableColumn | 0.039 | 0.000 | 0.039 | |
| updateCyVisualProperties | 0.210 | 0.002 | 0.212 | |
| updateCyVisualProperty | 0.053 | 0.000 | 0.053 | |
| updateEdgeAttributes | 0.045 | 0.001 | 0.047 | |
| updateEdges | 0.017 | 0.000 | 0.018 | |
| updateMetaDataProperties | 0.017 | 0.000 | 0.017 | |
| updateNetworkAttributes | 0.041 | 0.001 | 0.042 | |
| updateNodeAttributes | 0.055 | 0.000 | 0.055 | |
| updateNodes | 0.013 | 0.000 | 0.013 | |
| validate | 0.234 | 0.002 | 0.236 | |
| visualize | 0.006 | 0.001 | 0.007 | |
| writeCX | 0 | 0 | 0 | |
| writeHTML | 0.051 | 0.015 | 0.070 | |