| Back to Multiple platform build/check report for BioC 3.20: simplified long |
|
This page was generated on 2025-04-02 19:36 -0400 (Wed, 02 Apr 2025).
| Hostname | OS | Arch (*) | R version | Installed pkgs |
|---|---|---|---|---|
| nebbiolo2 | Linux (Ubuntu 24.04.1 LTS) | x86_64 | 4.4.3 (2025-02-28) -- "Trophy Case" | 4764 |
| palomino8 | Windows Server 2022 Datacenter | x64 | 4.4.3 (2025-02-28 ucrt) -- "Trophy Case" | 4495 |
| merida1 | macOS 12.7.5 Monterey | x86_64 | 4.4.3 (2025-02-28) -- "Trophy Case" | 4522 |
| kjohnson1 | macOS 13.6.6 Ventura | arm64 | 4.4.3 (2025-02-28) -- "Trophy Case" | 4449 |
| taishan | Linux (openEuler 24.03 LTS) | aarch64 | 4.4.3 (2025-02-28) -- "Trophy Case" | 4426 |
| Click on any hostname to see more info about the system (e.g. compilers) (*) as reported by 'uname -p', except on Windows and Mac OS X | ||||
| Package 1670/2289 | Hostname | OS / Arch | INSTALL | BUILD | CHECK | BUILD BIN | ||||||||
| RBioFormats 1.6.0 (landing page) Andrzej Oleś
| nebbiolo2 | Linux (Ubuntu 24.04.1 LTS) / x86_64 | OK | OK | OK | |||||||||
| palomino8 | Windows Server 2022 Datacenter / x64 | OK | OK | OK | OK | |||||||||
| merida1 | macOS 12.7.5 Monterey / x86_64 | OK | OK | OK | OK | |||||||||
| kjohnson1 | macOS 13.6.6 Ventura / arm64 | OK | OK | OK | OK | |||||||||
| taishan | Linux (openEuler 24.03 LTS) / aarch64 | OK | OK | OK | ||||||||||
|
To the developers/maintainers of the RBioFormats package: - Allow up to 24 hours (and sometimes 48 hours) for your latest push to git@git.bioconductor.org:packages/RBioFormats.git to reflect on this report. See Troubleshooting Build Report for more information. - Use the following Renviron settings to reproduce errors and warnings. - If 'R CMD check' started to fail recently on the Linux builder(s) over a missing dependency, add the missing dependency to 'Suggests:' in your DESCRIPTION file. See Renviron.bioc for more information. - See Martin Grigorov's blog post for how to debug Linux ARM64 related issues on a x86_64 host. |
| Package: RBioFormats |
| Version: 1.6.0 |
| Command: /home/biocbuild/R/R/bin/R CMD check --install=check:RBioFormats.install-out.txt --library=/home/biocbuild/R/R/site-library --no-vignettes --timings RBioFormats_1.6.0.tar.gz |
| StartedAt: 2025-04-01 09:47:55 -0000 (Tue, 01 Apr 2025) |
| EndedAt: 2025-04-01 09:49:18 -0000 (Tue, 01 Apr 2025) |
| EllapsedTime: 83.2 seconds |
| RetCode: 0 |
| Status: OK |
| CheckDir: RBioFormats.Rcheck |
| Warnings: 0 |
##############################################################################
##############################################################################
###
### Running command:
###
### /home/biocbuild/R/R/bin/R CMD check --install=check:RBioFormats.install-out.txt --library=/home/biocbuild/R/R/site-library --no-vignettes --timings RBioFormats_1.6.0.tar.gz
###
##############################################################################
##############################################################################
* using log directory ‘/home/biocbuild/bbs-3.20-bioc/meat/RBioFormats.Rcheck’
* using R version 4.4.3 (2025-02-28)
* using platform: aarch64-unknown-linux-gnu
* R was compiled by
aarch64-unknown-linux-gnu-gcc (GCC) 14.2.0
GNU Fortran (GCC) 14.2.0
* running under: openEuler 24.03 (LTS)
* using session charset: UTF-8
* using option ‘--no-vignettes’
* checking for file ‘RBioFormats/DESCRIPTION’ ... OK
* this is package ‘RBioFormats’ version ‘1.6.0’
* package encoding: UTF-8
* checking package namespace information ... OK
* checking package dependencies ... OK
* checking if this is a source package ... OK
* checking if there is a namespace ... OK
* checking for hidden files and directories ... OK
* checking for portable file names ... OK
* checking for sufficient/correct file permissions ... OK
* checking whether package ‘RBioFormats’ can be installed ... OK
* checking installed package size ... OK
* checking package directory ... OK
* checking ‘build’ directory ... OK
* checking DESCRIPTION meta-information ... OK
* checking top-level files ... OK
* checking for left-over files ... OK
* checking index information ... OK
* checking package subdirectories ... OK
* checking code files for non-ASCII characters ... OK
* checking R files for syntax errors ... OK
* checking whether the package can be loaded ... OK
* checking whether the package can be loaded with stated dependencies ... OK
* checking whether the package can be unloaded cleanly ... OK
* checking whether the namespace can be loaded with stated dependencies ... OK
* checking whether the namespace can be unloaded cleanly ... OK
* checking loading without being on the library search path ... OK
* checking whether startup messages can be suppressed ... OK
* checking dependencies in R code ... OK
* checking S3 generic/method consistency ... OK
* checking replacement functions ... OK
* checking foreign function calls ... OK
* checking R code for possible problems ... OK
* checking Rd files ... OK
* checking Rd metadata ... OK
* checking Rd cross-references ... OK
* checking for missing documentation entries ... OK
* checking for code/documentation mismatches ... OK
* checking Rd \usage sections ... OK
* checking Rd contents ... OK
* checking for unstated dependencies in examples ... OK
* checking files in ‘vignettes’ ... OK
* checking examples ... OK
* checking for unstated dependencies in ‘tests’ ... OK
* checking tests ...
Running ‘read.image.R’
Running ‘reader.R’
Running ‘testthat.R’
OK
* checking for unstated dependencies in vignettes ... OK
* checking package vignettes ... OK
* checking running R code from vignettes ... SKIPPED
* checking re-building of vignette outputs ... SKIPPED
* checking PDF version of manual ... OK
* DONE
Status: OK
RBioFormats.Rcheck/00install.out
############################################################################## ############################################################################## ### ### Running command: ### ### /home/biocbuild/R/R/bin/R CMD INSTALL RBioFormats ### ############################################################################## ############################################################################## * installing to library ‘/home/biocbuild/R/R-4.4.3/site-library’ * installing *source* package ‘RBioFormats’ ... ** using staged installation ** R ** inst ** byte-compile and prepare package for lazy loading ** help *** installing help indices ** building package indices ** installing vignettes ** testing if installed package can be loaded from temporary location ** testing if installed package can be loaded from final location ** testing if installed package keeps a record of temporary installation path * DONE (RBioFormats)
RBioFormats.Rcheck/tests/read.image.Rout
R version 4.4.3 (2025-02-28) -- "Trophy Case"
Copyright (C) 2025 The R Foundation for Statistical Computing
Platform: aarch64-unknown-linux-gnu
R is free software and comes with ABSOLUTELY NO WARRANTY.
You are welcome to redistribute it under certain conditions.
Type 'license()' or 'licence()' for distribution details.
R is a collaborative project with many contributors.
Type 'contributors()' for more information and
'citation()' on how to cite R or R packages in publications.
Type 'demo()' for some demos, 'help()' for on-line help, or
'help.start()' for an HTML browser interface to help.
Type 'q()' to quit R.
> library("RBioFormats")
BioFormats library version 7.3.0
>
> parameters = list (
+ sizeX = 32L,
+ sizeY = 32L,
+ sizeZ = 5L,
+ sizeC = 1L,
+ sizeT = 2L,
+ dimOrder = "XYTZC",
+ interleaved = TRUE,
+ indexed = FALSE
+ )
>
> img = read.image(do.call(mockFile, parameters))
>
> metadata = coreMetadata(img)
> # metadata$indexed
> # metadata
> stopifnot(metadata$sizeC == 1L)
> stopifnot(metadata$rgb == FALSE)
> # stopifnot(.jcall(reader, "Z", "isIndexed") == FALSE)
> # stopifnot(.jcall(reader, "I", "getImageCount") == 30)
> # stopifnot(.jcall(reader, "S", "getDimensionOrder") == "XYCZT")
> #
> # metadata2 = .metadata(reader)
> # metadata = RBioFormats:::.getCoreMetadata(reader)
>
> proc.time()
user system elapsed
3.822 0.222 3.469
RBioFormats.Rcheck/tests/reader.Rout
R version 4.4.3 (2025-02-28) -- "Trophy Case"
Copyright (C) 2025 The R Foundation for Statistical Computing
Platform: aarch64-unknown-linux-gnu
R is free software and comes with ABSOLUTELY NO WARRANTY.
You are welcome to redistribute it under certain conditions.
Type 'license()' or 'licence()' for distribution details.
R is a collaborative project with many contributors.
Type 'contributors()' for more information and
'citation()' on how to cite R or R packages in publications.
Type 'demo()' for some demos, 'help()' for on-line help, or
'help.start()' for an HTML browser interface to help.
Type 'q()' to quit R.
> library("RBioFormats")
BioFormats library version 7.3.0
> library("rJava")
>
> parameters = list (
+ sizeX = 32L,
+ sizeY = 32L,
+ sizeZ = 5L,
+ sizeC = 3L,
+ sizeT = 2L,
+ dimOrder = "XYTZC",
+ interleaved = TRUE,
+ rgb = 1L,
+ indexed = TRUE
+ )
>
> file = do.call(mockFile, parameters)
>
> # reduce verbosity
> .jcall("loci.common.DebugTools", "Z", "enableLogging", "ERROR")
[1] TRUE
>
> ## raw reader
> reader = .jnew("loci.formats.ImageReader")
>
> # initialize file
> .jcall(reader, , "setId", file)
>
> metadata = list (
+ sizeX = .jcall(reader, "I", "getSizeX"),
+ sizeY = .jcall(reader, "I", "getSizeY"),
+ sizeZ = .jcall(reader, "I", "getSizeZ"),
+ sizeC = .jcall(reader, "I", "getSizeC"),
+ sizeT = .jcall(reader, "I", "getSizeT"),
+ dimOrder = .jcall(reader, "S", "getDimensionOrder"),
+ interleaved = .jcall(reader, "Z", "isInterleaved"),
+ rgb = .jcall(reader, "I", "getRGBChannelCount"),
+ indexed = .jcall(reader, "Z", "isIndexed")
+ )
>
> stopifnot(identical(names(parameters), names(metadata)))
> stopifnot(identical(parameters, metadata))
>
> proc.time()
user system elapsed
3.894 0.215 3.533
RBioFormats.Rcheck/tests/testthat.Rout
R version 4.4.3 (2025-02-28) -- "Trophy Case"
Copyright (C) 2025 The R Foundation for Statistical Computing
Platform: aarch64-unknown-linux-gnu
R is free software and comes with ABSOLUTELY NO WARRANTY.
You are welcome to redistribute it under certain conditions.
Type 'license()' or 'licence()' for distribution details.
R is a collaborative project with many contributors.
Type 'contributors()' for more information and
'citation()' on how to cite R or R packages in publications.
Type 'demo()' for some demos, 'help()' for on-line help, or
'help.start()' for an HTML browser interface to help.
Type 'q()' to quit R.
> library(testthat)
> library(RBioFormats)
BioFormats library version 7.3.0
>
> test_check("RBioFormats")
[ FAIL 0 | WARN 0 | SKIP 1 | PASS 61 ]
══ Skipped tests (1) ═══════════════════════════════════════════════════════════
• empty test (1): 'test-pixelType.R:23:1'
[ FAIL 0 | WARN 0 | SKIP 1 | PASS 61 ]
>
> proc.time()
user system elapsed
10.034 0.617 6.353
RBioFormats.Rcheck/RBioFormats-Ex.timings
| name | user | system | elapsed | |
| AnnotatedImage-class | 0.897 | 0.079 | 0.766 | |
| AnnotatedImageList-class | 0.068 | 0.004 | 0.045 | |
| FormatTools | 0.020 | 0.004 | 0.021 | |
| ImageMetadata-class | 0.067 | 0.028 | 0.050 | |
| RBioFormats | 0.000 | 0.000 | 0.001 | |
| checkJavaMemory | 0.001 | 0.000 | 0.001 | |
| dimorder | 0.608 | 0.163 | 0.757 | |
| metadataAccessors | 1.272 | 0.052 | 0.497 | |
| mockFile | 0.029 | 0.000 | 0.015 | |
| read.image | 0.353 | 0.026 | 0.199 | |
| read.metadata | 0.095 | 0.016 | 0.092 | |
| read.omexml | 0.461 | 0.057 | 0.371 | |
| seriesCount | 0.050 | 0.000 | 0.023 | |
| write.image | 0.074 | 0.011 | 0.059 | |