| Back to Multiple platform build/check report for BioC 3.20: simplified long |
|
This page was generated on 2025-04-02 19:29 -0400 (Wed, 02 Apr 2025).
| Hostname | OS | Arch (*) | R version | Installed pkgs |
|---|---|---|---|---|
| nebbiolo2 | Linux (Ubuntu 24.04.1 LTS) | x86_64 | 4.4.3 (2025-02-28) -- "Trophy Case" | 4764 |
| palomino8 | Windows Server 2022 Datacenter | x64 | 4.4.3 (2025-02-28 ucrt) -- "Trophy Case" | 4495 |
| merida1 | macOS 12.7.5 Monterey | x86_64 | 4.4.3 (2025-02-28) -- "Trophy Case" | 4522 |
| kjohnson1 | macOS 13.6.6 Ventura | arm64 | 4.4.3 (2025-02-28) -- "Trophy Case" | 4449 |
| taishan | Linux (openEuler 24.03 LTS) | aarch64 | 4.4.3 (2025-02-28) -- "Trophy Case" | 4426 |
| Click on any hostname to see more info about the system (e.g. compilers) (*) as reported by 'uname -p', except on Windows and Mac OS X | ||||
| Package 1604/2289 | Hostname | OS / Arch | INSTALL | BUILD | CHECK | BUILD BIN | ||||||||
| PRONE 1.0.7 (landing page) Lis Arend
| nebbiolo2 | Linux (Ubuntu 24.04.1 LTS) / x86_64 | OK | OK | OK | |||||||||
| palomino8 | Windows Server 2022 Datacenter / x64 | OK | OK | OK | OK | |||||||||
| merida1 | macOS 12.7.5 Monterey / x86_64 | OK | OK | OK | OK | |||||||||
| kjohnson1 | macOS 13.6.6 Ventura / arm64 | OK | OK | OK | OK | |||||||||
| taishan | Linux (openEuler 24.03 LTS) / aarch64 | OK | OK | OK | ||||||||||
|
To the developers/maintainers of the PRONE package: - Allow up to 24 hours (and sometimes 48 hours) for your latest push to git@git.bioconductor.org:packages/PRONE.git to reflect on this report. See Troubleshooting Build Report for more information. - Use the following Renviron settings to reproduce errors and warnings. - If 'R CMD check' started to fail recently on the Linux builder(s) over a missing dependency, add the missing dependency to 'Suggests:' in your DESCRIPTION file. See Renviron.bioc for more information. |
| Package: PRONE |
| Version: 1.0.7 |
| Command: /home/biocbuild/bbs-3.20-bioc/R/bin/R CMD check --install=check:PRONE.install-out.txt --library=/home/biocbuild/bbs-3.20-bioc/R/site-library --timings PRONE_1.0.7.tar.gz |
| StartedAt: 2025-04-01 01:08:44 -0400 (Tue, 01 Apr 2025) |
| EndedAt: 2025-04-01 01:15:50 -0400 (Tue, 01 Apr 2025) |
| EllapsedTime: 425.4 seconds |
| RetCode: 0 |
| Status: OK |
| CheckDir: PRONE.Rcheck |
| Warnings: 0 |
##############################################################################
##############################################################################
###
### Running command:
###
### /home/biocbuild/bbs-3.20-bioc/R/bin/R CMD check --install=check:PRONE.install-out.txt --library=/home/biocbuild/bbs-3.20-bioc/R/site-library --timings PRONE_1.0.7.tar.gz
###
##############################################################################
##############################################################################
* using log directory ‘/home/biocbuild/bbs-3.20-bioc/meat/PRONE.Rcheck’
* using R version 4.4.3 (2025-02-28)
* using platform: x86_64-pc-linux-gnu
* R was compiled by
gcc (Ubuntu 13.3.0-6ubuntu2~24.04) 13.3.0
GNU Fortran (Ubuntu 13.3.0-6ubuntu2~24.04) 13.3.0
* running under: Ubuntu 24.04.2 LTS
* using session charset: UTF-8
* checking for file ‘PRONE/DESCRIPTION’ ... OK
* checking extension type ... Package
* this is package ‘PRONE’ version ‘1.0.7’
* package encoding: UTF-8
* checking package namespace information ... OK
* checking package dependencies ... OK
* checking if this is a source package ... OK
* checking if there is a namespace ... OK
* checking for hidden files and directories ... OK
* checking for portable file names ... OK
* checking for sufficient/correct file permissions ... OK
* checking whether package ‘PRONE’ can be installed ... OK
* checking installed package size ... OK
* checking package directory ... OK
* checking ‘build’ directory ... OK
* checking DESCRIPTION meta-information ... OK
* checking top-level files ... OK
* checking for left-over files ... OK
* checking index information ... OK
* checking package subdirectories ... OK
* checking code files for non-ASCII characters ... OK
* checking R files for syntax errors ... OK
* checking whether the package can be loaded ... OK
* checking whether the package can be loaded with stated dependencies ... OK
* checking whether the package can be unloaded cleanly ... OK
* checking whether the namespace can be loaded with stated dependencies ... OK
* checking whether the namespace can be unloaded cleanly ... OK
* checking loading without being on the library search path ... OK
* checking dependencies in R code ... NOTE
Unexported objects imported by ':::' calls:
‘NormalyzerDE:::calculateAvgMadMem’
‘NormalyzerDE:::calculateAvgReplicateVariation’
‘NormalyzerDE:::calculatePercentageAvgDiffInMat’
‘NormalyzerDE:::calculateReplicateCV’
‘NormalyzerDE:::calculateSummarizedCorrelationVector’
See the note in ?`:::` about the use of this operator.
* checking S3 generic/method consistency ... OK
* checking replacement functions ... OK
* checking foreign function calls ... OK
* checking R code for possible problems ... OK
* checking Rd files ... OK
* checking Rd metadata ... OK
* checking Rd cross-references ... OK
* checking for missing documentation entries ... OK
* checking for code/documentation mismatches ... OK
* checking Rd \usage sections ... OK
* checking Rd contents ... OK
* checking for unstated dependencies in examples ... OK
* checking contents of ‘data’ directory ... OK
* checking data for non-ASCII characters ... OK
* checking data for ASCII and uncompressed saves ... OK
* checking files in ‘vignettes’ ... OK
* checking examples ... OK
* checking for unstated dependencies in vignettes ... OK
* checking package vignettes ... OK
* checking re-building of vignette outputs ... OK
* checking PDF version of manual ... OK
* DONE
Status: 1 NOTE
See
‘/home/biocbuild/bbs-3.20-bioc/meat/PRONE.Rcheck/00check.log’
for details.
PRONE.Rcheck/00install.out
############################################################################## ############################################################################## ### ### Running command: ### ### /home/biocbuild/bbs-3.20-bioc/R/bin/R CMD INSTALL PRONE ### ############################################################################## ############################################################################## * installing to library ‘/home/biocbuild/bbs-3.20-bioc/R/site-library’ * installing *source* package ‘PRONE’ ... ** using staged installation ** R ** data ** inst ** byte-compile and prepare package for lazy loading ** help *** installing help indices *** copying figures ** building package indices ** installing vignettes ** testing if installed package can be loaded from temporary location ** testing if installed package can be loaded from final location ** testing if installed package keeps a record of temporary installation path * DONE (PRONE)
PRONE.Rcheck/PRONE-Ex.timings
| name | user | system | elapsed | |
| apply_thresholds | 0.033 | 0.000 | 0.032 | |
| detect_outliers_POMA | 0.846 | 0.018 | 0.865 | |
| eigenMSNorm | 1.319 | 0.044 | 1.364 | |
| export_data | 0.025 | 0.002 | 0.028 | |
| extract_consensus_DE_candidates | 0.075 | 0.001 | 0.077 | |
| filter_out_NA_proteins_by_threshold | 0.196 | 0.009 | 0.196 | |
| filter_out_complete_NA_proteins | 0.049 | 0.006 | 0.054 | |
| filter_out_proteins_by_ID | 0.146 | 0.025 | 0.171 | |
| filter_out_proteins_by_value | 0.148 | 0.024 | 0.172 | |
| get_NA_overview | 0.035 | 0.002 | 0.037 | |
| get_normalization_methods | 0 | 0 | 0 | |
| get_overview_DE | 0.039 | 0.004 | 0.043 | |
| get_proteins_by_value | 0.138 | 0.022 | 0.160 | |
| get_spiked_stats_DE | 0.098 | 0.007 | 0.105 | |
| globalIntNorm | 0.123 | 0.000 | 0.123 | |
| globalMeanNorm | 0.121 | 0.002 | 0.124 | |
| globalMedianNorm | 0.125 | 0.001 | 0.126 | |
| impute_se | 0.718 | 0.009 | 0.688 | |
| irsNorm | 0.057 | 0.003 | 0.060 | |
| limmaNorm | 0.064 | 0.010 | 0.073 | |
| load_data | 0.045 | 0.007 | 0.052 | |
| load_spike_data | 0.054 | 0.001 | 0.055 | |
| loessCycNorm | 0.098 | 0.001 | 0.099 | |
| loessFNorm | 0.080 | 0.005 | 0.085 | |
| meanNorm | 0.042 | 0.001 | 0.042 | |
| medianAbsDevNorm | 0.089 | 0.002 | 0.092 | |
| medianNorm | 0.057 | 0.002 | 0.059 | |
| normalize_se | 3.199 | 0.019 | 3.217 | |
| normalize_se_combination | 3.105 | 0.002 | 3.107 | |
| normalize_se_single | 3.075 | 0.010 | 3.085 | |
| normicsNorm | 3.084 | 0.001 | 3.086 | |
| plot_NA_density | 0.314 | 0.000 | 0.299 | |
| plot_NA_frequency | 0.190 | 0.001 | 0.176 | |
| plot_NA_heatmap | 2.008 | 0.012 | 2.020 | |
| plot_PCA | 0.928 | 0.001 | 0.929 | |
| plot_ROC_AUC_spiked | 0.881 | 0.006 | 0.879 | |
| plot_TP_FP_spiked_bar | 0.239 | 0.003 | 0.242 | |
| plot_TP_FP_spiked_box | 0.339 | 0.009 | 0.348 | |
| plot_TP_FP_spiked_scatter | 0.321 | 0.000 | 0.321 | |
| plot_boxplots | 3.671 | 0.015 | 3.638 | |
| plot_condition_overview | 0.188 | 0.001 | 0.190 | |
| plot_densities | 2.432 | 0.006 | 2.341 | |
| plot_fold_changes_spiked | 0.425 | 0.001 | 0.419 | |
| plot_heatmap | 3.575 | 0.019 | 3.595 | |
| plot_heatmap_DE | 1.163 | 0.006 | 1.170 | |
| plot_histogram_spiked | 0.287 | 0.000 | 0.281 | |
| plot_identified_spiked_proteins | 0.372 | 0.006 | 0.378 | |
| plot_intersection_enrichment | 0.577 | 0.013 | 2.912 | |
| plot_intragroup_PCV | 0.428 | 0.003 | 0.431 | |
| plot_intragroup_PEV | 0.329 | 0.002 | 0.332 | |
| plot_intragroup_PMAD | 0.307 | 0.001 | 0.308 | |
| plot_intragroup_correlation | 0.305 | 0.002 | 0.307 | |
| plot_jaccard_heatmap | 0.218 | 0.000 | 0.207 | |
| plot_logFC_thresholds_spiked | 0.516 | 0.002 | 0.518 | |
| plot_markers_boxplots | 0.667 | 0.009 | 0.670 | |
| plot_nr_prot_samples | 0.262 | 0.016 | 0.278 | |
| plot_overview_DE_bar | 0.285 | 0.003 | 0.288 | |
| plot_overview_DE_tile | 0.179 | 0.000 | 0.178 | |
| plot_profiles_spiked | 0.650 | 0.009 | 0.644 | |
| plot_pvalues_spiked | 0.417 | 0.001 | 0.418 | |
| plot_stats_spiked_heatmap | 0.280 | 0.001 | 0.281 | |
| plot_tot_int_samples | 0.213 | 0.001 | 0.214 | |
| plot_upset | 0.617 | 0.004 | 0.621 | |
| plot_upset_DE | 0.739 | 0.003 | 0.743 | |
| plot_volcano_DE | 2.746 | 0.045 | 2.791 | |
| quantileNorm | 0.047 | 0.000 | 0.048 | |
| readPRONE_example | 0.001 | 0.000 | 0.002 | |
| remove_POMA_outliers | 0.472 | 0.006 | 0.478 | |
| remove_assays_from_SE | 0.044 | 0.002 | 0.046 | |
| remove_reference_samples | 0.045 | 0.001 | 0.045 | |
| remove_samples_manually | 0.038 | 0.002 | 0.040 | |
| rlrMACycNorm | 0.599 | 0.000 | 0.599 | |
| rlrMANorm | 0.097 | 0.000 | 0.097 | |
| rlrNorm | 0.082 | 0.001 | 0.084 | |
| robnormNorm | 0.091 | 0.000 | 0.091 | |
| run_DE | 2.252 | 0.002 | 2.219 | |
| specify_comparisons | 0.033 | 0.001 | 0.030 | |
| subset_SE_by_norm | 0.078 | 0.000 | 0.078 | |
| tmmNorm | 0.125 | 0.003 | 0.127 | |
| vsnNorm | 0.072 | 0.001 | 0.072 | |