Back to Multiple platform build/check report for BioC 3.20:   simplified   long
ABCDEFGHIJKLMN[O]PQRSTUVWXYZ

This page was generated on 2025-02-06 12:05 -0500 (Thu, 06 Feb 2025).

HostnameOSArch (*)R versionInstalled pkgs
nebbiolo2Linux (Ubuntu 24.04.1 LTS)x86_644.4.2 (2024-10-31) -- "Pile of Leaves" 4753
palomino8Windows Server 2022 Datacenterx644.4.2 (2024-10-31 ucrt) -- "Pile of Leaves" 4501
merida1macOS 12.7.5 Montereyx86_644.4.2 (2024-10-31) -- "Pile of Leaves" 4524
kjohnson1macOS 13.6.6 Venturaarm644.4.2 (2024-10-31) -- "Pile of Leaves" 4476
taishanLinux (openEuler 24.03 LTS)aarch644.4.2 (2024-10-31) -- "Pile of Leaves" 4407
Click on any hostname to see more info about the system (e.g. compilers)      (*) as reported by 'uname -p', except on Windows and Mac OS X

Package 1467/2289HostnameOS / ArchINSTALLBUILDCHECKBUILD BIN
OpenStats 1.18.0  (landing page)
Marina Kan
Snapshot Date: 2025-02-03 13:00 -0500 (Mon, 03 Feb 2025)
git_url: https://git.bioconductor.org/packages/OpenStats
git_branch: RELEASE_3_20
git_last_commit: 84cb955
git_last_commit_date: 2024-10-29 10:46:06 -0500 (Tue, 29 Oct 2024)
nebbiolo2Linux (Ubuntu 24.04.1 LTS) / x86_64  OK    OK    OK  UNNEEDED, same version is already published
palomino8Windows Server 2022 Datacenter / x64  OK    OK    OK    OK  UNNEEDED, same version is already published
merida1macOS 12.7.5 Monterey / x86_64  OK    OK    OK    OK  UNNEEDED, same version is already published
kjohnson1macOS 13.6.6 Ventura / arm64  OK    OK    OK    OK  UNNEEDED, same version is already published
taishanLinux (openEuler 24.03 LTS) / aarch64  OK    OK    OK  


CHECK results for OpenStats on nebbiolo2

To the developers/maintainers of the OpenStats package:
- Allow up to 24 hours (and sometimes 48 hours) for your latest push to git@git.bioconductor.org:packages/OpenStats.git to reflect on this report. See Troubleshooting Build Report for more information.
- Use the following Renviron settings to reproduce errors and warnings.
- If 'R CMD check' started to fail recently on the Linux builder(s) over a missing dependency, add the missing dependency to 'Suggests:' in your DESCRIPTION file. See Renviron.bioc for more information.

raw results


Summary

Package: OpenStats
Version: 1.18.0
Command: /home/biocbuild/bbs-3.20-bioc/R/bin/R CMD check --install=check:OpenStats.install-out.txt --library=/home/biocbuild/bbs-3.20-bioc/R/site-library --timings OpenStats_1.18.0.tar.gz
StartedAt: 2025-02-04 00:53:11 -0500 (Tue, 04 Feb 2025)
EndedAt: 2025-02-04 00:54:52 -0500 (Tue, 04 Feb 2025)
EllapsedTime: 101.1 seconds
RetCode: 0
Status:   OK  
CheckDir: OpenStats.Rcheck
Warnings: 0

Command output

##############################################################################
##############################################################################
###
### Running command:
###
###   /home/biocbuild/bbs-3.20-bioc/R/bin/R CMD check --install=check:OpenStats.install-out.txt --library=/home/biocbuild/bbs-3.20-bioc/R/site-library --timings OpenStats_1.18.0.tar.gz
###
##############################################################################
##############################################################################


* using log directory ‘/home/biocbuild/bbs-3.20-bioc/meat/OpenStats.Rcheck’
* using R version 4.4.2 (2024-10-31)
* using platform: x86_64-pc-linux-gnu
* R was compiled by
    gcc (Ubuntu 13.2.0-23ubuntu4) 13.2.0
    GNU Fortran (Ubuntu 13.2.0-23ubuntu4) 13.2.0
* running under: Ubuntu 24.04.1 LTS
* using session charset: UTF-8
* checking for file ‘OpenStats/DESCRIPTION’ ... OK
* checking extension type ... Package
* this is package ‘OpenStats’ version ‘1.18.0’
* package encoding: UTF-8
* checking package namespace information ... OK
* checking package dependencies ... OK
* checking if this is a source package ... OK
* checking if there is a namespace ... OK
* checking for hidden files and directories ... OK
* checking for portable file names ... OK
* checking for sufficient/correct file permissions ... OK
* checking whether package ‘OpenStats’ can be installed ... OK
* checking installed package size ... OK
* checking package directory ... OK
* checking ‘build’ directory ... OK
* checking DESCRIPTION meta-information ... OK
* checking top-level files ... OK
* checking for left-over files ... OK
* checking index information ... OK
* checking package subdirectories ... OK
* checking code files for non-ASCII characters ... OK
* checking R files for syntax errors ... OK
* checking whether the package can be loaded ... OK
* checking whether the package can be loaded with stated dependencies ... OK
* checking whether the package can be unloaded cleanly ... OK
* checking whether the namespace can be loaded with stated dependencies ... OK
* checking whether the namespace can be unloaded cleanly ... OK
* checking loading without being on the library search path ... OK
* checking whether startup messages can be suppressed ... OK
* checking dependencies in R code ... OK
* checking S3 generic/method consistency ... OK
* checking replacement functions ... OK
* checking foreign function calls ... OK
* checking R code for possible problems ... OK
* checking Rd files ... NOTE
checkRd: (-1) OpenStatsAnalysis.Rd:108: Escaped LaTeX specials: \& \& \& \& \&
* checking Rd metadata ... OK
* checking Rd cross-references ... OK
* checking for missing documentation entries ... OK
* checking for code/documentation mismatches ... OK
* checking Rd \usage sections ... OK
* checking Rd contents ... OK
* checking for unstated dependencies in examples ... OK
* checking files in ‘vignettes’ ... OK
* checking examples ... OK
* checking for unstated dependencies in vignettes ... OK
* checking package vignettes ... OK
* checking re-building of vignette outputs ... OK
* checking PDF version of manual ... OK
* DONE

Status: 1 NOTE
See
  ‘/home/biocbuild/bbs-3.20-bioc/meat/OpenStats.Rcheck/00check.log’
for details.


Installation output

OpenStats.Rcheck/00install.out

##############################################################################
##############################################################################
###
### Running command:
###
###   /home/biocbuild/bbs-3.20-bioc/R/bin/R CMD INSTALL OpenStats
###
##############################################################################
##############################################################################


* installing to library ‘/home/biocbuild/bbs-3.20-bioc/R/site-library’
* installing *source* package ‘OpenStats’ ...
** using staged installation
** R
** inst
** byte-compile and prepare package for lazy loading
** help
*** installing help indices
** building package indices
** installing vignettes
** testing if installed package can be loaded from temporary location
** testing if installed package can be loaded from final location
** testing if installed package keeps a record of temporary installation path
* DONE (OpenStats)

Tests output


Example timings

OpenStats.Rcheck/OpenStats-Ex.timings

nameusersystemelapsed
OpenStatsAnalysis1.7310.0161.747
OpenStatsBuilder0.0010.0010.000
OpenStatsComplementarySplit1.2710.0021.273
OpenStatsList0.9090.0410.985
OpenStatsReport1.8550.2132.072
plot.OpenStats0.4810.0410.560
plot.OpenStatsComplementarySplit1.4150.1101.530
plot.OpenStatsFE0.0690.0020.072
plot.OpenStatsMM0.4870.0370.524
plot.OpenStatsRR0.2290.0370.266
print.OpenStats0.4490.0350.511
print.OpenStatsComplementarySplit1.4280.0911.522
print.OpenStatsFE0.0670.0020.068
print.OpenStatsMM0.4990.0450.545
print.OpenStatsRR0.2560.0340.291
summary.OpenStats0.4590.0280.503
summary.OpenStatsComplementarySplit1.7020.1181.824
summary.OpenStatsFE0.0600.0020.063
summary.OpenStatsMM0.4620.0510.514
summary.OpenStatsRR0.2150.0240.239