| Back to Multiple platform build/check report for BioC 3.20: simplified long |
|
This page was generated on 2025-04-02 19:36 -0400 (Wed, 02 Apr 2025).
| Hostname | OS | Arch (*) | R version | Installed pkgs |
|---|---|---|---|---|
| nebbiolo2 | Linux (Ubuntu 24.04.1 LTS) | x86_64 | 4.4.3 (2025-02-28) -- "Trophy Case" | 4764 |
| palomino8 | Windows Server 2022 Datacenter | x64 | 4.4.3 (2025-02-28 ucrt) -- "Trophy Case" | 4495 |
| merida1 | macOS 12.7.5 Monterey | x86_64 | 4.4.3 (2025-02-28) -- "Trophy Case" | 4522 |
| kjohnson1 | macOS 13.6.6 Ventura | arm64 | 4.4.3 (2025-02-28) -- "Trophy Case" | 4449 |
| taishan | Linux (openEuler 24.03 LTS) | aarch64 | 4.4.3 (2025-02-28) -- "Trophy Case" | 4426 |
| Click on any hostname to see more info about the system (e.g. compilers) (*) as reported by 'uname -p', except on Windows and Mac OS X | ||||
| Package 1462/2289 | Hostname | OS / Arch | INSTALL | BUILD | CHECK | BUILD BIN | ||||||||
| OncoSimulR 4.8.0 (landing page) Ramon Diaz-Uriarte
| nebbiolo2 | Linux (Ubuntu 24.04.1 LTS) / x86_64 | OK | OK | OK | |||||||||
| palomino8 | Windows Server 2022 Datacenter / x64 | OK | OK | OK | OK | |||||||||
| merida1 | macOS 12.7.5 Monterey / x86_64 | OK | OK | OK | OK | |||||||||
| kjohnson1 | macOS 13.6.6 Ventura / arm64 | ... NOT SUPPORTED ... | ||||||||||||
| taishan | Linux (openEuler 24.03 LTS) / aarch64 | OK | OK | OK | ||||||||||
|
To the developers/maintainers of the OncoSimulR package: - Allow up to 24 hours (and sometimes 48 hours) for your latest push to git@git.bioconductor.org:packages/OncoSimulR.git to reflect on this report. See Troubleshooting Build Report for more information. - Use the following Renviron settings to reproduce errors and warnings. - If 'R CMD check' started to fail recently on the Linux builder(s) over a missing dependency, add the missing dependency to 'Suggests:' in your DESCRIPTION file. See Renviron.bioc for more information. - See Martin Grigorov's blog post for how to debug Linux ARM64 related issues on a x86_64 host. |
| Package: OncoSimulR |
| Version: 4.8.0 |
| Command: /home/biocbuild/R/R/bin/R CMD check --install=check:OncoSimulR.install-out.txt --library=/home/biocbuild/R/R/site-library --no-vignettes --timings OncoSimulR_4.8.0.tar.gz |
| StartedAt: 2025-04-01 09:07:37 -0000 (Tue, 01 Apr 2025) |
| EndedAt: 2025-04-01 09:13:55 -0000 (Tue, 01 Apr 2025) |
| EllapsedTime: 377.6 seconds |
| RetCode: 0 |
| Status: OK |
| CheckDir: OncoSimulR.Rcheck |
| Warnings: 0 |
##############################################################################
##############################################################################
###
### Running command:
###
### /home/biocbuild/R/R/bin/R CMD check --install=check:OncoSimulR.install-out.txt --library=/home/biocbuild/R/R/site-library --no-vignettes --timings OncoSimulR_4.8.0.tar.gz
###
##############################################################################
##############################################################################
* using log directory ‘/home/biocbuild/bbs-3.20-bioc/meat/OncoSimulR.Rcheck’
* using R version 4.4.3 (2025-02-28)
* using platform: aarch64-unknown-linux-gnu
* R was compiled by
aarch64-unknown-linux-gnu-gcc (GCC) 14.2.0
GNU Fortran (GCC) 14.2.0
* running under: openEuler 24.03 (LTS)
* using session charset: UTF-8
* using option ‘--no-vignettes’
* checking for file ‘OncoSimulR/DESCRIPTION’ ... OK
* checking extension type ... Package
* this is package ‘OncoSimulR’ version ‘4.8.0’
* checking package namespace information ... OK
* checking package dependencies ... OK
* checking if this is a source package ... OK
* checking if there is a namespace ... OK
* checking for hidden files and directories ... NOTE
Found the following hidden files and directories:
.BBSoptions
These were most likely included in error. See section ‘Package
structure’ in the ‘Writing R Extensions’ manual.
* checking for portable file names ... OK
* checking for sufficient/correct file permissions ... OK
* checking whether package ‘OncoSimulR’ can be installed ... OK
* used C compiler: ‘aarch64-unknown-linux-gnu-gcc (GCC) 14.2.0’
* used C++ compiler: ‘aarch64-unknown-linux-gnu-g++ (GCC) 14.2.0’
* checking installed package size ... NOTE
installed size is 46.6Mb
sub-directories of 1Mb or more:
libs 44.9Mb
* checking package directory ... OK
* checking ‘build’ directory ... OK
* checking DESCRIPTION meta-information ... OK
* checking top-level files ... OK
* checking for left-over files ... OK
* checking index information ... OK
* checking package subdirectories ... OK
* checking code files for non-ASCII characters ... OK
* checking R files for syntax errors ... OK
* checking whether the package can be loaded ... OK
* checking whether the package can be loaded with stated dependencies ... OK
* checking whether the package can be unloaded cleanly ... OK
* checking whether the namespace can be loaded with stated dependencies ... OK
* checking whether the namespace can be unloaded cleanly ... OK
* checking loading without being on the library search path ... OK
* checking whether startup messages can be suppressed ... OK
* checking dependencies in R code ... OK
* checking S3 generic/method consistency ... OK
* checking replacement functions ... OK
* checking foreign function calls ... OK
* checking R code for possible problems ... OK
* checking Rd files ... OK
* checking Rd metadata ... OK
* checking Rd cross-references ... OK
* checking for missing documentation entries ... OK
* checking for code/documentation mismatches ... OK
* checking Rd \usage sections ... OK
* checking Rd contents ... OK
* checking for unstated dependencies in examples ... OK
* checking contents of ‘data’ directory ... OK
* checking data for non-ASCII characters ... OK
* checking data for ASCII and uncompressed saves ... OK
* checking line endings in C/C++/Fortran sources/headers ... OK
* checking line endings in Makefiles ... OK
* checking compilation flags in Makevars ... OK
* checking for GNU extensions in Makefiles ... OK
* checking for portable use of $(BLAS_LIBS) and $(LAPACK_LIBS) ... OK
* checking use of PKG_*FLAGS in Makefiles ... OK
* checking include directives in Makefiles ... OK
* checking compiled code ... NOTE
Note: information on .o files is not available
* checking files in ‘vignettes’ ... OK
* checking examples ... OK
* checking for unstated dependencies in ‘tests’ ... OK
* checking tests ...
Running ‘testthat.R’
OK
* checking for unstated dependencies in vignettes ... OK
* checking package vignettes ... OK
* checking running R code from vignettes ... SKIPPED
* checking re-building of vignette outputs ... SKIPPED
* checking PDF version of manual ... OK
* DONE
Status: 3 NOTEs
See
‘/home/biocbuild/bbs-3.20-bioc/meat/OncoSimulR.Rcheck/00check.log’
for details.
OncoSimulR.Rcheck/00install.out
############################################################################## ############################################################################## ### ### Running command: ### ### /home/biocbuild/R/R/bin/R CMD INSTALL OncoSimulR ### ############################################################################## ############################################################################## * installing to library ‘/home/biocbuild/R/R-4.4.3/site-library’ * installing *source* package ‘OncoSimulR’ ... ** using staged installation ** libs using C compiler: ‘aarch64-unknown-linux-gnu-gcc (GCC) 14.2.0’ using C++ compiler: ‘aarch64-unknown-linux-gnu-g++ (GCC) 14.2.0’ /opt/ohpc/pub/compiler/gcc/14.2.0/bin/aarch64-unknown-linux-gnu-gcc -I"/home/biocbuild/R/R-4.4.3/include" -DNDEBUG -I'/home/biocbuild/R/R-4.4.3/site-library/Rcpp/include' -I/usr/local/include -fPIC -g -O2 -Wall -c FitnessLandscape/gamma.c -o FitnessLandscape/gamma.o /opt/ohpc/pub/compiler/gcc/14.2.0/bin/aarch64-unknown-linux-gnu-gcc -I"/home/biocbuild/R/R-4.4.3/include" -DNDEBUG -I'/home/biocbuild/R/R-4.4.3/site-library/Rcpp/include' -I/usr/local/include -fPIC -g -O2 -Wall -c FitnessLandscape/landscape.c -o FitnessLandscape/landscape.o /opt/ohpc/pub/compiler/gcc/14.2.0/bin/aarch64-unknown-linux-gnu-gcc -I"/home/biocbuild/R/R-4.4.3/include" -DNDEBUG -I'/home/biocbuild/R/R-4.4.3/site-library/Rcpp/include' -I/usr/local/include -fPIC -g -O2 -Wall -c FitnessLandscape/random.c -o FitnessLandscape/random.o /opt/ohpc/pub/compiler/gcc/14.2.0/bin/aarch64-unknown-linux-gnu-gcc -I"/home/biocbuild/R/R-4.4.3/include" -DNDEBUG -I'/home/biocbuild/R/R-4.4.3/site-library/Rcpp/include' -I/usr/local/include -fPIC -g -O2 -Wall -c FitnessLandscape/sort.c -o FitnessLandscape/sort.o /opt/ohpc/pub/compiler/gcc/14.2.0/bin/aarch64-unknown-linux-gnu-gcc -I"/home/biocbuild/R/R-4.4.3/include" -DNDEBUG -I'/home/biocbuild/R/R-4.4.3/site-library/Rcpp/include' -I/usr/local/include -fPIC -g -O2 -Wall -c FitnessLandscape/chain.c -o FitnessLandscape/chain.o /opt/ohpc/pub/compiler/gcc/14.2.0/bin/aarch64-unknown-linux-gnu-gcc -I"/home/biocbuild/R/R-4.4.3/include" -DNDEBUG -I'/home/biocbuild/R/R-4.4.3/site-library/Rcpp/include' -I/usr/local/include -fPIC -g -O2 -Wall -c FitnessLandscape/input.c -o FitnessLandscape/input.o /opt/ohpc/pub/compiler/gcc/14.2.0/bin/aarch64-unknown-linux-gnu-gcc -I"/home/biocbuild/R/R-4.4.3/include" -DNDEBUG -I'/home/biocbuild/R/R-4.4.3/site-library/Rcpp/include' -I/usr/local/include -fPIC -g -O2 -Wall -c FitnessLandscape/genotypes.c -o FitnessLandscape/genotypes.o /opt/ohpc/pub/compiler/gcc/14.2.0/bin/aarch64-unknown-linux-gnu-gcc -I"/home/biocbuild/R/R-4.4.3/include" -DNDEBUG -I'/home/biocbuild/R/R-4.4.3/site-library/Rcpp/include' -I/usr/local/include -fPIC -g -O2 -Wall -c FitnessLandscape/ordered_pairs.c -o FitnessLandscape/ordered_pairs.o /opt/ohpc/pub/compiler/gcc/14.2.0/bin/aarch64-unknown-linux-gnu-gcc -I"/home/biocbuild/R/R-4.4.3/include" -DNDEBUG -I'/home/biocbuild/R/R-4.4.3/site-library/Rcpp/include' -I/usr/local/include -fPIC -g -O2 -Wall -c FitnessLandscape/calculus.c -o FitnessLandscape/calculus.o /opt/ohpc/pub/compiler/gcc/14.2.0/bin/aarch64-unknown-linux-gnu-gcc -I"/home/biocbuild/R/R-4.4.3/include" -DNDEBUG -I'/home/biocbuild/R/R-4.4.3/site-library/Rcpp/include' -I/usr/local/include -fPIC -g -O2 -Wall -c FitnessLandscape/vector.c -o FitnessLandscape/vector.o /opt/ohpc/pub/compiler/gcc/14.2.0/bin/aarch64-unknown-linux-gnu-gcc -I"/home/biocbuild/R/R-4.4.3/include" -DNDEBUG -I'/home/biocbuild/R/R-4.4.3/site-library/Rcpp/include' -I/usr/local/include -fPIC -g -O2 -Wall -c FitnessLandscape/generalized_chain.c -o FitnessLandscape/generalized_chain.o /opt/ohpc/pub/compiler/gcc/14.2.0/bin/aarch64-unknown-linux-gnu-gcc -I"/home/biocbuild/R/R-4.4.3/include" -DNDEBUG -I'/home/biocbuild/R/R-4.4.3/site-library/Rcpp/include' -I/usr/local/include -fPIC -g -O2 -Wall -c FitnessLandscape/LinearAlgebra.c -o FitnessLandscape/LinearAlgebra.o /opt/ohpc/pub/compiler/gcc/14.2.0/bin/aarch64-unknown-linux-gnu-gcc -I"/home/biocbuild/R/R-4.4.3/include" -DNDEBUG -I'/home/biocbuild/R/R-4.4.3/site-library/Rcpp/include' -I/usr/local/include -fPIC -g -O2 -Wall -c FitnessLandscape/summary_statistics.c -o FitnessLandscape/summary_statistics.o /opt/ohpc/pub/compiler/gcc/14.2.0/bin/aarch64-unknown-linux-gnu-gcc -I"/home/biocbuild/R/R-4.4.3/include" -DNDEBUG -I'/home/biocbuild/R/R-4.4.3/site-library/Rcpp/include' -I/usr/local/include -fPIC -g -O2 -Wall -c FitnessLandscape/epistasis_type.c -o FitnessLandscape/epistasis_type.o /opt/ohpc/pub/compiler/gcc/14.2.0/bin/aarch64-unknown-linux-gnu-gcc -I"/home/biocbuild/R/R-4.4.3/include" -DNDEBUG -I'/home/biocbuild/R/R-4.4.3/site-library/Rcpp/include' -I/usr/local/include -fPIC -g -O2 -Wall -c FitnessLandscape/decomposition.c -o FitnessLandscape/decomposition.o /opt/ohpc/pub/compiler/gcc/14.2.0/bin/aarch64-unknown-linux-gnu-gcc -I"/home/biocbuild/R/R-4.4.3/include" -DNDEBUG -I'/home/biocbuild/R/R-4.4.3/site-library/Rcpp/include' -I/usr/local/include -fPIC -g -O2 -Wall -c FitnessLandscape/models.c -o FitnessLandscape/models.o /opt/ohpc/pub/compiler/gcc/14.2.0/bin/aarch64-unknown-linux-gnu-gcc -I"/home/biocbuild/R/R-4.4.3/include" -DNDEBUG -I'/home/biocbuild/R/R-4.4.3/site-library/Rcpp/include' -I/usr/local/include -fPIC -g -O2 -Wall -c FitnessLandscape/verbose.c -o FitnessLandscape/verbose.o ar -r liblandscape.a FitnessLandscape/gamma.o FitnessLandscape/landscape.o FitnessLandscape/random.o FitnessLandscape/sort.o FitnessLandscape/chain.o FitnessLandscape/input.o FitnessLandscape/genotypes.o FitnessLandscape/ordered_pairs.o FitnessLandscape/calculus.o FitnessLandscape/vector.o FitnessLandscape/generalized_chain.o FitnessLandscape/LinearAlgebra.o FitnessLandscape/summary_statistics.o FitnessLandscape/epistasis_type.o FitnessLandscape/decomposition.o FitnessLandscape/models.o FitnessLandscape/verbose.o ; ar: creating liblandscape.a ranlib liblandscape.a; /opt/ohpc/pub/compiler/gcc/14.2.0/bin/aarch64-unknown-linux-gnu-gcc -O -Wall -o fl_statistics -I/FitnessLandscape/. -L. FitnessLandscape/main_fl_statistics.c -llandscape -lm; /opt/ohpc/pub/compiler/gcc/14.2.0/bin/aarch64-unknown-linux-gnu-gcc -O -Wall -o fl_generate -I/FitnessLandscape/. -L. FitnessLandscape/main_fl_generate.c -llandscape -lm; /opt/ohpc/pub/compiler/gcc/14.2.0/bin/aarch64-unknown-linux-gnu-gcc -I"/home/biocbuild/R/R-4.4.3/include" -DNDEBUG -I'/home/biocbuild/R/R-4.4.3/site-library/Rcpp/include' -I/usr/local/include -fPIC -g -O2 -Wall -c OncoSimulR_init.c -o OncoSimulR_init.o /opt/ohpc/pub/compiler/gcc/14.2.0/bin/aarch64-unknown-linux-gnu-g++ -std=gnu++17 -I"/home/biocbuild/R/R-4.4.3/include" -DNDEBUG -I'/home/biocbuild/R/R-4.4.3/site-library/Rcpp/include' -I/usr/local/include -fPIC -g -O2 -Wall -c RcppExports.cpp -o RcppExports.o /opt/ohpc/pub/compiler/gcc/14.2.0/bin/aarch64-unknown-linux-gnu-g++ -std=gnu++17 -I"/home/biocbuild/R/R-4.4.3/include" -DNDEBUG -I'/home/biocbuild/R/R-4.4.3/site-library/Rcpp/include' -I/usr/local/include -fPIC -g -O2 -Wall -c unity_osimul.cpp -o unity_osimul.o /opt/ohpc/pub/compiler/gcc/14.2.0/bin/aarch64-unknown-linux-gnu-g++ -std=gnu++17 -shared -L/home/biocbuild/R/R-4.4.3/lib -L/usr/local/lib -o OncoSimulR.so OncoSimulR_init.o RcppExports.o unity_osimul.o -L/home/biocbuild/R/R-4.4.3/lib -lR installing via 'install.libs.R' to /home/biocbuild/R/R-4.4.3/site-library/00LOCK-OncoSimulR/00new/OncoSimulR [1] "" Installing fl_statistics fl_generate to /home/biocbuild/R/R-4.4.3/site-library/00LOCK-OncoSimulR/00new/OncoSimulR/exec Installing library OncoSimulR.so to /home/biocbuild/R/R-4.4.3/site-library/00LOCK-OncoSimulR/00new/OncoSimulR/libs ** R ** data ** inst ** byte-compile and prepare package for lazy loading ** help *** installing help indices ** building package indices ** installing vignettes ** testing if installed package can be loaded from temporary location ** checking absolute paths in shared objects and dynamic libraries ** testing if installed package can be loaded from final location ** testing if installed package keeps a record of temporary installation path * DONE (OncoSimulR)
OncoSimulR.Rcheck/tests/testthat.Rout
R version 4.4.3 (2025-02-28) -- "Trophy Case"
Copyright (C) 2025 The R Foundation for Statistical Computing
Platform: aarch64-unknown-linux-gnu
R is free software and comes with ABSOLUTELY NO WARRANTY.
You are welcome to redistribute it under certain conditions.
Type 'license()' or 'licence()' for distribution details.
R is a collaborative project with many contributors.
Type 'contributors()' for more information and
'citation()' on how to cite R or R packages in publications.
Type 'demo()' for some demos, 'help()' for on-line help, or
'help.start()' for an HTML browser interface to help.
Type 'q()' to quit R.
> library(testthat)
> library(OncoSimulR)
This is package OncoSimulR. If you are running it on an aarch64 (arm64) platform with a MacOS note that the package fails some tests in that platform + OS that I have no way of debugging. Please read file README_tests_kjohnson3_aarch64-apple-darwin20.txt in the tests directory. As of 2024-10-09, this platform is unsupported until we can properly debug it.
>
> test_check("OncoSimulR")
Starting FDF-letter-fitness-order Tue Apr 1 09:09:17 2025
exprtk parser error:
Error[00] Position: 00 Type: [ Syntax Error] Msg: ERR202 - Undefined symbol: 'n_2_3' Expression: n_2_3
exprtk parser error:
Error[00] Position: 00 Type: [ Syntax Error] Msg: ERR202 - Undefined symbol: 'f_2_3' Expression: f_2_3
Ending FDF-small-fitness-specs Tue Apr 1 09:09:18 2025
Took 0.74
Starting LOD_POM at Tue Apr 1 09:09:18 2025
Ending LOD_POM at Tue Apr 1 09:09:38 2025
Took 19.92
Starting test.Z-all-fitness at Tue Apr 1 09:09:38 2025
Ending test.Z-all-fitness at Tue Apr 1 09:09:38 2025
Took 0.16
Starting test.Z-driver-counts at Tue Apr 1 09:09:38 2025
Ending test.Z-driver-counts at Tue Apr 1 09:09:38 2025
Took 0.17
Starting test.Z-fixation at Tue Apr 1 09:09:38 2025
Ending test.Z-fixation at Tue Apr 1 09:09:39 2025
Took 0.4
Starting test.Z-magellan at Tue Apr 1 09:09:39 2025
Ended test.Z-magellan at Tue Apr 1 09:09:40 2025
Starting test.Z-mutator at Tue Apr 1 09:09:40 2025
Ending test.Z-mutator at Tue Apr 1 09:09:41 2025
Took 0.63
Starting test.Z-mutatorFDF at Tue Apr 1 09:09:41 2025
Ending test.Z-mutatorFDF at Tue Apr 1 09:09:41 2025
Took 0.15
Starting test.Z-oncoSimulIndiv at Tue Apr 1 09:09:41 2025
Ending test.Z-oncoSimulIndiv at Tue Apr 1 09:09:42 2025
Took 0.72
Starting test.Z-oncoSimulIndivConstant at Tue Apr 1 09:09:42 2025
Ending test.Z-oncoSimulIndivConstant at Tue Apr 1 09:09:45 2025
Took 3.06
Starting test.Z-oncoSimulIndivDeath at Tue Apr 1 09:09:45 2025
Ending test.Z-oncoSimulIndivDeath at Tue Apr 1 09:09:46 2025
Took 1.02
Starting test.Z-oncoSimulIndivFDF at Tue Apr 1 09:09:46 2025
Hitted wall time. Exiting.
Hitting wall time is regarded as an error.
Ending test.Z-oncoSimulIndivFDF at Tue Apr 1 09:09:47 2025
Took 0.54
Starting test.Z-rfitness-landscape at Tue Apr 1 09:09:47 2025
Ending test.Z-rfitness-landscape at Tue Apr 1 09:09:47 2025
Took 0.25
Starting Z-sample-only-last tests Tue Apr 1 09:09:47 2025
Ending Z-sample-only-last tests Tue Apr 1 09:09:47 2025
Took 0
Starting Z-total-present-drivers tests Tue Apr 1 09:09:47 2025
Ending Z-total-present-drivers tests Tue Apr 1 09:09:48 2025
Took 1.02
Dummy empty test Tue Apr 1 09:09:48 2025
Starting accessible_genotypes at Tue Apr 1 09:09:48 2025
Ending accessible_genotypes at Tue Apr 1 09:09:57 2025
Took 9.3
Starting all fitness at Tue Apr 1 09:09:57 2025
Ending all-fitness at Tue Apr 1 09:10:03 2025
Took 6.19
Starting test.allFitnessEffectsFDF at Tue Apr 1 09:10:03 2025
Ending test.allFitnessEffectsFDF at Tue Apr 1 09:10:04 2025
Took 0.16
Starting test.allFitnessEffectsDeath at Tue Apr 1 09:10:04 2025
Ending test.allFitnessEffectsDeath at Tue Apr 1 09:10:04 2025
Took 0.46
Starting test.allFitnessEffectsFDF at Tue Apr 1 09:10:04 2025
Ending test.allFitnessEffectsFDF at Tue Apr 1 09:10:05 2025
Took 0.56
Starting driverCounts at Tue Apr 1 09:10:05 2025
Ending driverCounts at Tue Apr 1 09:10:20 2025
Took 15.09
Starting epist-order-modules at Tue Apr 1 09:10:20 2025
Ending epist-order-modules at Tue Apr 1 09:10:20 2025
Took 0.07
Starting test.evaluatingGenotypesDeath at Tue Apr 1 09:10:20 2025
Ending test.evaluatingGenotypesDeath at Tue Apr 1 09:10:20 2025
Took 0.23
Starting test.evaluatingGenotypesFDF at Tue Apr 1 09:10:20 2025
Ending test.evaluatingGenotypesFDF at Tue Apr 1 09:10:20 2025
Took 0.28
Starting exercise-plotting-code at Tue Apr 1 09:10:20 2025
Ending exercise-plotting-code at Tue Apr 1 09:10:25 2025
Took 4.29
Starting exercise-rfitness at Tue Apr 1 09:10:25 2025
Ending exercise-rfitness at Tue Apr 1 09:10:38 2025
Took 12.93
Starting to_Magella at Tue Apr 1 09:10:38 2025
Ending to_Magella at Tue Apr 1 09:10:38 2025
Took 0.04
Starting fitness preds at Tue Apr 1 09:10:38 2025
Observed vs expected, case III
done tries 1
Ending fitness preds long at Tue Apr 1 09:10:49 2025
Took 11.05
Starting fixation at Tue Apr 1 09:10:49 2025
Ending fixation at Tue Apr 1 09:11:09 2025
Took 20.57
Starting test.flfast-additional.R test at Tue Apr 1 09:11:09 2025
DEBUG2: Value of rnb = nan
DEBUG2: Value of m = 1
DEBUG2: Value of pe = 0
DEBUG2: Value of pm = 0.999995
this is spP
popSize = 1
birth = 1
death = 0
W = 1.00001
R = 1.00001
mutation = 6e-06
timeLastUpdate = 2.39196
absfitness = -inf
numMutablePos = 6
Unrecoverable exception: Algo 2: retval not finite. Aborting.
Ending test.flfast-additional.R test at Tue Apr 1 09:11:11 2025
Took 1.53
Starting test.flfast-mutator.R test at Tue Apr 1 09:11:11 2025
Finished test.flfast-mutator.R test at Tue Apr 1 09:11:13 2025
Took 2.36
Starting genotFitness at Tue Apr 1 09:11:13 2025
Ending genotFitness at Tue Apr 1 09:11:13 2025
Took 0.21
Starting genot_fitness_to_epistasis at Tue Apr 1 09:11:13 2025
Ending genot_fitness_to_epistasis at Tue Apr 1 09:11:13 2025
Took 0.05
Starting init-mutant tests Tue Apr 1 09:11:13 2025
exprtk parser error:
Error[00] Position: 18 Type: [ Syntax Error] Msg: ERR202 - Undefined symbol: 'f_2' Expression: 1.1 + 0.7*((f_1 + f_2) > 0.3)
Ending init-mutant tests Tue Apr 1 09:11:21 2025
Took 7.3
Starting interventions tests Tue Apr 1 09:11:21 2025
[1] "Checking intervention: intOverA"
[1] "Checking intervention: intOverA"
[1] "Checking intervention: intOverA"
[1] "Checking intervention: intOverA"
[1] "Checking intervention: intOverMultiplicatesA"
In intervention:intOverMultiplicatesA with WhatHappens: n_1 = n_1 * 2. You cannot intervene to generate more population.[1] "Checking intervention: intOverA"
[1] "Checking intervention: intOverA"
[1] "Checking intervention: intOverTotPop"
[1] 0.72 0.72 0.72
[1] "Checking intervention: intOverTotPop"
[1] "Checking intervention: intOverA"
[1] "Checking intervention: intOverB"
[1] "Checking intervention: intOverC"
[1] "Checking intervention: intOverD"
Init Mutant with birth == 1.0
Init Mutant with birth == 1.0
[1] "Checking intervention: intOverA"
[1] "Checking intervention: intOverB"
[1] "Checking intervention: intOverC"
[1] "Checking intervention: intOverD"
Init Mutant with birth == 1.0
Init Mutant with birth == 1.0
[1] "Checking user variable: user_var_1"
[1] "Checking rule: rule_1"
[1] "Checking rule: rule_2"
[1] "Checking rule: rule_3"
[1] "Checking intervention: intOverTotPop"
[1] "Checking intervention: intOverTotPop2"
[1] "Checking intervention: intOverTotPop3"
[1] "Checking user variable: user_var_1"
[1] "Checking rule: rule_1"
[1] "Checking rule: rule_2"
[1] "Checking rule: rule_3"
[1] "Checking intervention: intOverTotPop"
Ending interventions tests Tue Apr 1 09:11:25 2025
Took 4.73
Starting test.magellan at Tue Apr 1 09:11:25 2025
Ending test.magellan at Tue Apr 1 09:11:26 2025
Took 0.23
Starting test.modules-root-no-root at Tue Apr 1 09:11:26 2025
Ending test.modules-root-no-root at Tue Apr 1 09:11:26 2025
Took 0.15
Starting at mutPropGrowth Tue Apr 1 09:11:26 2025
Ended test.mutPropGrowth: Tue Apr 1 09:11:35 2025
Took 8.82
Starting test.mutator-oncoSimulSample.R test at Tue Apr 1 09:11:35 2025
Finished test.mutator-oncoSimulSample.R test at Tue Apr 1 09:11:46 2025
Took 11.68 seconds
Starting test.mutator.R test at Tue Apr 1 09:11:46 2025[1] 3.923815e-11
[1] 1.409307e-14
Finished test.mutator.R test at Tue Apr 1 09:12:03 2025
Took 16.6
Starting test.mutatorFDF.R test at Tue Apr 1 09:12:03 2025
Starting test.no-v1 at Tue Apr 1 09:12:04 2025
Ending test.no-v1 at Tue Apr 1 09:12:04 2025
Took 0.01
Starting oncoSimulIndiv-miscell tests Tue Apr 1 09:12:04 2025
Ending oncoSimulIndiv-miscell tests Tue Apr 1 09:12:17 2025
Took 13.33
Starting oncoSimulSample-failures tests Tue Apr 1 09:12:17 2025
Ending oncoSimulSample-failures tests Tue Apr 1 09:12:22 2025
Took 4.53
Starting oncoSimulSample-limits tests Tue Apr 1 09:12:22 2025
Ending oncoSimulSample-limits tests Tue Apr 1 09:12:22 2025
Took 0.08
Starting per-gene-mutation rates at Tue Apr 1 09:12:22 2025
Ending per-gene-mutation rates at Tue Apr 1 09:13:00 2025
Took 37.96
Starting plotFitnessLandscape at Tue Apr 1 09:13:00 2025
Ending plotFitnessLandscape at Tue Apr 1 09:13:04 2025
Took 4.46
Starting poset-transformations tests Tue Apr 1 09:13:04 2025
Ending poset-transformations tests Tue Apr 1 09:13:17 2025
Took 13.02
Starting sample-prob Tue Apr 1 09:13:17 2025
[1] 2.238949e-23
[1] 1.621913e-13
[1] 1.102065e-10
[1] 1.360913e-11
[1] 1.289177e-14
[1] 3.357554e-14
[1] 4.0131e-10
[1] 2.199262e-16
[1] 1.508743e-10
[1] 6.174487e-09
[1] 7.809349e-08
[1] 1.181696e-06
Ending sample-prob tests Tue Apr 1 09:13:26 2025
Took 8.78
Starting samplePop tests Tue Apr 1 09:13:26 2025
Ending samplePop tests Tue Apr 1 09:13:34 2025
Took 7.63
Starting simuls-runs-examples tests Tue Apr 1 09:13:34 2025
Ending simuls-runs-examples tests Tue Apr 1 09:13:41 2025
Took 7.61
Starting user variable tests Tue Apr 1 09:13:41 2025
[1] "Checking user variable: user_var_1"
[1] "Checking rule: rule_1"
Ending user variable tests Tue Apr 1 09:13:41 2025
Took 0.1
Starting warning-mutPropGrowth tests Tue Apr 1 09:13:41 2025
Ending warning-mutPropGrowth tests Tue Apr 1 09:13:42 2025
Took 0.55
Starting wide2long tests Tue Apr 1 09:13:42 2025
Ending wide2long tests Tue Apr 1 09:13:42 2025
Took 0.32
[ FAIL 0 | WARN 19 | SKIP 5 | PASS 8415 ]
══ Skipped tests (5) ═══════════════════════════════════════════════════════════
• empty test (5): 'test.FDF-letter-fitness-order.R:376:1',
'test.ZZ-dummy-skip-warn-test.R:8:1', 'test.ZZ-dummy-skip-warn-test.R:12:1',
'test.fixation.R:4:1', 'test.init-mutant.R:1099:1'
[ FAIL 0 | WARN 19 | SKIP 5 | PASS 8415 ]
>
> proc.time()
user system elapsed
268.990 30.534 271.155
OncoSimulR.Rcheck/OncoSimulR-Ex.timings
| name | user | system | elapsed | |
| OncoSimulWide2Long | 0.265 | 0.008 | 0.346 | |
| POM | 0.719 | 0.036 | 0.486 | |
| allFitnessEffects | 2.210 | 0.048 | 2.438 | |
| benchmarks | 0.011 | 0.000 | 0.011 | |
| createInterventions | 0.337 | 0.000 | 0.338 | |
| createUserVars | 0.502 | 0.000 | 0.503 | |
| evalAllGenotypes | 0.255 | 0.000 | 0.275 | |
| example-missing-drivers | 0.273 | 0.035 | 0.387 | |
| examplePosets | 0.311 | 0.016 | 0.327 | |
| examplesFitnessEffects | 0.096 | 0.004 | 0.101 | |
| freq-dep-simul-examples | 0.010 | 0.000 | 0.011 | |
| mcfLs | 0 | 0 | 0 | |
| oncoSimulIndiv | 1.159 | 0.121 | 1.498 | |
| plot.fitnessEffects | 0.275 | 0.024 | 0.299 | |
| plot.oncosimul | 0.579 | 0.020 | 0.632 | |
| plotClonePhylog | 1.385 | 0.068 | 1.456 | |
| plotFitnessLandscape | 1.425 | 0.012 | 1.484 | |
| plotPoset | 0.106 | 0.000 | 0.106 | |
| poset | 0.123 | 0.008 | 0.131 | |
| rfitness | 0.853 | 0.032 | 1.140 | |
| samplePop | 0.091 | 0.047 | 0.165 | |
| simOGraph | 0.062 | 0.012 | 0.111 | |
| to_Magellan | 0.217 | 0.011 | 0.447 | |
| vignette_pre_computed | 0.009 | 0.000 | 0.017 | |