| Back to Multiple platform build/check report for BioC 3.20: simplified long |
|
This page was generated on 2024-11-20 12:07 -0500 (Wed, 20 Nov 2024).
| Hostname | OS | Arch (*) | R version | Installed pkgs |
|---|---|---|---|---|
| teran2 | Linux (Ubuntu 24.04.1 LTS) | x86_64 | 4.4.2 (2024-10-31) -- "Pile of Leaves" | 4481 |
| nebbiolo2 | Linux (Ubuntu 24.04.1 LTS) | x86_64 | 4.4.2 (2024-10-31) -- "Pile of Leaves" | 4479 |
| palomino8 | Windows Server 2022 Datacenter | x64 | 4.4.2 (2024-10-31 ucrt) -- "Pile of Leaves" | 4359 |
| lconway | macOS 12.7.1 Monterey | x86_64 | 4.4.1 (2024-06-14) -- "Race for Your Life" | 4539 |
| kunpeng2 | Linux (openEuler 22.03 LTS-SP1) | aarch64 | 4.4.1 (2024-06-14) -- "Race for Your Life" | 4493 |
| Click on any hostname to see more info about the system (e.g. compilers) (*) as reported by 'uname -p', except on Windows and Mac OS X | ||||
| Package 1462/2289 | Hostname | OS / Arch | INSTALL | BUILD | CHECK | BUILD BIN | ||||||||
| OncoSimulR 4.8.0 (landing page) Ramon Diaz-Uriarte
| teran2 | Linux (Ubuntu 24.04.1 LTS) / x86_64 | OK | OK | OK | |||||||||
| nebbiolo2 | Linux (Ubuntu 24.04.1 LTS) / x86_64 | OK | OK | OK | ||||||||||
| palomino8 | Windows Server 2022 Datacenter / x64 | OK | OK | OK | OK | |||||||||
| lconway | macOS 12.7.1 Monterey / x86_64 | OK | OK | OK | OK | |||||||||
| kunpeng2 | Linux (openEuler 22.03 LTS-SP1) / aarch64 | OK | OK | OK | ||||||||||
|
To the developers/maintainers of the OncoSimulR package: - Allow up to 24 hours (and sometimes 48 hours) for your latest push to git@git.bioconductor.org:packages/OncoSimulR.git to reflect on this report. See Troubleshooting Build Report for more information. - Use the following Renviron settings to reproduce errors and warnings. - If 'R CMD check' started to fail recently on the Linux builder(s) over a missing dependency, add the missing dependency to 'Suggests:' in your DESCRIPTION file. See Renviron.bioc for more information. - See Martin Grigorov's blog post for how to debug Linux ARM64 related issues on a x86_64 host. |
| Package: OncoSimulR |
| Version: 4.8.0 |
| Command: /home/biocbuild/R/R/bin/R CMD check --install=check:OncoSimulR.install-out.txt --library=/home/biocbuild/R/R/site-library --no-vignettes --timings OncoSimulR_4.8.0.tar.gz |
| StartedAt: 2024-11-20 10:40:56 -0000 (Wed, 20 Nov 2024) |
| EndedAt: 2024-11-20 10:46:39 -0000 (Wed, 20 Nov 2024) |
| EllapsedTime: 342.6 seconds |
| RetCode: 0 |
| Status: OK |
| CheckDir: OncoSimulR.Rcheck |
| Warnings: 0 |
##############################################################################
##############################################################################
###
### Running command:
###
### /home/biocbuild/R/R/bin/R CMD check --install=check:OncoSimulR.install-out.txt --library=/home/biocbuild/R/R/site-library --no-vignettes --timings OncoSimulR_4.8.0.tar.gz
###
##############################################################################
##############################################################################
* using log directory ‘/home/biocbuild/bbs-3.20-bioc/meat/OncoSimulR.Rcheck’
* using R version 4.4.1 (2024-06-14)
* using platform: aarch64-unknown-linux-gnu
* R was compiled by
gcc (GCC) 12.2.1 20220819 (openEuler 12.2.1-14)
GNU Fortran (GCC) 10.3.1
* running under: openEuler 22.03 (LTS-SP1)
* using session charset: UTF-8
* using option ‘--no-vignettes’
* checking for file ‘OncoSimulR/DESCRIPTION’ ... OK
* checking extension type ... Package
* this is package ‘OncoSimulR’ version ‘4.8.0’
* checking package namespace information ... OK
* checking package dependencies ... OK
* checking if this is a source package ... OK
* checking if there is a namespace ... OK
* checking for hidden files and directories ... NOTE
Found the following hidden files and directories:
.BBSoptions
These were most likely included in error. See section ‘Package
structure’ in the ‘Writing R Extensions’ manual.
* checking for portable file names ... OK
* checking for sufficient/correct file permissions ... OK
* checking whether package ‘OncoSimulR’ can be installed ... OK
* used C compiler: ‘gcc (conda-forge gcc 14.2.0-1) 14.2.0’
* used C++ compiler: ‘g++ (conda-forge gcc 14.2.0-1) 14.2.0’
* checking installed package size ... NOTE
installed size is 46.7Mb
sub-directories of 1Mb or more:
libs 44.9Mb
* checking package directory ... OK
* checking ‘build’ directory ... OK
* checking DESCRIPTION meta-information ... OK
* checking top-level files ... OK
* checking for left-over files ... OK
* checking index information ... OK
* checking package subdirectories ... OK
* checking code files for non-ASCII characters ... OK
* checking R files for syntax errors ... OK
* checking whether the package can be loaded ... OK
* checking whether the package can be loaded with stated dependencies ... OK
* checking whether the package can be unloaded cleanly ... OK
* checking whether the namespace can be loaded with stated dependencies ... OK
* checking whether the namespace can be unloaded cleanly ... OK
* checking loading without being on the library search path ... OK
* checking whether startup messages can be suppressed ... OK
* checking dependencies in R code ... OK
* checking S3 generic/method consistency ... OK
* checking replacement functions ... OK
* checking foreign function calls ... OK
* checking R code for possible problems ... OK
* checking Rd files ... OK
* checking Rd metadata ... OK
* checking Rd cross-references ... OK
* checking for missing documentation entries ... OK
* checking for code/documentation mismatches ... OK
* checking Rd \usage sections ... OK
* checking Rd contents ... OK
* checking for unstated dependencies in examples ... OK
* checking contents of ‘data’ directory ... OK
* checking data for non-ASCII characters ... OK
* checking data for ASCII and uncompressed saves ... OK
* checking line endings in C/C++/Fortran sources/headers ... OK
* checking line endings in Makefiles ... OK
* checking compilation flags in Makevars ... OK
* checking for GNU extensions in Makefiles ... OK
* checking for portable use of $(BLAS_LIBS) and $(LAPACK_LIBS) ... OK
* checking use of PKG_*FLAGS in Makefiles ... OK
* checking include directives in Makefiles ... OK
* checking compiled code ... NOTE
Note: information on .o files is not available
* checking files in ‘vignettes’ ... OK
* checking examples ... OK
* checking for unstated dependencies in ‘tests’ ... OK
* checking tests ...
Running ‘testthat.R’
OK
* checking for unstated dependencies in vignettes ... OK
* checking package vignettes ... OK
* checking running R code from vignettes ... SKIPPED
* checking re-building of vignette outputs ... SKIPPED
* checking PDF version of manual ... OK
* DONE
Status: 3 NOTEs
See
‘/home/biocbuild/bbs-3.20-bioc/meat/OncoSimulR.Rcheck/00check.log’
for details.
OncoSimulR.Rcheck/00install.out
############################################################################## ############################################################################## ### ### Running command: ### ### /home/biocbuild/R/R/bin/R CMD INSTALL OncoSimulR ### ############################################################################## ############################################################################## * installing to library ‘/home/biocbuild/R/R-4.4.1/site-library’ * installing *source* package ‘OncoSimulR’ ... ** using staged installation ** libs using C compiler: ‘gcc (conda-forge gcc 14.2.0-1) 14.2.0’ using C++ compiler: ‘g++ (conda-forge gcc 14.2.0-1) 14.2.0’ gcc -I"/home/biocbuild/R/R-4.4.1/include" -DNDEBUG -I'/home/biocbuild/R/R-4.4.1/site-library/Rcpp/include' -I/usr/local/include -fPIC -g -O2 -Wall -c FitnessLandscape/gamma.c -o FitnessLandscape/gamma.o gcc -I"/home/biocbuild/R/R-4.4.1/include" -DNDEBUG -I'/home/biocbuild/R/R-4.4.1/site-library/Rcpp/include' -I/usr/local/include -fPIC -g -O2 -Wall -c FitnessLandscape/landscape.c -o FitnessLandscape/landscape.o gcc -I"/home/biocbuild/R/R-4.4.1/include" -DNDEBUG -I'/home/biocbuild/R/R-4.4.1/site-library/Rcpp/include' -I/usr/local/include -fPIC -g -O2 -Wall -c FitnessLandscape/random.c -o FitnessLandscape/random.o gcc -I"/home/biocbuild/R/R-4.4.1/include" -DNDEBUG -I'/home/biocbuild/R/R-4.4.1/site-library/Rcpp/include' -I/usr/local/include -fPIC -g -O2 -Wall -c FitnessLandscape/sort.c -o FitnessLandscape/sort.o gcc -I"/home/biocbuild/R/R-4.4.1/include" -DNDEBUG -I'/home/biocbuild/R/R-4.4.1/site-library/Rcpp/include' -I/usr/local/include -fPIC -g -O2 -Wall -c FitnessLandscape/chain.c -o FitnessLandscape/chain.o gcc -I"/home/biocbuild/R/R-4.4.1/include" -DNDEBUG -I'/home/biocbuild/R/R-4.4.1/site-library/Rcpp/include' -I/usr/local/include -fPIC -g -O2 -Wall -c FitnessLandscape/input.c -o FitnessLandscape/input.o gcc -I"/home/biocbuild/R/R-4.4.1/include" -DNDEBUG -I'/home/biocbuild/R/R-4.4.1/site-library/Rcpp/include' -I/usr/local/include -fPIC -g -O2 -Wall -c FitnessLandscape/genotypes.c -o FitnessLandscape/genotypes.o gcc -I"/home/biocbuild/R/R-4.4.1/include" -DNDEBUG -I'/home/biocbuild/R/R-4.4.1/site-library/Rcpp/include' -I/usr/local/include -fPIC -g -O2 -Wall -c FitnessLandscape/ordered_pairs.c -o FitnessLandscape/ordered_pairs.o gcc -I"/home/biocbuild/R/R-4.4.1/include" -DNDEBUG -I'/home/biocbuild/R/R-4.4.1/site-library/Rcpp/include' -I/usr/local/include -fPIC -g -O2 -Wall -c FitnessLandscape/calculus.c -o FitnessLandscape/calculus.o gcc -I"/home/biocbuild/R/R-4.4.1/include" -DNDEBUG -I'/home/biocbuild/R/R-4.4.1/site-library/Rcpp/include' -I/usr/local/include -fPIC -g -O2 -Wall -c FitnessLandscape/vector.c -o FitnessLandscape/vector.o gcc -I"/home/biocbuild/R/R-4.4.1/include" -DNDEBUG -I'/home/biocbuild/R/R-4.4.1/site-library/Rcpp/include' -I/usr/local/include -fPIC -g -O2 -Wall -c FitnessLandscape/generalized_chain.c -o FitnessLandscape/generalized_chain.o gcc -I"/home/biocbuild/R/R-4.4.1/include" -DNDEBUG -I'/home/biocbuild/R/R-4.4.1/site-library/Rcpp/include' -I/usr/local/include -fPIC -g -O2 -Wall -c FitnessLandscape/LinearAlgebra.c -o FitnessLandscape/LinearAlgebra.o gcc -I"/home/biocbuild/R/R-4.4.1/include" -DNDEBUG -I'/home/biocbuild/R/R-4.4.1/site-library/Rcpp/include' -I/usr/local/include -fPIC -g -O2 -Wall -c FitnessLandscape/summary_statistics.c -o FitnessLandscape/summary_statistics.o gcc -I"/home/biocbuild/R/R-4.4.1/include" -DNDEBUG -I'/home/biocbuild/R/R-4.4.1/site-library/Rcpp/include' -I/usr/local/include -fPIC -g -O2 -Wall -c FitnessLandscape/epistasis_type.c -o FitnessLandscape/epistasis_type.o gcc -I"/home/biocbuild/R/R-4.4.1/include" -DNDEBUG -I'/home/biocbuild/R/R-4.4.1/site-library/Rcpp/include' -I/usr/local/include -fPIC -g -O2 -Wall -c FitnessLandscape/decomposition.c -o FitnessLandscape/decomposition.o gcc -I"/home/biocbuild/R/R-4.4.1/include" -DNDEBUG -I'/home/biocbuild/R/R-4.4.1/site-library/Rcpp/include' -I/usr/local/include -fPIC -g -O2 -Wall -c FitnessLandscape/models.c -o FitnessLandscape/models.o gcc -I"/home/biocbuild/R/R-4.4.1/include" -DNDEBUG -I'/home/biocbuild/R/R-4.4.1/site-library/Rcpp/include' -I/usr/local/include -fPIC -g -O2 -Wall -c FitnessLandscape/verbose.c -o FitnessLandscape/verbose.o ar -r liblandscape.a FitnessLandscape/gamma.o FitnessLandscape/landscape.o FitnessLandscape/random.o FitnessLandscape/sort.o FitnessLandscape/chain.o FitnessLandscape/input.o FitnessLandscape/genotypes.o FitnessLandscape/ordered_pairs.o FitnessLandscape/calculus.o FitnessLandscape/vector.o FitnessLandscape/generalized_chain.o FitnessLandscape/LinearAlgebra.o FitnessLandscape/summary_statistics.o FitnessLandscape/epistasis_type.o FitnessLandscape/decomposition.o FitnessLandscape/models.o FitnessLandscape/verbose.o ; ar: creating liblandscape.a ranlib liblandscape.a; gcc -O -Wall -o fl_statistics -I/FitnessLandscape/. -L. FitnessLandscape/main_fl_statistics.c -llandscape -lm; gcc -O -Wall -o fl_generate -I/FitnessLandscape/. -L. FitnessLandscape/main_fl_generate.c -llandscape -lm; gcc -I"/home/biocbuild/R/R-4.4.1/include" -DNDEBUG -I'/home/biocbuild/R/R-4.4.1/site-library/Rcpp/include' -I/usr/local/include -fPIC -g -O2 -Wall -c OncoSimulR_init.c -o OncoSimulR_init.o g++ -std=gnu++17 -I"/home/biocbuild/R/R-4.4.1/include" -DNDEBUG -I'/home/biocbuild/R/R-4.4.1/site-library/Rcpp/include' -I/usr/local/include -fPIC -g -O2 -Wall -c RcppExports.cpp -o RcppExports.o g++ -std=gnu++17 -I"/home/biocbuild/R/R-4.4.1/include" -DNDEBUG -I'/home/biocbuild/R/R-4.4.1/site-library/Rcpp/include' -I/usr/local/include -fPIC -g -O2 -Wall -c unity_osimul.cpp -o unity_osimul.o g++ -std=gnu++17 -shared -L/home/biocbuild/R/R-4.4.1/lib -L/usr/local/lib -o OncoSimulR.so OncoSimulR_init.o RcppExports.o unity_osimul.o -L/home/biocbuild/R/R-4.4.1/lib -lR installing via 'install.libs.R' to /home/biocbuild/R/R-4.4.1/site-library/00LOCK-OncoSimulR/00new/OncoSimulR [1] "" Installing fl_statistics fl_generate to /home/biocbuild/R/R-4.4.1/site-library/00LOCK-OncoSimulR/00new/OncoSimulR/exec Installing library OncoSimulR.so to /home/biocbuild/R/R-4.4.1/site-library/00LOCK-OncoSimulR/00new/OncoSimulR/libs ** R ** data ** inst ** byte-compile and prepare package for lazy loading ** help *** installing help indices ** building package indices ** installing vignettes ** testing if installed package can be loaded from temporary location ** checking absolute paths in shared objects and dynamic libraries ** testing if installed package can be loaded from final location ** testing if installed package keeps a record of temporary installation path * DONE (OncoSimulR)
OncoSimulR.Rcheck/tests/testthat.Rout
R version 4.4.1 (2024-06-14) -- "Race for Your Life"
Copyright (C) 2024 The R Foundation for Statistical Computing
Platform: aarch64-unknown-linux-gnu
R is free software and comes with ABSOLUTELY NO WARRANTY.
You are welcome to redistribute it under certain conditions.
Type 'license()' or 'licence()' for distribution details.
R is a collaborative project with many contributors.
Type 'contributors()' for more information and
'citation()' on how to cite R or R packages in publications.
Type 'demo()' for some demos, 'help()' for on-line help, or
'help.start()' for an HTML browser interface to help.
Type 'q()' to quit R.
> library(testthat)
> library(OncoSimulR)
This is package OncoSimulR. If you are running it on an aarch64 (arm64) platform with a MacOS note that the package fails some tests in that platform + OS that I have no way of debugging. Please read file README_tests_kjohnson3_aarch64-apple-darwin20.txt in the tests directory. As of 2024-10-09, this platform is unsupported until we can properly debug it.
>
> test_check("OncoSimulR")
Starting FDF-letter-fitness-order Wed Nov 20 10:42:35 2024
exprtk parser error:
Error[00] Position: 00 Type: [ Syntax Error] Msg: ERR202 - Undefined symbol: 'n_2_3' Expression: n_2_3
exprtk parser error:
Error[00] Position: 00 Type: [ Syntax Error] Msg: ERR202 - Undefined symbol: 'f_2_3' Expression: f_2_3
Ending FDF-small-fitness-specs Wed Nov 20 10:42:36 2024
Took 0.59
Starting LOD_POM at Wed Nov 20 10:42:36 2024
Ending LOD_POM at Wed Nov 20 10:42:50 2024
Took 13.87
Starting test.Z-all-fitness at Wed Nov 20 10:42:50 2024
Ending test.Z-all-fitness at Wed Nov 20 10:42:50 2024
Took 0.14
Starting test.Z-driver-counts at Wed Nov 20 10:42:50 2024
Ending test.Z-driver-counts at Wed Nov 20 10:42:50 2024
Took 0.19
Starting test.Z-fixation at Wed Nov 20 10:42:50 2024
Ending test.Z-fixation at Wed Nov 20 10:42:51 2024
Took 0.38
Starting test.Z-magellan at Wed Nov 20 10:42:51 2024
Ended test.Z-magellan at Wed Nov 20 10:42:52 2024
Starting test.Z-mutator at Wed Nov 20 10:42:52 2024
Ending test.Z-mutator at Wed Nov 20 10:42:53 2024
Took 0.45
Starting test.Z-mutatorFDF at Wed Nov 20 10:42:53 2024
Ending test.Z-mutatorFDF at Wed Nov 20 10:42:53 2024
Took 0.14
Starting test.Z-oncoSimulIndiv at Wed Nov 20 10:42:53 2024
Ending test.Z-oncoSimulIndiv at Wed Nov 20 10:42:54 2024
Took 0.76
Starting test.Z-oncoSimulIndivConstant at Wed Nov 20 10:42:54 2024
Ending test.Z-oncoSimulIndivConstant at Wed Nov 20 10:42:57 2024
Took 2.9
Starting test.Z-oncoSimulIndivDeath at Wed Nov 20 10:42:57 2024
Ending test.Z-oncoSimulIndivDeath at Wed Nov 20 10:42:58 2024
Took 1.07
Starting test.Z-oncoSimulIndivFDF at Wed Nov 20 10:42:58 2024
Hitted wall time. Exiting.
Hitting wall time is regarded as an error.
Ending test.Z-oncoSimulIndivFDF at Wed Nov 20 10:42:59 2024
Took 0.76
Starting test.Z-rfitness-landscape at Wed Nov 20 10:42:59 2024
Ending test.Z-rfitness-landscape at Wed Nov 20 10:42:59 2024
Took 0.27
Starting Z-sample-only-last tests Wed Nov 20 10:42:59 2024
Ending Z-sample-only-last tests Wed Nov 20 10:42:59 2024
Took 0
Starting Z-total-present-drivers tests Wed Nov 20 10:42:59 2024
Ending Z-total-present-drivers tests Wed Nov 20 10:43:00 2024
Took 0.97
Dummy empty test Wed Nov 20 10:43:00 2024
Starting accessible_genotypes at Wed Nov 20 10:43:00 2024
Ending accessible_genotypes at Wed Nov 20 10:43:10 2024
Took 9.88
Starting all fitness at Wed Nov 20 10:43:10 2024
Ending all-fitness at Wed Nov 20 10:43:16 2024
Took 6.62
Starting test.allFitnessEffectsFDF at Wed Nov 20 10:43:16 2024
Ending test.allFitnessEffectsFDF at Wed Nov 20 10:43:17 2024
Took 0.17
Starting test.allFitnessEffectsDeath at Wed Nov 20 10:43:17 2024
Ending test.allFitnessEffectsDeath at Wed Nov 20 10:43:17 2024
Took 0.5
Starting test.allFitnessEffectsFDF at Wed Nov 20 10:43:17 2024
Ending test.allFitnessEffectsFDF at Wed Nov 20 10:43:18 2024
Took 0.52
Starting driverCounts at Wed Nov 20 10:43:18 2024
Ending driverCounts at Wed Nov 20 10:43:26 2024
Took 8.36
Starting epist-order-modules at Wed Nov 20 10:43:26 2024
Ending epist-order-modules at Wed Nov 20 10:43:26 2024
Took 0.08
Starting test.evaluatingGenotypesDeath at Wed Nov 20 10:43:26 2024
Ending test.evaluatingGenotypesDeath at Wed Nov 20 10:43:26 2024
Took 0.28
Starting test.evaluatingGenotypesFDF at Wed Nov 20 10:43:26 2024
Ending test.evaluatingGenotypesFDF at Wed Nov 20 10:43:27 2024
Took 0.27
Starting exercise-plotting-code at Wed Nov 20 10:43:27 2024
Ending exercise-plotting-code at Wed Nov 20 10:43:31 2024
Took 4.02
Starting exercise-rfitness at Wed Nov 20 10:43:31 2024
Ending exercise-rfitness at Wed Nov 20 10:43:43 2024
Took 12.57
Starting to_Magella at Wed Nov 20 10:43:43 2024
Ending to_Magella at Wed Nov 20 10:43:43 2024
Took 0.04
Starting fitness preds at Wed Nov 20 10:43:43 2024
Observed vs expected, case III
done tries 1
Ending fitness preds long at Wed Nov 20 10:43:50 2024
Took 7.26
Starting fixation at Wed Nov 20 10:43:50 2024
Ending fixation at Wed Nov 20 10:44:09 2024
Took 18.51
Starting test.flfast-additional.R test at Wed Nov 20 10:44:09 2024
Ending test.flfast-additional.R test at Wed Nov 20 10:44:11 2024
Took 1.7
Starting test.flfast-mutator.R test at Wed Nov 20 10:44:11 2024
Finished test.flfast-mutator.R test at Wed Nov 20 10:44:13 2024
Took 1.82
Starting genotFitness at Wed Nov 20 10:44:13 2024
Ending genotFitness at Wed Nov 20 10:44:13 2024
Took 0.25
Starting genot_fitness_to_epistasis at Wed Nov 20 10:44:13 2024
Ending genot_fitness_to_epistasis at Wed Nov 20 10:44:13 2024
Took 0.06
Starting init-mutant tests Wed Nov 20 10:44:13 2024
exprtk parser error:
Error[00] Position: 18 Type: [ Syntax Error] Msg: ERR202 - Undefined symbol: 'f_2' Expression: 1.1 + 0.7*((f_1 + f_2) > 0.3)
Ending init-mutant tests Wed Nov 20 10:44:21 2024
Took 7.83
Starting interventions tests Wed Nov 20 10:44:21 2024
[1] "Checking intervention: intOverA"
[1] "Checking intervention: intOverA"
[1] "Checking intervention: intOverA"
[1] "Checking intervention: intOverA"
[1] "Checking intervention: intOverMultiplicatesA"
In intervention:intOverMultiplicatesA with WhatHappens: n_1 = n_1 * 2. You cannot intervene to generate more population.[1] "Checking intervention: intOverA"
[1] "Checking intervention: intOverA"
[1] "Checking intervention: intOverTotPop"
[1] 0.69 0.69 0.69
[1] "Checking intervention: intOverTotPop"
[1] "Checking intervention: intOverA"
[1] "Checking intervention: intOverB"
[1] "Checking intervention: intOverC"
[1] "Checking intervention: intOverD"
Init Mutant with birth == 1.0
Init Mutant with birth == 1.0
[1] "Checking intervention: intOverA"
[1] "Checking intervention: intOverB"
[1] "Checking intervention: intOverC"
[1] "Checking intervention: intOverD"
Init Mutant with birth == 1.0
Init Mutant with birth == 1.0
[1] "Checking user variable: user_var_1"
[1] "Checking rule: rule_1"
[1] "Checking rule: rule_2"
[1] "Checking rule: rule_3"
[1] "Checking intervention: intOverTotPop"
[1] "Checking intervention: intOverTotPop2"
[1] "Checking intervention: intOverTotPop3"
[1] "Checking user variable: user_var_1"
[1] "Checking rule: rule_1"
[1] "Checking rule: rule_2"
[1] "Checking rule: rule_3"
[1] "Checking intervention: intOverTotPop"
Ending interventions tests Wed Nov 20 10:44:26 2024
Took 4.85
Starting test.magellan at Wed Nov 20 10:44:26 2024
Ending test.magellan at Wed Nov 20 10:44:26 2024
Took 0.15
Starting test.modules-root-no-root at Wed Nov 20 10:44:26 2024
Ending test.modules-root-no-root at Wed Nov 20 10:44:26 2024
Took 0.12
Starting at mutPropGrowth Wed Nov 20 10:44:26 2024
Ended test.mutPropGrowth: Wed Nov 20 10:44:35 2024
Took 8.88
Starting test.mutator-oncoSimulSample.R test at Wed Nov 20 10:44:35 2024
Finished test.mutator-oncoSimulSample.R test at Wed Nov 20 10:44:45 2024
Took 10.34 seconds
Starting test.mutator.R test at Wed Nov 20 10:44:45 2024[1] 3.409878e-10
[1] 2.343833e-14
Finished test.mutator.R test at Wed Nov 20 10:44:59 2024
Took 13.99
Starting test.mutatorFDF.R test at Wed Nov 20 10:44:59 2024
Starting test.no-v1 at Wed Nov 20 10:45:00 2024
Ending test.no-v1 at Wed Nov 20 10:45:00 2024
Took 0.01
Starting oncoSimulIndiv-miscell tests Wed Nov 20 10:45:00 2024
Ending oncoSimulIndiv-miscell tests Wed Nov 20 10:45:13 2024
Took 13.05
Starting oncoSimulSample-failures tests Wed Nov 20 10:45:13 2024
Ending oncoSimulSample-failures tests Wed Nov 20 10:45:17 2024
Took 3.68
Starting oncoSimulSample-limits tests Wed Nov 20 10:45:17 2024
Ending oncoSimulSample-limits tests Wed Nov 20 10:45:17 2024
Took 0.09
Starting per-gene-mutation rates at Wed Nov 20 10:45:17 2024
Ending per-gene-mutation rates at Wed Nov 20 10:45:48 2024
Took 31.15
Starting plotFitnessLandscape at Wed Nov 20 10:45:48 2024
Ending plotFitnessLandscape at Wed Nov 20 10:45:52 2024
Took 4.31
Starting poset-transformations tests Wed Nov 20 10:45:52 2024
Ending poset-transformations tests Wed Nov 20 10:46:05 2024
Took 13.16
Starting sample-prob Wed Nov 20 10:46:05 2024
[1] 1.190816e-31
[1] 8.075333e-12
[1] 1.418729e-09
[1] 1.261107e-11
[1] 5.46897e-14
[1] 1.477835e-12
[1] 3.804774e-07
[1] 1.570064e-13
[1] 3.020834e-12
[1] 2.05013e-11
[1] 1.745407e-07
[1] 2.469044e-08
Ending sample-prob tests Wed Nov 20 10:46:12 2024
Took 7.17
Starting samplePop tests Wed Nov 20 10:46:12 2024
Ending samplePop tests Wed Nov 20 10:46:20 2024
Took 7.35
Starting simuls-runs-examples tests Wed Nov 20 10:46:20 2024
Ending simuls-runs-examples tests Wed Nov 20 10:46:28 2024
Took 8.65
Starting user variable tests Wed Nov 20 10:46:28 2024
[1] "Checking user variable: user_var_1"
[1] "Checking rule: rule_1"
Ending user variable tests Wed Nov 20 10:46:29 2024
Took 0.18
Starting warning-mutPropGrowth tests Wed Nov 20 10:46:29 2024
Ending warning-mutPropGrowth tests Wed Nov 20 10:46:29 2024
Took 0.63
Starting wide2long tests Wed Nov 20 10:46:29 2024
Ending wide2long tests Wed Nov 20 10:46:30 2024
Took 0.32
[ FAIL 0 | WARN 18 | SKIP 5 | PASS 8394 ]
══ Skipped tests (5) ═══════════════════════════════════════════════════════════
• empty test (5): 'test.FDF-letter-fitness-order.R:376:1',
'test.ZZ-dummy-skip-warn-test.R:8:1', 'test.ZZ-dummy-skip-warn-test.R:12:1',
'test.fixation.R:4:1', 'test.init-mutant.R:1099:1'
[ FAIL 0 | WARN 18 | SKIP 5 | PASS 8394 ]
>
> proc.time()
user system elapsed
272.569 33.197 239.785
OncoSimulR.Rcheck/OncoSimulR-Ex.timings
| name | user | system | elapsed | |
| OncoSimulWide2Long | 0.274 | 0.004 | 0.284 | |
| POM | 0.915 | 0.040 | 0.661 | |
| allFitnessEffects | 2.257 | 0.052 | 2.327 | |
| benchmarks | 0.01 | 0.00 | 0.01 | |
| createInterventions | 0.358 | 0.003 | 0.362 | |
| createUserVars | 0.540 | 0.000 | 0.541 | |
| evalAllGenotypes | 0.27 | 0.02 | 0.29 | |
| example-missing-drivers | 0.298 | 0.012 | 0.311 | |
| examplePosets | 0.344 | 0.004 | 0.349 | |
| examplesFitnessEffects | 0.050 | 0.000 | 0.051 | |
| freq-dep-simul-examples | 0.012 | 0.000 | 0.012 | |
| mcfLs | 0.001 | 0.000 | 0.001 | |
| oncoSimulIndiv | 1.356 | 0.158 | 1.458 | |
| plot.fitnessEffects | 0.246 | 0.028 | 0.276 | |
| plot.oncosimul | 0.626 | 0.020 | 0.646 | |
| plotClonePhylog | 1.629 | 0.071 | 1.704 | |
| plotFitnessLandscape | 1.460 | 0.100 | 1.564 | |
| plotPoset | 0.113 | 0.000 | 0.113 | |
| poset | 0.151 | 0.000 | 0.152 | |
| rfitness | 0.775 | 0.028 | 0.809 | |
| samplePop | 0.082 | 0.072 | 0.101 | |
| simOGraph | 0.072 | 0.000 | 0.072 | |
| to_Magellan | 0.178 | 0.052 | 0.235 | |
| vignette_pre_computed | 0.005 | 0.004 | 0.009 | |