| Back to Multiple platform build/check report for BioC 3.20: simplified long |
|
This page was generated on 2025-03-13 12:11 -0400 (Thu, 13 Mar 2025).
| Hostname | OS | Arch (*) | R version | Installed pkgs |
|---|---|---|---|---|
| nebbiolo2 | Linux (Ubuntu 24.04.1 LTS) | x86_64 | 4.4.3 (2025-02-28) -- "Trophy Case" | 4722 |
| palomino8 | Windows Server 2022 Datacenter | x64 | 4.4.3 (2025-02-28 ucrt) -- "Trophy Case" | 4487 |
| merida1 | macOS 12.7.5 Monterey | x86_64 | 4.4.3 (2025-02-28) -- "Trophy Case" | 4514 |
| kjohnson1 | macOS 13.6.6 Ventura | arm64 | 4.4.3 (2025-02-28) -- "Trophy Case" | 4441 |
| taishan | Linux (openEuler 24.03 LTS) | aarch64 | 4.4.3 (2025-02-28) -- "Trophy Case" | 4391 |
| Click on any hostname to see more info about the system (e.g. compilers) (*) as reported by 'uname -p', except on Windows and Mac OS X | ||||
| Package 1475/2289 | Hostname | OS / Arch | INSTALL | BUILD | CHECK | BUILD BIN | ||||||||
| ORFik 1.26.2 (landing page) Haakon Tjeldnes
| nebbiolo2 | Linux (Ubuntu 24.04.1 LTS) / x86_64 | OK | OK | OK | |||||||||
| palomino8 | Windows Server 2022 Datacenter / x64 | OK | OK | OK | OK | |||||||||
| merida1 | macOS 12.7.5 Monterey / x86_64 | OK | OK | OK | OK | |||||||||
| kjohnson1 | macOS 13.6.6 Ventura / arm64 | OK | OK | OK | OK | |||||||||
| taishan | Linux (openEuler 24.03 LTS) / aarch64 | OK | OK | OK | ||||||||||
|
To the developers/maintainers of the ORFik package: - Allow up to 24 hours (and sometimes 48 hours) for your latest push to git@git.bioconductor.org:packages/ORFik.git to reflect on this report. See Troubleshooting Build Report for more information. - Use the following Renviron settings to reproduce errors and warnings. - If 'R CMD check' started to fail recently on the Linux builder(s) over a missing dependency, add the missing dependency to 'Suggests:' in your DESCRIPTION file. See Renviron.bioc for more information. - See Martin Grigorov's blog post for how to debug Linux ARM64 related issues on a x86_64 host. |
| Package: ORFik |
| Version: 1.26.2 |
| Command: /home/biocbuild/R/R/bin/R CMD check --install=check:ORFik.install-out.txt --library=/home/biocbuild/R/R/site-library --no-vignettes --timings ORFik_1.26.2.tar.gz |
| StartedAt: 2025-03-11 08:53:52 -0000 (Tue, 11 Mar 2025) |
| EndedAt: 2025-03-11 09:07:06 -0000 (Tue, 11 Mar 2025) |
| EllapsedTime: 794.1 seconds |
| RetCode: 0 |
| Status: OK |
| CheckDir: ORFik.Rcheck |
| Warnings: 0 |
##############################################################################
##############################################################################
###
### Running command:
###
### /home/biocbuild/R/R/bin/R CMD check --install=check:ORFik.install-out.txt --library=/home/biocbuild/R/R/site-library --no-vignettes --timings ORFik_1.26.2.tar.gz
###
##############################################################################
##############################################################################
* using log directory ‘/home/biocbuild/bbs-3.20-bioc/meat/ORFik.Rcheck’
* using R version 4.4.3 (2025-02-28)
* using platform: aarch64-unknown-linux-gnu
* R was compiled by
aarch64-unknown-linux-gnu-gcc (GCC) 14.2.0
GNU Fortran (GCC) 14.2.0
* running under: openEuler 24.03 (LTS)
* using session charset: UTF-8
* using option ‘--no-vignettes’
* checking for file ‘ORFik/DESCRIPTION’ ... OK
* checking extension type ... Package
* this is package ‘ORFik’ version ‘1.26.2’
* package encoding: UTF-8
* checking package namespace information ... OK
* checking package dependencies ... OK
* checking if this is a source package ... OK
* checking if there is a namespace ... OK
* checking for hidden files and directories ... OK
* checking for portable file names ... NOTE
Found the following non-portable file path:
ORFik/inst/extdata/test_processing/contaminants_depletion/LOGS/contaminants_output_template_Log.final.out
Tarballs are only required to store paths of up to 100 bytes and cannot
store those of more than 256 bytes, with restrictions including to 100
bytes for the final component.
See section ‘Package structure’ in the ‘Writing R Extensions’ manual.
* checking for sufficient/correct file permissions ... OK
* checking whether package ‘ORFik’ can be installed ... OK
* used C++ compiler: ‘aarch64-unknown-linux-gnu-g++ (GCC) 14.2.0’
* checking installed package size ... NOTE
installed size is 7.4Mb
sub-directories of 1Mb or more:
R 1.1Mb
extdata 1.4Mb
libs 3.0Mb
* checking package directory ... OK
* checking ‘build’ directory ... OK
* checking DESCRIPTION meta-information ... NOTE
License stub is invalid DCF.
* checking top-level files ... OK
* checking for left-over files ... OK
* checking index information ... OK
* checking package subdirectories ... OK
* checking code files for non-ASCII characters ... OK
* checking R files for syntax errors ... OK
* checking whether the package can be loaded ... OK
* checking whether the package can be loaded with stated dependencies ... OK
* checking whether the package can be unloaded cleanly ... OK
* checking whether the namespace can be loaded with stated dependencies ... OK
* checking whether the namespace can be unloaded cleanly ... OK
* checking loading without being on the library search path ... OK
* checking dependencies in R code ... NOTE
Unexported objects imported by ':::' calls:
‘GenomicFeatures:::.merge_seqinfo_and_infer_missing_seqlengths’
‘IRanges:::regroupBySupergroup’ ‘S4Vectors:::normarg_mcols’
‘biomartr:::getENSEMBL.Seq’ ‘biomartr:::getENSEMBL.gtf’
See the note in ?`:::` about the use of this operator.
* checking S3 generic/method consistency ... OK
* checking replacement functions ... OK
* checking foreign function calls ... OK
* checking R code for possible problems ... NOTE
DEG.plot.static: no visible binding for global variable ‘Regulation’
DEG.plot.static: no visible binding for global variable ‘meanCounts’
DEG.plot.static: no visible binding for global variable ‘LFC’
DEG_model_simple: no visible binding for global variable ‘id’
DEG_model_simple: no visible binding for global variable ‘contrast’
DTEG.plot: no visible binding for global variable ‘Regulation’
DTEG.plot: no visible binding for global variable ‘rna.lfc’
DTEG.plot: no visible binding for global variable ‘rfp.lfc’
DTEG_add_regulation_categories: no visible binding for global variable
‘te.sign’
DTEG_add_regulation_categories: no visible binding for global variable
‘rfp.sign’
DTEG_add_regulation_categories: no visible binding for global variable
‘rna.sign’
DTEG_add_regulation_categories: no visible binding for global variable
‘Regulation’
DTEG_add_regulation_categories: no visible binding for global variable
‘all_models_sign’
DTEG_add_regulation_categories: no visible binding for global variable
‘te.lfc’
DTEG_add_regulation_categories: no visible binding for global variable
‘rna.lfc’
DTEG_pair_results: no visible binding for global variable ‘rna.sign’
DTEG_pair_results: no visible binding for global variable ‘rna.padj’
DTEG_pair_results: no visible binding for global variable ‘rfp.sign’
DTEG_pair_results: no visible binding for global variable ‘rfp.padj’
DTEG_pair_results: no visible binding for global variable ‘te.sign’
DTEG_pair_results: no visible binding for global variable ‘te.padj’
DTEG_pair_results: no visible binding for global variable
‘all_models_sign’
QCplots: no visible binding for global variable ‘leaders’
QCplots: no visible binding for global variable ‘trailers’
QCstats.plot: no visible binding for global variable ‘variable’
QCstats.plot: no visible binding for global variable ‘sample_total’
QCstats.plot: no visible binding for global variable ‘value’
QCstats.plot: no visible global function definition for ‘.’
QCstats.plot: no visible binding for global variable ‘sample_id’
QCstats.plot: no visible binding for global variable ‘percentage’
QCstats.plot: no visible binding for global variable
‘perc_of_counts_per_sample’
QCstats.plot: no visible binding for global variable ‘read length’
RiboQC.plot: no visible binding for global variable ‘variable’
RiboQC.plot: no visible binding for global variable ‘sample_total’
RiboQC.plot: no visible binding for global variable ‘value’
RiboQC.plot: no visible global function definition for ‘.’
RiboQC.plot: no visible binding for global variable ‘sample_id’
RiboQC.plot: no visible binding for global variable ‘percentage’
RiboQC.plot: no visible binding for global variable ‘percent’
RiboQC.plot: no visible binding for global variable ‘frame’
STAR.multiQC_plot: no visible binding for global variable ‘value’
STAR.multiQC_plot: no visible binding for global variable ‘sample_id’
TOP.Motif.ecdf: no visible binding for global variable ‘seq1’
TOP.Motif.ecdf: no visible binding for global variable ‘TOP’
alignmentFeatureStatistics : <anonymous>: no visible binding for global
variable ‘percentage_mrna_aligned’
alignmentFeatureStatistics : <anonymous>: no visible binding for global
variable ‘mRNA’
alignmentFeatureStatistics : <anonymous>: no visible binding for global
variable ‘percentage_tx_aligned’
alignmentFeatureStatistics : <anonymous>: no visible binding for global
variable ‘Transcript’
alignmentFeatureStatistics : <anonymous>: no visible binding for global
variable ‘ratio_cds_mrna’
alignmentFeatureStatistics : <anonymous>: no visible binding for global
variable ‘CDS’
alignmentFeatureStatistics : <anonymous>: no visible binding for global
variable ‘ratio_cds_leader’
alignmentFeatureStatistics : <anonymous>: no visible binding for global
variable ‘LEADERS’
allFeaturesHelper: no visible binding for global variable ‘te’
allFeaturesHelper: no visible binding for global variable ‘fpkmRFP’
allFeaturesHelper: no visible binding for global variable ‘fpkmRNA’
allFeaturesHelper: no visible binding for global variable ‘countRFP’
allFeaturesHelper: no visible binding for global variable ‘entropyRFP’
allFeaturesHelper: no visible binding for global variable
‘disengagementScores’
allFeaturesHelper: no visible binding for global variable ‘RRS’
allFeaturesHelper: no visible binding for global variable ‘RSS’
allFeaturesHelper: no visible binding for global variable ‘ORFScores’
allFeaturesHelper: no visible binding for global variable ‘ioScore’
allFeaturesHelper: no visible binding for global variable
‘startCodonCoverage’
allFeaturesHelper: no visible binding for global variable
‘startRegionRelative’
allFeaturesHelper: no visible binding for global variable ‘kozak’
allFeaturesHelper: no visible binding for global variable ‘StartCodons’
allFeaturesHelper: no visible binding for global variable ‘StopCodons’
allFeaturesHelper: no visible binding for global variable
‘fractionLengths’
allFeaturesHelper: no visible binding for global variable ‘distORFCDS’
allFeaturesHelper: no visible binding for global variable ‘inFrameCDS’
allFeaturesHelper: no visible binding for global variable
‘isOverlappingCds’
allFeaturesHelper: no visible binding for global variable ‘rankInTx’
appendZeroes: no visible binding for global variable ‘frame’
appendZeroes: no visible binding for global variable ‘position’
appendZeroes: no visible binding for global variable ‘count’
artificial.orfs: no visible binding for global variable ‘random’
artificial.orfs: no visible binding for global variable ‘pick’
artificial.orfs: no visible global function definition for ‘.’
browseSRA: no visible global function definition for ‘browseURL’
cellTypeNames: missing arguments not allowed in calls to ‘c’
codonSumsPerGroup: no visible binding for global variable ‘genes’
codon_usage: no visible binding for global variable ‘merged’
codon_usage: no visible binding for global variable ‘AA’
codon_usage: no visible binding for global variable ‘codon’
codon_usage_plot: no visible binding for global variable ‘seqs’
collapse.by.scores: no visible global function definition for ‘.’
collapse.fastq.internal: no visible binding for global variable ‘N’
cor_plot: no visible binding for global variable ‘Var2’
cor_plot: no visible binding for global variable ‘Var1’
cor_plot: no visible binding for global variable ‘Cor’
cor_table: no visible binding for global variable ‘Var1’
cor_table: no visible binding for global variable ‘Var2’
cor_table: no visible binding for global variable ‘Cor’
coverageHeatMap: no visible binding for global variable ‘position’
coverageHeatMap: no visible binding for global variable ‘fraction’
coveragePerORFStatistics: no visible global function definition for ‘.’
coveragePerORFStatistics: no visible binding for global variable
‘count’
coveragePerORFStatistics: no visible binding for global variable
‘genes’
coverageScorings: no visible binding for global variable ‘count’
coverageScorings: no visible binding for global variable ‘zscore’
coverageScorings: no visible binding for global variable ‘windowMean’
coverageScorings: no visible binding for global variable ‘windowSD’
coverageScorings: no visible global function definition for ‘.’
coverageScorings: no visible binding for global variable ‘modzscore’
coverageScorings: no visible binding for global variable ‘windowMedian’
coverageScorings: no visible binding for global variable ‘windowMAD’
coverageScorings: no visible binding for global variable ‘gene_sum’
coverageScorings: no visible binding for global variable ‘fraction’
coverage_random_access_file: no visible binding for global variable
‘genes’
coverage_random_access_file: no visible binding for global variable
‘position’
coverage_random_access_file: no visible binding for global variable
‘frame’
coverage_to_dt: no visible binding for global variable ‘frame’
coverage_to_dt: no visible binding for global variable ‘genes’
coverage_to_dt: no visible binding for global variable ‘position’
detectRibosomeShifts: no visible global function definition for ‘.’
detectRibosomeShifts: no visible binding for global variable ‘size’
detectRibosomeShifts: no visible binding for global variable ‘fraction’
detectRibosomeShifts: no visible binding for global variable ‘pShifted’
detectRibosomeShifts: no visible binding for global variable
‘sum.count’
detectRibosomeShifts: no visible binding for global variable ‘count’
detectRibosomeShifts: no visible binding for global variable ‘genes’
detectRibosomeShifts: no visible binding for global variable
‘frac.score’
entropy: no visible binding for global variable ‘Hx’
entropy: no visible binding for global variable ‘codonSums’
entropy: no visible global function definition for ‘.’
entropy: no visible binding for global variable ‘genes’
fetch_xml_attributes: no visible binding for global variable
‘..to_keep’
filterExtremePeakGenes: no visible binding for global variable ‘count’
filterExtremePeakGenes: no visible binding for global variable
‘median_per_gene’
filterExtremePeakGenes: no visible binding for global variable ‘genes’
filterExtremePeakGenes: no visible global function definition for ‘.’
filterTranscripts: no visible binding for global variable ‘utr5_len’
filterTranscripts: no visible binding for global variable ‘utr3_len’
filter_empty_runs: no visible binding for global variable ‘spots’
findNGSPairs: no visible global function definition for ‘.’
findNGSPairs: no visible binding for global variable ‘forward’
findPeaksPerGene: no visible binding for global variable ‘sum_per_gene’
findPeaksPerGene: no visible binding for global variable ‘count’
findPeaksPerGene: no visible binding for global variable ‘genes’
findPeaksPerGene: no visible binding for global variable
‘mean_per_gene’
findPeaksPerGene: no visible binding for global variable
‘median_per_gene’
findPeaksPerGene: no visible binding for global variable ‘sd_per_gene’
findPeaksPerGene: no visible binding for global variable ‘mad_per_gene’
findPeaksPerGene: no visible binding for global variable ‘zscore’
findPeaksPerGene: no visible binding for global variable ‘modzscore’
findPeaksPerGene: no visible binding for global variable ‘gene_id’
find_url_ebi_safe: no visible binding for global variable
‘run_accession’
floss: no visible binding for global variable ‘ORFGrouping’
floss: no visible binding for global variable ‘widths’
floss: no visible global function definition for ‘.’
floss: no visible binding for global variable ‘CDSGrouping’
floss: no visible binding for global variable ‘fraction.x’
floss: no visible binding for global variable ‘fraction.y’
gSort: no visible binding for global variable ‘grnames’
geneToSymbol: no visible binding for global variable ‘ensembl_gene_id’
geneToSymbol: no visible binding for global variable
‘external_gene_name’
geneToSymbol: no visible binding for global variable
‘ensembl_transcript_id’
geneToSymbol: no visible binding for global variable ‘uniprotswissprot’
getNGenesCoverage: no visible global function definition for ‘.’
getNGenesCoverage: no visible binding for global variable ‘genes’
getNGenesCoverage: no visible binding for global variable ‘fraction’
get_phix_genome: no visible binding for global variable ‘phix.url’
grl_has_any_valid_lengths: no visible binding for global variable ‘grl’
initiationScore: no visible global function definition for ‘.’
initiationScore: no visible binding for global variable ‘dif’
initiationScore: no visible binding for global variable ‘fraction’
initiationScore: no visible binding for global variable ‘genes’
initiationScore: no visible binding for global variable ‘difPer’
install.sratoolkit: no visible binding for global variable ‘osVersion’
isPeriodic: no visible binding for global variable ‘spec’
kozakHeatmap: no visible global function definition for ‘.’
kozakHeatmap: no visible binding for global variable ‘variable’
kozakHeatmap: no visible binding for global variable ‘value’
kozakHeatmap: no visible binding for global variable
‘count_seq_pos_with_count’
kozakHeatmap: no visible binding for global variable ‘median_score’
kozak_IR_ranking: no visible global function definition for ‘.’
kozak_IR_ranking: no visible binding for global variable ‘IR’
kozak_IR_ranking: no visible binding for global variable
‘upstream_kozak_strength’
kozak_IR_ranking: no visible binding for global variable ‘count’
kozak_IR_ranking: no visible binding for global variable ‘mean_IR’
list.genomes: no visible binding for global variable ‘STAR_index’
longestORFs: no visible global function definition for ‘.’
metaWindow: no visible binding for global variable ‘position’
metaWindow: no visible binding for global variable ‘frame’
metadata.autnaming: no visible binding for global variable
‘LIBRARYTYPE’
metadata.autnaming: no visible binding for global variable
‘LibraryStrategy’
ofst_merge_internal: no visible binding for global variable
‘file_paths’
orfFrameDistributions : <anonymous>: no visible binding for global
variable ‘fraction’
orfFrameDistributions: no visible binding for global variable ‘percent’
orfFrameDistributions: no visible binding for global variable
‘fraction’
orfFrameDistributions: no visible binding for global variable
‘percent_length’
orfFrameDistributions: no visible global function definition for ‘.’
orfFrameDistributions: no visible binding for global variable
‘best_frame’
orfScore: no visible binding for global variable ‘genes’
orfScore: no visible binding for global variable ‘frame’
orfScore: no visible binding for global variable ‘frame_one_RP’
orfScore: no visible binding for global variable ‘frame_two_RP’
pSitePlot: no visible binding for global variable ‘count’
pSitePlot: no visible binding for global variable ‘frame’
pSitePlot: no visible binding for global variable ‘position’
pcaExperiment: no visible binding for global variable ‘PC1’
pcaExperiment: no visible binding for global variable ‘PC2’
readBam: no visible global function definition for ‘bamTag<-’
readBam: no visible global function definition for ‘bamWhat<-’
readLengthTable: no visible binding for global variable
‘counts_per_sample’
readLengthTable: no visible binding for global variable ‘sample_id’
readLengthTable: no visible binding for global variable
‘perc_of_counts_per_sample’
regionPerReadLength : <anonymous>: no visible binding for global
variable ‘fraction’
remakeTxdbExonIds: no visible global function definition for ‘.’
remakeTxdbExonIds: no visible binding for global variable ‘chr’
removeTxdbExons: no visible binding for global variable ‘exon_rank’
removeTxdbExons: no visible binding for global variable ‘ranks’
ribo_fft: no visible binding for global variable ‘fraction’
ribo_fft_plot: no visible binding for global variable ‘periods’
ribo_fft_plot: no visible binding for global variable ‘amplitude’
rnaNormalize: no visible binding for global variable ‘genes’
rnaNormalize: no visible binding for global variable ‘feature’
sample_info_append_SRA: no visible binding for global variable ‘GEO’
scaledWindowPositions: no visible binding for global variable
‘scalingFactor’
scaledWindowPositions: no visible binding for global variable ‘genes’
scaledWindowPositions: no visible binding for global variable
‘position’
scaledWindowPositions: no visible global function definition for ‘.’
scoreSummarizedExperiment: no visible global function definition for
‘rowSums2’
seq_usage: no visible binding for global variable ‘variable’
seq_usage: no visible binding for global variable ‘codon_sum’
seq_usage: no visible global function definition for ‘.’
seq_usage: no visible binding for global variable ‘gene_sum’
seq_usage: no visible binding for global variable
‘N_AA_of_type_per_gene’
seq_usage: no visible binding for global variable ‘as_prob_normalized’
seq_usage: no visible binding for global variable ‘N_total’
seq_usage: no visible binding for global variable ‘N’
seq_usage: no visible binding for global variable ‘mean_txNorm’
seq_usage: no visible binding for global variable ‘sum_txNorm’
seq_usage: no visible binding for global variable ‘dispersion’
seq_usage: no visible binding for global variable ‘dispersion_txNorm’
seq_usage: no visible binding for global variable ‘var_txNorm’
seq_usage: no visible binding for global variable ‘mean_percentage’
seq_usage: no visible binding for global variable ‘mean_txNorm_prob’
seq_usage: no visible binding for global variable
‘mean_txNorm_percentage’
seq_usage: no visible binding for global variable
‘relative_to_max_score’
shiftPlots : <anonymous>: no visible binding for global variable
‘frame’
shiftPlots : <anonymous>: no visible binding for global variable
‘position’
te.plot: no visible global function definition for ‘rowMin’
te.plot: no visible binding for global variable ‘variable’
te.plot: no visible binding for global variable ‘LFC_TE’
te.plot: no visible binding for global variable ‘rfp_log2’
te.plot: no visible binding for global variable ‘rna_log2’
te.plot: no visible binding for global variable ‘rna_log10’
te.table: no visible global function definition for ‘rowMin’
te.table: no visible binding for global variable ‘variable’
te.table: no visible binding for global variable ‘TE_log2’
te.table: no visible binding for global variable ‘rfp_log2’
te.table: no visible binding for global variable ‘rna_log2’
te_rna.plot: no visible binding for global variable ‘subtitle’
te_rna.plot: no visible binding for global variable ‘rna_log10’
te_rna.plot: no visible binding for global variable ‘TE_log2’
topMotif: no visible binding for global variable ‘seq1’
topMotif: no visible binding for global variable ‘seq2’
topMotif: no visible binding for global variable ‘seq3’
topMotif: no visible binding for global variable ‘seq4’
topMotif: no visible binding for global variable ‘seq5’
transcriptWindow: no visible binding for global variable ‘fractions’
transcriptWindow: no visible binding for global variable ‘feature’
unlistToExtremities: no visible global function definition for ‘.’
unlistToExtremities: no visible binding for global variable ‘group’
windowCoveragePlot: no visible binding for global variable ‘feature’
windowCoveragePlot: no visible binding for global variable ‘fraction’
windowCoveragePlot: no visible binding for global variable
‘fraction_min’
windowCoveragePlot: no visible binding for global variable ‘position’
collapseDuplicatedReads,GAlignmentPairs: no visible global function
definition for ‘.’
collapseDuplicatedReads,GAlignmentPairs: no visible binding for global
variable ‘start1’
collapseDuplicatedReads,GAlignmentPairs: no visible binding for global
variable ‘start2’
collapseDuplicatedReads,GAlignmentPairs: no visible binding for global
variable ‘cigar1’
collapseDuplicatedReads,GAlignmentPairs: no visible binding for global
variable ‘cigar2’
collapseDuplicatedReads,GAlignments: no visible global function
definition for ‘.’
collapseDuplicatedReads,GRanges: no visible binding for global variable
‘size’
collapseDuplicatedReads,GRanges: no visible global function definition
for ‘.’
collapseDuplicatedReads,data.table: no visible global function
definition for ‘.’
design,experiment: no visible binding for global variable ‘..formula’
seqlevels,experiment: no visible binding for global variable ‘df’
show,covRleList: no visible global function definition for ‘head’
Undefined global functions or variables:
. ..formula ..to_keep AA CDS CDSGrouping Cor GEO Hx IR LEADERS LFC
LFC_TE LIBRARYTYPE LibraryStrategy N N_AA_of_type_per_gene N_total
ORFGrouping ORFScores PC1 PC2 RRS RSS Regulation STAR_index
StartCodons StopCodons TE_log2 TOP Transcript Var1 Var2
all_models_sign amplitude as_prob_normalized bamTag<- bamWhat<-
best_frame browseURL chr cigar1 cigar2 codon codonSums codon_sum
contrast count countRFP count_seq_pos_with_count counts_per_sample df
dif difPer disengagementScores dispersion dispersion_txNorm
distORFCDS ensembl_gene_id ensembl_transcript_id entropyRFP exon_rank
external_gene_name feature file_paths forward fpkmRFP fpkmRNA
frac.score fraction fraction.x fraction.y fractionLengths
fraction_min fractions frame frame_one_RP frame_two_RP gene_id
gene_sum genes grl grnames group head id inFrameCDS ioScore
isOverlappingCds kozak leaders mRNA mad_per_gene meanCounts mean_IR
mean_per_gene mean_percentage mean_txNorm mean_txNorm_percentage
mean_txNorm_prob median_per_gene median_score merged modzscore
osVersion pShifted perc_of_counts_per_sample percent percent_length
percentage percentage_mrna_aligned percentage_tx_aligned periods
phix.url pick position random rankInTx ranks ratio_cds_leader
ratio_cds_mrna read length relative_to_max_score rfp.lfc rfp.padj
rfp.sign rfp_log2 rna.lfc rna.padj rna.sign rna_log10 rna_log2 rowMin
rowSums2 run_accession sample_id sample_total scalingFactor
sd_per_gene seq1 seq2 seq3 seq4 seq5 seqs size spec spots start1
start2 startCodonCoverage startRegionRelative subtitle sum.count
sum_per_gene sum_txNorm te te.lfc te.padj te.sign trailers
uniprotswissprot upstream_kozak_strength utr3_len utr5_len value
var_txNorm variable widths windowMAD windowMean windowMedian windowSD
zscore
Consider adding
importFrom("base", "length")
importFrom("graphics", "frame")
importFrom("stats", "df")
importFrom("utils", "browseURL", "head", "osVersion")
to your NAMESPACE file.
* checking Rd files ... OK
* checking Rd metadata ... OK
* checking Rd cross-references ... OK
* checking for missing documentation entries ... OK
* checking for code/documentation mismatches ... OK
* checking Rd \usage sections ... OK
* checking Rd contents ... OK
* checking for unstated dependencies in examples ... OK
* checking line endings in C/C++/Fortran sources/headers ... OK
* checking compiled code ... NOTE
Note: information on .o files is not available
* checking files in ‘vignettes’ ... OK
* checking examples ... OK
Examples with CPU (user + system) or elapsed time > 5s
user system elapsed
makeTxdbFromGenome 21.681 0.631 22.348
codon_usage_exp 10.924 0.476 11.261
detect_ribo_orfs 9.137 1.018 10.034
STAR.allsteps.multiQC 9.039 0.012 9.091
findUORFs_exp 6.958 0.168 7.140
computeFeatures 6.154 0.431 6.603
shifts_load 4.575 1.142 0.630
codon_usage_plot 4.470 0.647 4.972
shiftFootprintsByExperiment 1.369 0.132 6.475
download.SRA.metadata 0.310 0.032 5.530
* checking for unstated dependencies in ‘tests’ ... OK
* checking tests ...
Running ‘testthat.R’
OK
* checking for unstated dependencies in vignettes ... OK
* checking package vignettes ... OK
* checking running R code from vignettes ... SKIPPED
* checking re-building of vignette outputs ... SKIPPED
* checking PDF version of manual ... OK
* DONE
Status: 6 NOTEs
See
‘/home/biocbuild/bbs-3.20-bioc/meat/ORFik.Rcheck/00check.log’
for details.
ORFik.Rcheck/00install.out
##############################################################################
##############################################################################
###
### Running command:
###
### /home/biocbuild/R/R/bin/R CMD INSTALL ORFik
###
##############################################################################
##############################################################################
* installing to library ‘/home/biocbuild/R/R-4.4.3/site-library’
* installing *source* package ‘ORFik’ ...
** using staged installation
** libs
using C++ compiler: ‘aarch64-unknown-linux-gnu-g++ (GCC) 14.2.0’
/opt/ohpc/pub/compiler/gcc/14.2.0/bin/aarch64-unknown-linux-gnu-g++ -std=gnu++17 -I"/home/biocbuild/R/R-4.4.3/include" -DNDEBUG -I'/home/biocbuild/R/R-4.4.3/site-library/Rcpp/include' -I/usr/local/include -fPIC -g -O2 -Wall -c RcppExports.cpp -o RcppExports.o
/opt/ohpc/pub/compiler/gcc/14.2.0/bin/aarch64-unknown-linux-gnu-g++ -std=gnu++17 -I"/home/biocbuild/R/R-4.4.3/include" -DNDEBUG -I'/home/biocbuild/R/R-4.4.3/site-library/Rcpp/include' -I/usr/local/include -fPIC -g -O2 -Wall -c findORFsHelpers.cpp -o findORFsHelpers.o
findORFsHelpers.cpp: In function ‘Rcpp::IntegerMatrix orfs_as_matrix(std::string&, std::string, std::string, int)’:
findORFsHelpers.cpp:214:21: warning: comparison of integer expressions of different signedness: ‘int’ and ‘size_t’ {aka ‘long unsigned int’} [-Wsign-compare]
214 | for (int i = 0; i < uorfSize/2; i++) {
| ~~^~~~~~~~~~~~
/opt/ohpc/pub/compiler/gcc/14.2.0/bin/aarch64-unknown-linux-gnu-g++ -std=gnu++17 -I"/home/biocbuild/R/R-4.4.3/include" -DNDEBUG -I'/home/biocbuild/R/R-4.4.3/site-library/Rcpp/include' -I/usr/local/include -fPIC -g -O2 -Wall -c findOrfs.cpp -o findOrfs.o
/opt/ohpc/pub/compiler/gcc/14.2.0/bin/aarch64-unknown-linux-gnu-g++ -std=gnu++17 -I"/home/biocbuild/R/R-4.4.3/include" -DNDEBUG -I'/home/biocbuild/R/R-4.4.3/site-library/Rcpp/include' -I/usr/local/include -fPIC -g -O2 -Wall -c findOrfsFasta.cpp -o findOrfsFasta.o
/opt/ohpc/pub/compiler/gcc/14.2.0/bin/aarch64-unknown-linux-gnu-g++ -std=gnu++17 -I"/home/biocbuild/R/R-4.4.3/include" -DNDEBUG -I'/home/biocbuild/R/R-4.4.3/site-library/Rcpp/include' -I/usr/local/include -fPIC -g -O2 -Wall -c pmapFromTranscripts.cpp -o pmapFromTranscripts.o
pmapFromTranscripts.cpp: In function ‘Rcpp::List pmapFromTranscriptsCPP(const std::vector<int>&, const std::vector<int>&, const std::vector<int>&, const std::vector<int>&, const std::vector<int>&, const char&, bool)’:
pmapFromTranscripts.cpp:151:20: warning: comparison of integer expressions of different signedness: ‘int’ and ‘size_t’ {aka ‘long unsigned int’} [-Wsign-compare]
151 | for(auto i = 0;i < xSize; i++){
| ~~^~~~~~~
pmapFromTranscripts.cpp:155:21: warning: comparison of integer expressions of different signedness: ‘int’ and ‘size_t’ {aka ‘long unsigned int’} [-Wsign-compare]
155 | for(auto i = 0; i < indexSize; i++){
| ~~^~~~~~~~~~~
pmapFromTranscripts.cpp:161:21: warning: comparison of integer expressions of different signedness: ‘int’ and ‘size_t’ {aka ‘long unsigned int’} [-Wsign-compare]
161 | for(auto i = 1; i < indexSize; i++){
| ~~^~~~~~~~~~~
/opt/ohpc/pub/compiler/gcc/14.2.0/bin/aarch64-unknown-linux-gnu-g++ -std=gnu++17 -I"/home/biocbuild/R/R-4.4.3/include" -DNDEBUG -I'/home/biocbuild/R/R-4.4.3/site-library/Rcpp/include' -I/usr/local/include -fPIC -g -O2 -Wall -c pmapToTranscripts.cpp -o pmapToTranscripts.o
pmapToTranscripts.cpp: In function ‘void pmapToPositive(vi&, const int&, int&, const vi&, const vi&, const vi&, const vi&, const vi&, const vi&, const vi&, const vi&)’:
pmapToTranscripts.cpp:22:7: warning: variable ‘currentWidth’ set but not used [-Wunused-but-set-variable]
22 | int currentWidth = 0;
| ^~~~~~~~~~~~
pmapToTranscripts.cpp: In function ‘void pmapToNegative(vi&, const int&, int&, const vi&, const vi&, const vi&, const vi&, const vi&, const vi&, const vi&, const vi&)’:
pmapToTranscripts.cpp:68:7: warning: variable ‘currentWidth’ set but not used [-Wunused-but-set-variable]
68 | int currentWidth = 0;
| ^~~~~~~~~~~~
pmapToTranscripts.cpp: In function ‘Rcpp::List pmapToTranscriptsCPP(const std::vector<int>&, const std::vector<int>&, const std::vector<int>&, const std::vector<int>&, const std::vector<int>&, const char&, const std::vector<int>&)’:
pmapToTranscripts.cpp:126:20: warning: comparison of integer expressions of different signedness: ‘int’ and ‘size_t’ {aka ‘long unsigned int’} [-Wsign-compare]
126 | for(auto i = 0;i < xSize; i++){ // Width per exon in x
| ~~^~~~~~~
pmapToTranscripts.cpp:130:21: warning: comparison of integer expressions of different signedness: ‘int’ and ‘size_t’ {aka ‘long unsigned int’} [-Wsign-compare]
130 | for(auto i = 0; i < indexSize; i++){ // Width per exon in tx
| ~~^~~~~~~~~~~
pmapToTranscripts.cpp:136:21: warning: comparison of integer expressions of different signedness: ‘int’ and ‘size_t’ {aka ‘long unsigned int’} [-Wsign-compare]
136 | for(auto i = 1; i < indexSize; i++){
| ~~^~~~~~~~~~~
pmapToTranscripts.cpp:147:22: warning: comparison of integer expressions of different signedness: ‘int’ and ‘size_t’ {aka ‘long unsigned int’} [-Wsign-compare]
147 | for (auto i = 1; i < 2 * xSize; i = i + 2) {
| ~~^~~~~~~~~~~
/opt/ohpc/pub/compiler/gcc/14.2.0/bin/aarch64-unknown-linux-gnu-g++ -std=gnu++17 -shared -L/home/biocbuild/R/R-4.4.3/lib -L/usr/local/lib -o ORFik.so RcppExports.o findORFsHelpers.o findOrfs.o findOrfsFasta.o pmapFromTranscripts.o pmapToTranscripts.o -L/home/biocbuild/R/R-4.4.3/lib -lR
installing to /home/biocbuild/R/R-4.4.3/site-library/00LOCK-ORFik/00new/ORFik/libs
** R
** inst
** byte-compile and prepare package for lazy loading
Creating a new generic function for ‘symbols’ in package ‘ORFik’
** help
*** installing help indices
** building package indices
** installing vignettes
** testing if installed package can be loaded from temporary location
** checking absolute paths in shared objects and dynamic libraries
** testing if installed package can be loaded from final location
** testing if installed package keeps a record of temporary installation path
* DONE (ORFik)
ORFik.Rcheck/tests/testthat.Rout
R version 4.4.3 (2025-02-28) -- "Trophy Case"
Copyright (C) 2025 The R Foundation for Statistical Computing
Platform: aarch64-unknown-linux-gnu
R is free software and comes with ABSOLUTELY NO WARRANTY.
You are welcome to redistribute it under certain conditions.
Type 'license()' or 'licence()' for distribution details.
R is a collaborative project with many contributors.
Type 'contributors()' for more information and
'citation()' on how to cite R or R packages in publications.
Type 'demo()' for some demos, 'help()' for on-line help, or
'help.start()' for an HTML browser interface to help.
Type 'q()' to quit R.
> library(testthat)
> library(ORFik)
Loading required package: IRanges
Loading required package: BiocGenerics
Attaching package: 'BiocGenerics'
The following objects are masked from 'package:stats':
IQR, mad, sd, var, xtabs
The following objects are masked from 'package:base':
Filter, Find, Map, Position, Reduce, anyDuplicated, aperm, append,
as.data.frame, basename, cbind, colnames, dirname, do.call,
duplicated, eval, evalq, get, grep, grepl, intersect, is.unsorted,
lapply, mapply, match, mget, order, paste, pmax, pmax.int, pmin,
pmin.int, rank, rbind, rownames, sapply, saveRDS, setdiff, table,
tapply, union, unique, unsplit, which.max, which.min
Loading required package: S4Vectors
Loading required package: stats4
Attaching package: 'S4Vectors'
The following object is masked from 'package:utils':
findMatches
The following objects are masked from 'package:base':
I, expand.grid, unname
Loading required package: GenomicRanges
Loading required package: GenomeInfoDb
Loading required package: GenomicAlignments
Loading required package: SummarizedExperiment
Loading required package: MatrixGenerics
Loading required package: matrixStats
Attaching package: 'MatrixGenerics'
The following objects are masked from 'package:matrixStats':
colAlls, colAnyNAs, colAnys, colAvgsPerRowSet, colCollapse,
colCounts, colCummaxs, colCummins, colCumprods, colCumsums,
colDiffs, colIQRDiffs, colIQRs, colLogSumExps, colMadDiffs,
colMads, colMaxs, colMeans2, colMedians, colMins, colOrderStats,
colProds, colQuantiles, colRanges, colRanks, colSdDiffs, colSds,
colSums2, colTabulates, colVarDiffs, colVars, colWeightedMads,
colWeightedMeans, colWeightedMedians, colWeightedSds,
colWeightedVars, rowAlls, rowAnyNAs, rowAnys, rowAvgsPerColSet,
rowCollapse, rowCounts, rowCummaxs, rowCummins, rowCumprods,
rowCumsums, rowDiffs, rowIQRDiffs, rowIQRs, rowLogSumExps,
rowMadDiffs, rowMads, rowMaxs, rowMeans2, rowMedians, rowMins,
rowOrderStats, rowProds, rowQuantiles, rowRanges, rowRanks,
rowSdDiffs, rowSds, rowSums2, rowTabulates, rowVarDiffs, rowVars,
rowWeightedMads, rowWeightedMeans, rowWeightedMedians,
rowWeightedSds, rowWeightedVars
Loading required package: Biobase
Welcome to Bioconductor
Vignettes contain introductory material; view with
'browseVignettes()'. To cite Bioconductor, see
'citation("Biobase")', and for packages 'citation("pkgname")'.
Attaching package: 'Biobase'
The following object is masked from 'package:MatrixGenerics':
rowMedians
The following objects are masked from 'package:matrixStats':
anyMissing, rowMedians
Loading required package: Biostrings
Loading required package: XVector
Attaching package: 'Biostrings'
The following object is masked from 'package:base':
strsplit
Loading required package: Rsamtools
Attaching package: 'ORFik'
The following object is masked from 'package:graphics':
symbols
>
> test_check("ORFik")
[ FAIL 0 | WARN 0 | SKIP 0 | PASS 440 ]
>
> proc.time()
user system elapsed
128.055 5.351 133.132
ORFik.Rcheck/ORFik-Ex.timings
| name | user | system | elapsed | |
| DEG.analysis | 0.618 | 0.028 | 0.650 | |
| DEG.plot.static | 0.602 | 0.020 | 0.624 | |
| DEG_model | 0.504 | 0.000 | 0.505 | |
| DEG_model_results | 1.339 | 0.000 | 1.342 | |
| DEG_model_simple | 0.492 | 0.000 | 0.494 | |
| DTEG.analysis | 0.531 | 0.036 | 0.568 | |
| DTEG.plot | 0.495 | 0.052 | 0.548 | |
| ORFik.template.experiment | 0.551 | 0.004 | 0.556 | |
| ORFik.template.experiment.zf | 0.077 | 0.000 | 0.079 | |
| ORFikQC | 0.481 | 0.000 | 0.483 | |
| QCreport | 0.488 | 0.000 | 0.490 | |
| QCstats | 0.491 | 0.004 | 0.496 | |
| QCstats.plot | 0.506 | 0.000 | 0.507 | |
| RiboQC.plot | 0.493 | 0.000 | 0.494 | |
| STAR.align.folder | 0.000 | 0.000 | 0.001 | |
| STAR.align.single | 0 | 0 | 0 | |
| STAR.allsteps.multiQC | 9.039 | 0.012 | 9.091 | |
| STAR.index | 0 | 0 | 0 | |
| STAR.install | 0.001 | 0.000 | 0.000 | |
| STAR.multiQC | 2.909 | 0.012 | 2.930 | |
| STAR.remove.crashed.genome | 0 | 0 | 0 | |
| TOP.Motif.ecdf | 0.001 | 0.000 | 0.001 | |
| artificial.orfs | 0.508 | 0.000 | 0.509 | |
| asTX | 0.937 | 0.012 | 0.953 | |
| assignTSSByCage | 0.003 | 0.000 | 0.003 | |
| bamVarName | 1.013 | 0.000 | 1.015 | |
| browseSRA | 0 | 0 | 0 | |
| codon_usage | 4.349 | 0.036 | 4.412 | |
| codon_usage_exp | 10.924 | 0.476 | 11.261 | |
| codon_usage_plot | 4.470 | 0.647 | 4.972 | |
| collapse.by.scores | 0.130 | 0.024 | 0.153 | |
| collapse.fastq | 0.001 | 0.000 | 0.000 | |
| collapseDuplicatedReads-GAlignmentPairs-method | 0.098 | 0.016 | 0.114 | |
| collapseDuplicatedReads-GAlignments-method | 0.040 | 0.004 | 0.043 | |
| collapseDuplicatedReads-GRanges-method | 0.036 | 0.008 | 0.045 | |
| collapseDuplicatedReads-data.table-method | 0.039 | 0.004 | 0.043 | |
| collapseDuplicatedReads | 0.034 | 0.008 | 0.042 | |
| combn.pairs | 0.637 | 0.048 | 0.688 | |
| computeFeatures | 6.154 | 0.431 | 6.603 | |
| computeFeaturesCage | 0.001 | 0.000 | 0.000 | |
| config | 0.000 | 0.000 | 0.001 | |
| config.exper | 0.160 | 0.024 | 0.186 | |
| config.save | 0 | 0 | 0 | |
| config_file | 0.217 | 0.011 | 0.229 | |
| convertLibs | 0.561 | 0.036 | 0.598 | |
| convertToOneBasedRanges | 0.178 | 0.011 | 0.190 | |
| convert_bam_to_ofst | 0.185 | 0.032 | 0.230 | |
| convert_to_bigWig | 1.250 | 0.084 | 1.338 | |
| convert_to_covRle | 0.698 | 0.056 | 0.755 | |
| convert_to_covRleList | 1.001 | 0.068 | 1.072 | |
| countOverlapsW | 0.089 | 0.004 | 0.093 | |
| countTable | 0.535 | 0.024 | 0.560 | |
| countTable_regions | 0.513 | 0.056 | 0.570 | |
| covRle | 0.063 | 0.004 | 0.067 | |
| covRleFromGR | 0.114 | 0.004 | 0.119 | |
| covRleList | 0.023 | 0.000 | 0.023 | |
| coverageHeatMap | 1.506 | 0.072 | 1.580 | |
| coveragePerTiling | 0.938 | 0.027 | 0.969 | |
| coverageScorings | 0.012 | 0.001 | 0.012 | |
| create.experiment | 1.072 | 0.051 | 1.127 | |
| defineTrailer | 0.247 | 0.016 | 0.263 | |
| design-experiment-method | 0.548 | 0.024 | 0.574 | |
| detectRibosomeShifts | 0.002 | 0.000 | 0.002 | |
| detect_ribo_orfs | 9.137 | 1.018 | 10.034 | |
| disengagementScore | 0.716 | 0.056 | 0.774 | |
| distToCds | 0.345 | 0.024 | 0.369 | |
| distToTSS | 0.320 | 0.032 | 0.352 | |
| download.SRA | 0 | 0 | 0 | |
| download.SRA.metadata | 0.310 | 0.032 | 5.530 | |
| entropy | 2.195 | 0.164 | 2.366 | |
| experiment-class | 0.635 | 0.024 | 0.660 | |
| export.bed12 | 0.035 | 0.004 | 0.039 | |
| export.bigWig | 0.055 | 0.004 | 0.059 | |
| export.fstwig | 0.098 | 0.000 | 0.098 | |
| export.ofst-GAlignmentPairs-method | 0.094 | 0.004 | 0.099 | |
| export.ofst-GAlignments-method | 0.078 | 0.008 | 0.086 | |
| export.ofst-GRanges-method | 0.084 | 0.000 | 0.084 | |
| export.ofst | 0.079 | 0.004 | 0.083 | |
| export.wiggle | 0.046 | 0.000 | 0.047 | |
| extendLeaders | 1.449 | 0.139 | 1.596 | |
| extendLeadersUntil | 2.378 | 0.120 | 2.502 | |
| extendTrailers | 0.911 | 0.072 | 0.984 | |
| extendTrailersUntil | 2.262 | 0.048 | 2.314 | |
| extract_run_id | 0.001 | 0.000 | 0.001 | |
| file_ext_without_compression | 0.000 | 0.000 | 0.001 | |
| filepath | 0.583 | 0.063 | 0.648 | |
| filterTranscripts | 1.829 | 0.087 | 1.921 | |
| fimport | 0.414 | 0.004 | 0.418 | |
| findFa | 0.004 | 0.000 | 0.004 | |
| findMapORFs | 0.696 | 0.000 | 0.697 | |
| findORFs | 0.219 | 0.004 | 0.224 | |
| findORFsFasta | 0.096 | 0.000 | 0.099 | |
| findPeaksPerGene | 1.513 | 0.016 | 1.532 | |
| findUORFs | 0.000 | 0.001 | 0.001 | |
| findUORFs_exp | 6.958 | 0.168 | 7.140 | |
| find_url_ebi | 0.108 | 0.004 | 2.823 | |
| firstEndPerGroup | 0.077 | 0.004 | 0.081 | |
| firstExonPerGroup | 0.098 | 0.000 | 0.098 | |
| firstStartPerGroup | 0.086 | 0.004 | 0.090 | |
| fix_malformed_gff | 0 | 0 | 0 | |
| flankPerGroup | 0.181 | 0.004 | 0.186 | |
| floss | 0.387 | 0.000 | 0.389 | |
| fpkm | 0.153 | 0.000 | 0.154 | |
| fractionLength | 0.095 | 0.004 | 0.100 | |
| fread.bed | 0.038 | 0.008 | 0.049 | |
| gcContent | 0.531 | 0.008 | 0.541 | |
| geneToSymbol | 0 | 0 | 0 | |
| getGenomeAndAnnotation | 0 | 0 | 0 | |
| get_bioproject_candidates | 0 | 0 | 0 | |
| get_genome_fasta | 0.001 | 0.000 | 0.000 | |
| get_genome_gtf | 0 | 0 | 0 | |
| get_noncoding_rna | 0 | 0 | 0 | |
| get_phix_genome | 0.001 | 0.000 | 0.001 | |
| get_silva_rRNA | 0 | 0 | 0 | |
| groupGRangesBy | 0.072 | 0.000 | 0.072 | |
| groupings | 0.05 | 0.00 | 0.05 | |
| heatMapRegion | 0.537 | 0.000 | 0.538 | |
| import.ofst | 0.089 | 0.000 | 0.089 | |
| initiationScore | 1.433 | 0.004 | 1.440 | |
| insideOutsideORF | 1.197 | 0.004 | 1.205 | |
| install.fastp | 0 | 0 | 0 | |
| install.sratoolkit | 0 | 0 | 0 | |
| isInFrame | 0.339 | 0.000 | 0.339 | |
| isOverlapping | 0.376 | 0.004 | 0.381 | |
| kozakHeatmap | 0 | 0 | 0 | |
| kozakSequenceScore | 0.760 | 0.020 | 0.782 | |
| lastExonEndPerGroup | 0.070 | 0.012 | 0.082 | |
| lastExonPerGroup | 0.088 | 0.000 | 0.089 | |
| lastExonStartPerGroup | 0.079 | 0.000 | 0.079 | |
| libraryTypes | 0.526 | 0.020 | 0.546 | |
| list.experiments | 0.324 | 0.020 | 0.345 | |
| list.genomes | 0.001 | 0.000 | 0.001 | |
| loadRegion | 2.104 | 0.087 | 2.196 | |
| loadRegions | 0.981 | 0.010 | 0.994 | |
| loadTranscriptType | 0 | 0 | 0 | |
| loadTxdb | 0.169 | 0.000 | 0.169 | |
| longestORFs | 0.182 | 0.000 | 0.182 | |
| makeORFNames | 0.109 | 0.004 | 0.114 | |
| makeSummarizedExperimentFromBam | 0.562 | 0.008 | 0.572 | |
| makeTxdbFromGenome | 21.681 | 0.631 | 22.348 | |
| mergeFastq | 0 | 0 | 0 | |
| mergeLibs | 0.536 | 0.016 | 0.554 | |
| metaWindow | 0.274 | 0.020 | 0.295 | |
| model.matrix-experiment-method | 0.565 | 0.044 | 0.610 | |
| numExonsPerGroup | 0.058 | 0.000 | 0.058 | |
| optimizedTranscriptLengths | 1.851 | 0.140 | 1.995 | |
| orfFrameDistributions | 1.042 | 0.265 | 1.616 | |
| orfScore | 1.281 | 0.386 | 1.208 | |
| organism-experiment-method | 1.221 | 0.228 | 1.452 | |
| outputLibs | 1.108 | 0.888 | 1.422 | |
| pSitePlot | 0.438 | 0.123 | 0.563 | |
| pcaExperiment | 3.538 | 1.061 | 4.613 | |
| pmapFromTranscriptF | 0.123 | 0.001 | 0.123 | |
| pmapToTranscriptF | 1.089 | 0.035 | 1.129 | |
| rankOrder | 0.095 | 0.004 | 0.099 | |
| read.experiment | 0.486 | 0.032 | 0.519 | |
| readBam | 0.188 | 0.008 | 0.196 | |
| readWidths | 0.017 | 0.012 | 0.029 | |
| reassignTSSbyCage | 1.049 | 0.072 | 1.124 | |
| reassignTxDbByCage | 0 | 0 | 0 | |
| reduceKeepAttr | 0.166 | 0.012 | 0.179 | |
| regionPerReadLength | 0.416 | 0.238 | 0.884 | |
| remove.experiments | 0.682 | 0.315 | 0.624 | |
| riboORFs | 0.560 | 0.060 | 0.621 | |
| riboORFsFolder | 0.540 | 0.060 | 0.602 | |
| ribo_fft | 3.889 | 0.423 | 4.324 | |
| ribo_fft_plot | 3.702 | 0.239 | 3.952 | |
| ribosomeReleaseScore | 0.293 | 0.012 | 0.306 | |
| ribosomeStallingScore | 0.398 | 0.024 | 0.423 | |
| save.experiment | 0.523 | 0.024 | 0.549 | |
| scaledWindowPositions | 0.742 | 0.060 | 0.804 | |
| seqnamesPerGroup | 0.084 | 0.000 | 0.084 | |
| shiftFootprints | 0.002 | 0.000 | 0.003 | |
| shiftFootprintsByExperiment | 1.369 | 0.132 | 6.475 | |
| shiftPlots | 0.076 | 0.012 | 0.088 | |
| shifts_load | 4.575 | 1.142 | 0.630 | |
| shifts_save | 0.066 | 0.012 | 0.078 | |
| simpleLibs | 0.597 | 0.043 | 0.642 | |
| sortPerGroup | 0.387 | 0.032 | 0.419 | |
| startCodons | 1.065 | 0.104 | 1.171 | |
| startDefinition | 0.001 | 0.000 | 0.000 | |
| startRegion | 0.778 | 0.100 | 0.879 | |
| startRegionCoverage | 0.547 | 0.076 | 0.625 | |
| startSites | 0.397 | 0.028 | 0.425 | |
| stopCodons | 0.688 | 0.016 | 0.706 | |
| stopDefinition | 0 | 0 | 0 | |
| stopRegion | 1.134 | 0.067 | 1.204 | |
| stopSites | 0.424 | 0.008 | 0.433 | |
| strandBool | 0.013 | 0.000 | 0.013 | |
| strandPerGroup | 0.088 | 0.000 | 0.089 | |
| subsetToFrame | 0.023 | 0.000 | 0.023 | |
| te.plot | 0 | 0 | 0 | |
| te.table | 0.567 | 0.015 | 0.585 | |
| te_rna.plot | 0.563 | 0.020 | 0.586 | |
| tile1 | 0.294 | 0.004 | 0.299 | |
| topMotif | 0 | 0 | 0 | |
| transcriptWindow | 1.432 | 0.048 | 1.483 | |
| translationalEff | 0.523 | 0.060 | 0.584 | |
| trimming.table | 0.027 | 0.000 | 0.027 | |
| txNames | 0.063 | 0.000 | 0.064 | |
| txNamesToGeneNames | 1.346 | 0.088 | 1.437 | |
| uORFSearchSpace | 0.894 | 0.024 | 0.921 | |
| uniqueGroups | 0.188 | 0.008 | 0.196 | |
| uniqueOrder | 0.298 | 0.020 | 0.318 | |
| unlistGrl | 0.059 | 0.004 | 0.063 | |
| widthPerGroup | 0.068 | 0.000 | 0.067 | |
| windowCoveragePlot | 1.208 | 0.071 | 1.282 | |
| windowPerGroup | 1.294 | 0.056 | 1.353 | |
| windowPerReadLength | 1.208 | 0.016 | 1.228 | |