| Back to Multiple platform build/check report for BioC 3.20: simplified long | 
  | 
This page was generated on 2024-06-11 15:40 -0400 (Tue, 11 Jun 2024).
| Hostname | OS | Arch (*) | R version | Installed pkgs | 
|---|---|---|---|---|
| nebbiolo2 | Linux (Ubuntu 22.04.3 LTS) | x86_64 | 4.4.0 RC (2024-04-16 r86468) -- "Puppy Cup" | 4679 | 
| palomino4 | Windows Server 2022 Datacenter | x64 | 4.4.0 RC (2024-04-16 r86468 ucrt) -- "Puppy Cup" | 4414 | 
| merida1 | macOS 12.7.4 Monterey | x86_64 | 4.4.0 Patched (2024-04-24 r86482) -- "Puppy Cup" | 4441 | 
| kjohnson1 | macOS 13.6.6 Ventura | arm64 | 4.4.0 Patched (2024-04-24 r86482) -- "Puppy Cup" | 4394 | 
| Click on any hostname to see more info about the system (e.g. compilers) (*) as reported by 'uname -p', except on Windows and Mac OS X | ||||
| Package 1398/2239 | Hostname | OS / Arch | INSTALL | BUILD | CHECK | BUILD BIN | ||||||||
| NormqPCR 1.51.0  (landing page) James Perkins 
  | nebbiolo2 | Linux (Ubuntu 22.04.3 LTS) / x86_64 | OK | OK | OK | |||||||||
| palomino4 | Windows Server 2022 Datacenter / x64 | OK | OK | OK | OK | |||||||||
| merida1 | macOS 12.7.4 Monterey / x86_64 | OK | OK | OK | OK | |||||||||
| kjohnson1 | macOS 13.6.6 Ventura / arm64 | OK | OK | OK | OK | |||||||||
| 
To the developers/maintainers of the NormqPCR package: - Allow up to 24 hours (and sometimes 48 hours) for your latest push to git@git.bioconductor.org:packages/NormqPCR.git to reflect on this report. See Troubleshooting Build Report for more information. - Use the following Renviron settings to reproduce errors and warnings. - If 'R CMD check' started to fail recently on the Linux builder(s) over a missing dependency, add the missing dependency to 'Suggests:' in your DESCRIPTION file. See Renviron.bioc for more information.  | 
| Package: NormqPCR | 
| Version: 1.51.0 | 
| Command: chmod a+r NormqPCR -R && F:\biocbuild\bbs-3.20-bioc\R\bin\R.exe CMD build --keep-empty-dirs --no-resave-data NormqPCR | 
| StartedAt: 2024-06-09 20:48:39 -0400 (Sun, 09 Jun 2024) | 
| EndedAt: 2024-06-09 20:49:26 -0400 (Sun, 09 Jun 2024) | 
| EllapsedTime: 46.8 seconds | 
| RetCode: 0 | 
| Status: OK | 
| PackageFile: NormqPCR_1.51.0.tar.gz | 
| PackageFileSize: 292.3 KiB | 
##############################################################################
##############################################################################
###
### Running command:
###
###   chmod a+r NormqPCR -R && F:\biocbuild\bbs-3.20-bioc\R\bin\R.exe CMD build --keep-empty-dirs --no-resave-data NormqPCR
###
##############################################################################
##############################################################################
* checking for file 'NormqPCR/DESCRIPTION' ... OK
* preparing 'NormqPCR':
* checking DESCRIPTION meta-information ... OK
* installing the package to build vignettes
* creating vignettes ... OK
Warning: 'inst/doc' file
    'NormqPCR.pdf'
  ignored as vignettes have been rebuilt.
  Run R CMD build with --no-build-vignettes to prevent rebuilding.
* checking for LF line-endings in source and make files and shell scripts
* checking for empty or unneeded directories
* building 'NormqPCR_1.51.0.tar.gz'