| Back to Multiple platform build/check report for BioC 3.20: simplified long |
|
This page was generated on 2025-04-02 19:29 -0400 (Wed, 02 Apr 2025).
| Hostname | OS | Arch (*) | R version | Installed pkgs |
|---|---|---|---|---|
| nebbiolo2 | Linux (Ubuntu 24.04.1 LTS) | x86_64 | 4.4.3 (2025-02-28) -- "Trophy Case" | 4764 |
| palomino8 | Windows Server 2022 Datacenter | x64 | 4.4.3 (2025-02-28 ucrt) -- "Trophy Case" | 4495 |
| merida1 | macOS 12.7.5 Monterey | x86_64 | 4.4.3 (2025-02-28) -- "Trophy Case" | 4522 |
| kjohnson1 | macOS 13.6.6 Ventura | arm64 | 4.4.3 (2025-02-28) -- "Trophy Case" | 4449 |
| taishan | Linux (openEuler 24.03 LTS) | aarch64 | 4.4.3 (2025-02-28) -- "Trophy Case" | 4426 |
| Click on any hostname to see more info about the system (e.g. compilers) (*) as reported by 'uname -p', except on Windows and Mac OS X | ||||
| Package 1349/2289 | Hostname | OS / Arch | INSTALL | BUILD | CHECK | BUILD BIN | ||||||||
| MsQuality 1.6.2 (landing page) Thomas Naake
| nebbiolo2 | Linux (Ubuntu 24.04.1 LTS) / x86_64 | OK | OK | OK | |||||||||
| palomino8 | Windows Server 2022 Datacenter / x64 | OK | OK | OK | OK | |||||||||
| merida1 | macOS 12.7.5 Monterey / x86_64 | OK | OK | OK | OK | |||||||||
| kjohnson1 | macOS 13.6.6 Ventura / arm64 | OK | OK | OK | OK | |||||||||
| taishan | Linux (openEuler 24.03 LTS) / aarch64 | OK | OK | OK | ||||||||||
|
To the developers/maintainers of the MsQuality package: - Allow up to 24 hours (and sometimes 48 hours) for your latest push to git@git.bioconductor.org:packages/MsQuality.git to reflect on this report. See Troubleshooting Build Report for more information. - Use the following Renviron settings to reproduce errors and warnings. - If 'R CMD check' started to fail recently on the Linux builder(s) over a missing dependency, add the missing dependency to 'Suggests:' in your DESCRIPTION file. See Renviron.bioc for more information. |
| Package: MsQuality |
| Version: 1.6.2 |
| Command: /home/biocbuild/bbs-3.20-bioc/R/bin/R CMD check --install=check:MsQuality.install-out.txt --library=/home/biocbuild/bbs-3.20-bioc/R/site-library --timings MsQuality_1.6.2.tar.gz |
| StartedAt: 2025-04-01 00:15:06 -0400 (Tue, 01 Apr 2025) |
| EndedAt: 2025-04-01 00:21:11 -0400 (Tue, 01 Apr 2025) |
| EllapsedTime: 365.3 seconds |
| RetCode: 0 |
| Status: OK |
| CheckDir: MsQuality.Rcheck |
| Warnings: 0 |
##############################################################################
##############################################################################
###
### Running command:
###
### /home/biocbuild/bbs-3.20-bioc/R/bin/R CMD check --install=check:MsQuality.install-out.txt --library=/home/biocbuild/bbs-3.20-bioc/R/site-library --timings MsQuality_1.6.2.tar.gz
###
##############################################################################
##############################################################################
* using log directory ‘/home/biocbuild/bbs-3.20-bioc/meat/MsQuality.Rcheck’
* using R version 4.4.3 (2025-02-28)
* using platform: x86_64-pc-linux-gnu
* R was compiled by
gcc (Ubuntu 13.3.0-6ubuntu2~24.04) 13.3.0
GNU Fortran (Ubuntu 13.3.0-6ubuntu2~24.04) 13.3.0
* running under: Ubuntu 24.04.2 LTS
* using session charset: UTF-8
* checking for file ‘MsQuality/DESCRIPTION’ ... OK
* checking extension type ... Package
* this is package ‘MsQuality’ version ‘1.6.2’
* package encoding: UTF-8
* checking package namespace information ... OK
* checking package dependencies ... OK
* checking if this is a source package ... OK
* checking if there is a namespace ... OK
* checking for hidden files and directories ... OK
* checking for portable file names ... OK
* checking for sufficient/correct file permissions ... OK
* checking whether package ‘MsQuality’ can be installed ... OK
* checking installed package size ... OK
* checking package directory ... OK
* checking ‘build’ directory ... OK
* checking DESCRIPTION meta-information ... OK
* checking top-level files ... OK
* checking for left-over files ... OK
* checking index information ... OK
* checking package subdirectories ... OK
* checking code files for non-ASCII characters ... OK
* checking R files for syntax errors ... OK
* checking whether the package can be loaded ... OK
* checking whether the package can be loaded with stated dependencies ... OK
* checking whether the package can be unloaded cleanly ... OK
* checking whether the namespace can be loaded with stated dependencies ... OK
* checking whether the namespace can be unloaded cleanly ... OK
* checking loading without being on the library search path ... OK
* checking dependencies in R code ... OK
* checking S3 generic/method consistency ... OK
* checking replacement functions ... OK
* checking foreign function calls ... OK
* checking R code for possible problems ... OK
* checking Rd files ... OK
* checking Rd metadata ... OK
* checking Rd cross-references ... OK
* checking for missing documentation entries ... OK
* checking for code/documentation mismatches ... OK
* checking Rd \usage sections ... OK
* checking Rd contents ... OK
* checking for unstated dependencies in examples ... OK
* checking contents of ‘data’ directory ... OK
* checking data for non-ASCII characters ... OK
* checking data for ASCII and uncompressed saves ... OK
* checking files in ‘vignettes’ ... OK
* checking examples ... OK
Examples with CPU (user + system) or elapsed time > 5s
user system elapsed
calculateMetrics 6.083 1.591 7.359
calculateMetricsFromMsExperiment 4.966 1.445 2.910
* checking for unstated dependencies in ‘tests’ ... OK
* checking tests ...
Running ‘testthat.R’
OK
* checking for unstated dependencies in vignettes ... OK
* checking package vignettes ... OK
* checking re-building of vignette outputs ... OK
* checking PDF version of manual ... OK
* DONE
Status: OK
MsQuality.Rcheck/00install.out
############################################################################## ############################################################################## ### ### Running command: ### ### /home/biocbuild/bbs-3.20-bioc/R/bin/R CMD INSTALL MsQuality ### ############################################################################## ############################################################################## * installing to library ‘/home/biocbuild/bbs-3.20-bioc/R/site-library’ * installing *source* package ‘MsQuality’ ... ** using staged installation ** R ** data ** inst ** byte-compile and prepare package for lazy loading ** help *** installing help indices ** building package indices ** installing vignettes ** testing if installed package can be loaded from temporary location ** testing if installed package can be loaded from final location ** testing if installed package keeps a record of temporary installation path * DONE (MsQuality)
MsQuality.Rcheck/tests/testthat.Rout
R version 4.4.3 (2025-02-28) -- "Trophy Case"
Copyright (C) 2025 The R Foundation for Statistical Computing
Platform: x86_64-pc-linux-gnu
R is free software and comes with ABSOLUTELY NO WARRANTY.
You are welcome to redistribute it under certain conditions.
Type 'license()' or 'licence()' for distribution details.
R is a collaborative project with many contributors.
Type 'contributors()' for more information and
'citation()' on how to cite R or R packages in publications.
Type 'demo()' for some demos, 'help()' for on-line help, or
'help.start()' for an HTML browser interface to help.
Type 'q()' to quit R.
> library("testthat")
> library("MsQuality")
> library("Spectra")
Loading required package: S4Vectors
Loading required package: stats4
Loading required package: BiocGenerics
Attaching package: 'BiocGenerics'
The following objects are masked from 'package:stats':
IQR, mad, sd, var, xtabs
The following objects are masked from 'package:base':
Filter, Find, Map, Position, Reduce, anyDuplicated, aperm, append,
as.data.frame, basename, cbind, colnames, dirname, do.call,
duplicated, eval, evalq, get, grep, grepl, intersect, is.unsorted,
lapply, mapply, match, mget, order, paste, pmax, pmax.int, pmin,
pmin.int, rank, rbind, rownames, sapply, saveRDS, setdiff, table,
tapply, union, unique, unsplit, which.max, which.min
Attaching package: 'S4Vectors'
The following object is masked from 'package:utils':
findMatches
The following objects are masked from 'package:base':
I, expand.grid, unname
Loading required package: BiocParallel
> library("MsExperiment")
Loading required package: ProtGenerics
Attaching package: 'ProtGenerics'
The following object is masked from 'package:stats':
smooth
> library("msdata")
> library("S4Vectors")
>
> test_check("MsQuality")
trying URL 'https://api.github.com/repos/HUPO-PSI/psi-ms-CV/releases/latest'
Content type 'application/json; charset=utf-8' length 7349 bytes
==================================================
downloaded 7349 bytes
trying URL 'https://github.com/HUPO-PSI/psi-ms-CV/releases/download/v4.1.192/psi-ms.obo'
Content type 'application/octet-stream' length 1009882 bytes (986 KB)
==================================================
downloaded 986 KB
[ FAIL 0 | WARN 0 | SKIP 0 | PASS 866 ]
>
> proc.time()
user system elapsed
103.140 25.768 85.934
MsQuality.Rcheck/MsQuality-Ex.timings
| name | user | system | elapsed | |
| MsQuality-package | 0 | 0 | 0 | |
| areaUnderTic | 0.131 | 0.019 | 0.150 | |
| areaUnderTicRtQuantiles | 0.221 | 0.009 | 0.230 | |
| calculateMetrics | 6.083 | 1.591 | 7.359 | |
| calculateMetricsFromMsExperiment | 4.966 | 1.445 | 2.910 | |
| calculateMetricsFromOneSampleSpectra | 2.753 | 0.478 | 2.080 | |
| calculateMetricsFromSpectra | 2.921 | 0.925 | 2.564 | |
| chromatographyDuration | 0.976 | 0.225 | 0.099 | |
| dot-rtOrderSpectra | 0.092 | 0.051 | 0.143 | |
| extentIdentifiedPrecursorIntensity | 0.079 | 0.032 | 0.111 | |
| meanCharge | 0.077 | 0.016 | 0.093 | |
| medianCharge | 0.086 | 0.010 | 0.096 | |
| medianPrecursorMz | 0.089 | 0.008 | 0.097 | |
| medianTicOfRtRange | 0.086 | 0.019 | 0.105 | |
| medianTicRtIqr | 0.082 | 0.042 | 0.124 | |
| msSignal10xChange | 0.086 | 0.027 | 0.112 | |
| mzAcquisitionRange | 0.087 | 0.006 | 0.093 | |
| numberEmptyScans | 0.084 | 0.018 | 0.102 | |
| numberSpectra | 0.094 | 0.110 | 0.204 | |
| plotMetric | 2.356 | 0.828 | 2.122 | |
| plotMetricTibble | 2.281 | 0.743 | 1.724 | |
| precursorIntensityMean | 0.093 | 0.004 | 0.097 | |
| precursorIntensityQuartiles | 0.091 | 0.006 | 0.098 | |
| precursorIntensityRange | 0.074 | 0.002 | 0.076 | |
| precursorIntensitySd | 0.080 | 0.004 | 0.084 | |
| qualityMetrics | 0.067 | 0.004 | 0.071 | |
| ratioCharge1over2 | 0.065 | 0.016 | 0.081 | |
| ratioCharge3over2 | 0.072 | 0.017 | 0.088 | |
| ratioCharge4over2 | 0.072 | 0.013 | 0.085 | |
| rtAcquisitionRange | 0.077 | 0.008 | 0.085 | |
| rtIqr | 0.077 | 0.013 | 0.090 | |
| rtIqrRate | 0.081 | 0.009 | 0.090 | |
| rtOverMsQuarters | 0.069 | 0.008 | 0.077 | |
| shinyMsQuality | 1.149 | 0.459 | 1.511 | |
| ticQuantileRtFraction | 0.999 | 0.271 | 0.136 | |
| ticQuartileToQuartileLogRatio | 0.118 | 0.019 | 0.137 | |
| transformIntoMzQC | 0.264 | 0.198 | 0.315 | |